BEGIN:VCALENDAR
VERSION:2.0
PRODID:-//St. Paul&#039;s Cramlington - ECPv6.15.11//NONSGML v1.0//EN
CALSCALE:GREGORIAN
METHOD:PUBLISH
X-WR-CALNAME:St. Paul&#039;s Cramlington
X-ORIGINAL-URL:https://stpauls-rc.co.uk
X-WR-CALDESC:Events for St. Paul&#039;s Cramlington
REFRESH-INTERVAL;VALUE=DURATION:PT1H
X-Robots-Tag:noindex
X-PUBLISHED-TTL:PT1H
BEGIN:VTIMEZONE
TZID:UTC
BEGIN:STANDARD
TZOFFSETFROM:+0000
TZOFFSETTO:+0000
TZNAME:UTC
DTSTART:20210101T000000
END:STANDARD
END:VTIMEZONE
BEGIN:VEVENT
DTSTART;VALUE=DATE:20220806
DTEND;VALUE=DATE:20220807
DTSTAMP:20260426T035222
CREATED:20220730T170927Z
LAST-MODIFIED:20220730T171023Z
UID:3145-1659744000-1659830399@stpauls-rc.co.uk
SUMMARY:Feast of Transfiguration of the Lord
DESCRIPTION:READ:  Transfiguration of the Lord
URL:https://stpauls-rc.co.uk/event/feast-of-transfiguration-of-the-lord/
END:VEVENT
BEGIN:VEVENT
DTSTART;TZID=UTC:20220806T180000
DTEND;TZID=UTC:20220806T190000
DTSTAMP:20260426T035222
CREATED:20220806T101822Z
LAST-MODIFIED:20220806T101822Z
UID:3175-1659808800-1659812400@stpauls-rc.co.uk
SUMMARY:Mass Intention
DESCRIPTION:Tonight’s Mass will be celebrated for the Intention of Ian Coates.
URL:https://stpauls-rc.co.uk/event/mass-intention-12/
LOCATION:St. Paul’s RC Church\, Cramlington\, Dewley\, Cramlington\, NE23 6EF\, United Kingdom
END:VEVENT
END:VCALENDAR