BEGIN:VCALENDAR
VERSION:2.0
PRODID:-//St. Paul&#039;s Cramlington - ECPv6.15.11//NONSGML v1.0//EN
CALSCALE:GREGORIAN
METHOD:PUBLISH
X-ORIGINAL-URL:https://stpauls-rc.co.uk
X-WR-CALDESC:Events for St. Paul&#039;s Cramlington
REFRESH-INTERVAL;VALUE=DURATION:PT1H
X-Robots-Tag:noindex
X-PUBLISHED-TTL:PT1H
BEGIN:VTIMEZONE
TZID:UTC
BEGIN:STANDARD
TZOFFSETFROM:+0000
TZOFFSETTO:+0000
TZNAME:UTC
DTSTART:20210101T000000
END:STANDARD
END:VTIMEZONE
BEGIN:VEVENT
DTSTART;VALUE=DATE:20220809
DTEND;VALUE=DATE:20220810
DTSTAMP:20260426T035242
CREATED:20220730T171322Z
LAST-MODIFIED:20220730T171701Z
UID:3149-1660003200-1660089599@stpauls-rc.co.uk
SUMMARY:Feast of St. Teresa of the Cross
DESCRIPTION:READ: St. Teresa of the Cross
URL:https://stpauls-rc.co.uk/event/feast-of-st-teresa-of-the-cross/
END:VEVENT
BEGIN:VEVENT
DTSTART;TZID=UTC:20220809T100000
DTEND;TZID=UTC:20220809T103000
DTSTAMP:20260426T035242
CREATED:20220807T104836Z
LAST-MODIFIED:20220807T104846Z
UID:3187-1660039200-1660041000@stpauls-rc.co.uk
SUMMARY:NO MASS
DESCRIPTION:There will be no Mass today\, Tuesday 9th August as Fr. Manoj is away.
URL:https://stpauls-rc.co.uk/event/no-mass-8/
LOCATION:St. Paul’s RC Church\, Cramlington\, Dewley\, Cramlington\, NE23 6EF\, United Kingdom
END:VEVENT
END:VCALENDAR