BEGIN:VCALENDAR
VERSION:2.0
PRODID:-//St. Paul&#039;s Cramlington - ECPv6.15.11//NONSGML v1.0//EN
CALSCALE:GREGORIAN
METHOD:PUBLISH
X-ORIGINAL-URL:https://stpauls-rc.co.uk
X-WR-CALDESC:Events for St. Paul&#039;s Cramlington
REFRESH-INTERVAL;VALUE=DURATION:PT1H
X-Robots-Tag:noindex
X-PUBLISHED-TTL:PT1H
BEGIN:VTIMEZONE
TZID:UTC
BEGIN:STANDARD
TZOFFSETFROM:+0000
TZOFFSETTO:+0000
TZNAME:UTC
DTSTART:20210101T000000
END:STANDARD
END:VTIMEZONE
BEGIN:VEVENT
DTSTART;TZID=UTC:20220903T180000
DTEND;TZID=UTC:20220903T190000
DTSTAMP:20260426T021508
CREATED:20220825T212559Z
LAST-MODIFIED:20220825T212608Z
UID:3279-1662228000-1662231600@stpauls-rc.co.uk
SUMMARY:MASS INTENTION
DESCRIPTION:David Thompson RIP & deceased members of the White and Welsh families (KW)
URL:https://stpauls-rc.co.uk/event/mass-intention-16/
LOCATION:St. Paul’s RC Church\, Cramlington\, Dewley\, Cramlington\, NE23 6EF\, United Kingdom
END:VEVENT
BEGIN:VEVENT
DTSTART;TZID=UTC:20220903T180000
DTEND;TZID=UTC:20220903T190000
DTSTAMP:20260426T021508
CREATED:20220904T065459Z
LAST-MODIFIED:20220904T065459Z
UID:3368-1662228000-1662231600@stpauls-rc.co.uk
SUMMARY:Mass Intention
DESCRIPTION:Mass will be celebrated for David Thompson White RIP & deceased members of the White and Welsh families.
URL:https://stpauls-rc.co.uk/event/mass-intention-17/
LOCATION:St. Paul’s RC Church\, Cramlington\, Dewley\, Cramlington\, NE23 6EF\, United Kingdom
END:VEVENT
END:VCALENDAR