BEGIN:VCALENDAR
VERSION:2.0
PRODID:-//St. Paul&#039;s Cramlington - ECPv6.15.11//NONSGML v1.0//EN
CALSCALE:GREGORIAN
METHOD:PUBLISH
X-ORIGINAL-URL:https://stpauls-rc.co.uk
X-WR-CALDESC:Events for St. Paul&#039;s Cramlington
REFRESH-INTERVAL;VALUE=DURATION:PT1H
X-Robots-Tag:noindex
X-PUBLISHED-TTL:PT1H
BEGIN:VTIMEZONE
TZID:UTC
BEGIN:STANDARD
TZOFFSETFROM:+0000
TZOFFSETTO:+0000
TZNAME:UTC
DTSTART:20210101T000000
END:STANDARD
END:VTIMEZONE
BEGIN:VEVENT
DTSTART;TZID=UTC:20221010T100000
DTEND;TZID=UTC:20221010T103000
DTSTAMP:20260426T003836
CREATED:20220903T192250Z
LAST-MODIFIED:20220903T192250Z
UID:3336-1665396000-1665397800@stpauls-rc.co.uk
SUMMARY:NO MASS
DESCRIPTION:There will be NO MASS on MONDAY 12th\, MONDAY 19th\, MONDAY 26th SEPTEMBER 2022 or on MONDAY 3rd OCTOBER 2022 at St. Paul’s. \nThere will be NO MASS after the SUNDAY VIGIL on SATURDAY 8th OCTOBER until FRIDAY 14th OCTOBER at St. Paul’s. A Eucharistic Service will be held on SUNDAY 9th OCTOBER in lieu of Mass. \nThere will be NO MASS on WEDNESDAY 14th SEPTEMBER\, SUNDAY 9th  or WEDNESDAY 12th OCTOBER 2022 at New Hartley. \nThere will be NO MASS on  SUNDAY 9th OCTOBER 2022 at St. John the Baptist\, Annistford. A Eucharistic Service will be held in lieu of Mass.
URL:https://stpauls-rc.co.uk/event/no-mass-16/
LOCATION:St. Paul’s RC Church\, Cramlington\, Dewley\, Cramlington\, NE23 6EF\, United Kingdom
END:VEVENT
END:VCALENDAR