BEGIN:VCALENDAR
VERSION:2.0
PRODID:-//St. Paul&#039;s Cramlington - ECPv6.15.11//NONSGML v1.0//EN
CALSCALE:GREGORIAN
METHOD:PUBLISH
X-WR-CALNAME:St. Paul&#039;s Cramlington
X-ORIGINAL-URL:https://stpauls-rc.co.uk
X-WR-CALDESC:Events for St. Paul&#039;s Cramlington
REFRESH-INTERVAL;VALUE=DURATION:PT1H
X-Robots-Tag:noindex
X-PUBLISHED-TTL:PT1H
BEGIN:VTIMEZONE
TZID:UTC
BEGIN:STANDARD
TZOFFSETFROM:+0000
TZOFFSETTO:+0000
TZNAME:UTC
DTSTART:20210101T000000
END:STANDARD
END:VTIMEZONE
BEGIN:VEVENT
DTSTART;TZID=UTC:20221015T180000
DTEND;TZID=UTC:20221119T180000
DTSTAMP:20260426T003841
CREATED:20221021T111901Z
LAST-MODIFIED:20221028T133621Z
UID:3565-1665856800-1668880800@stpauls-rc.co.uk
SUMMARY:Christmas Raffle - Ticket Sales
DESCRIPTION:Your help is needed to sell draw tickets which are now available and to contribute prizes. The draw will take place on the 19th November and your usual help and contributions are gratefully received.
URL:https://stpauls-rc.co.uk/event/christmas-raffle/
LOCATION:St. Paul’s RC Church\, Cramlington\, Dewley\, Cramlington\, NE23 6EF\, United Kingdom
END:VEVENT
BEGIN:VEVENT
DTSTART;TZID=UTC:20221022T080000
DTEND;TZID=UTC:20221106T120000
DTSTAMP:20260426T003841
CREATED:20221021T110231Z
LAST-MODIFIED:20221021T110231Z
UID:3549-1666425600-1667736000@stpauls-rc.co.uk
SUMMARY:PPC Election: Nominations 2022
DESCRIPTION:Nomination papers are available at the back of church to be filled in and placed in the Box. There is a need to elect 8 people to the PPC any anyone aged 18 or over and of good standing in the parish can be nominated. Successful nominees will serve for a term of 2 years with the option to serve a further 2 years if successful in the following election process. Please ensure the person you are nominating has agreed to stand and that your nomination is submitted by weekending 6th November. Elections to the PPC will now take place on 13th November.
URL:https://stpauls-rc.co.uk/event/ppc-election-nominations-2022/
END:VEVENT
BEGIN:VEVENT
DTSTART;TZID=UTC:20221029T180000
DTEND;TZID=UTC:20221029T190000
DTSTAMP:20260426T003841
CREATED:20221021T111335Z
LAST-MODIFIED:20221021T111335Z
UID:3559-1667066400-1667070000@stpauls-rc.co.uk
SUMMARY:Clergy Training Fund
DESCRIPTION:A second collection will take place at Masses this weekend .
URL:https://stpauls-rc.co.uk/event/clergy-training-fund/
LOCATION:St. Paul’s RC Church\, Cramlington\, Dewley\, Cramlington\, NE23 6EF\, United Kingdom
END:VEVENT
BEGIN:VEVENT
DTSTART;TZID=UTC:20221029T180000
DTEND;TZID=UTC:20221029T190000
DTSTAMP:20260426T003841
CREATED:20221028T131127Z
LAST-MODIFIED:20221028T131127Z
UID:3674-1667066400-1667070000@stpauls-rc.co.uk
SUMMARY:Mass Intentions
DESCRIPTION:Mass  will be celebrated today for the Repose of the Souls of Joan Mennell and Brenda Whiteside
URL:https://stpauls-rc.co.uk/event/mass-intentions/
LOCATION:St. Paul’s RC Church\, Cramlington\, Dewley\, Cramlington\, NE23 6EF\, United Kingdom
END:VEVENT
END:VCALENDAR