BEGIN:VCALENDAR
VERSION:2.0
PRODID:-//St. Paul&#039;s Cramlington - ECPv6.15.11//NONSGML v1.0//EN
CALSCALE:GREGORIAN
METHOD:PUBLISH
X-ORIGINAL-URL:https://stpauls-rc.co.uk
X-WR-CALDESC:Events for St. Paul&#039;s Cramlington
REFRESH-INTERVAL;VALUE=DURATION:PT1H
X-Robots-Tag:noindex
X-PUBLISHED-TTL:PT1H
BEGIN:VTIMEZONE
TZID:UTC
BEGIN:STANDARD
TZOFFSETFROM:+0000
TZOFFSETTO:+0000
TZNAME:UTC
DTSTART:20220101T000000
END:STANDARD
END:VTIMEZONE
BEGIN:VEVENT
DTSTART;TZID=UTC:20230218T190000
DTEND;TZID=UTC:20230219T190000
DTSTAMP:20260425T173444
CREATED:20221231T145440Z
LAST-MODIFIED:20221231T145447Z
UID:3990-1676746800-1676833200@stpauls-rc.co.uk
SUMMARY:Tombola Stall
DESCRIPTION:In the Cafe area of church after Mass on weekends of 11th / 12th and 18th / 19th February 2023.
URL:https://stpauls-rc.co.uk/event/tombola-stall-2/
LOCATION:St. Paul’s RC Church\, Cramlington\, Dewley\, Cramlington\, NE23 6EF\, United Kingdom
END:VEVENT
END:VCALENDAR