BEGIN:VCALENDAR
VERSION:2.0
PRODID:-//St. Paul&#039;s Cramlington - ECPv6.15.11//NONSGML v1.0//EN
CALSCALE:GREGORIAN
METHOD:PUBLISH
X-WR-CALNAME:St. Paul&#039;s Cramlington
X-ORIGINAL-URL:https://stpauls-rc.co.uk
X-WR-CALDESC:Events for St. Paul&#039;s Cramlington
REFRESH-INTERVAL;VALUE=DURATION:PT1H
X-Robots-Tag:noindex
X-PUBLISHED-TTL:PT1H
BEGIN:VTIMEZONE
TZID:UTC
BEGIN:STANDARD
TZOFFSETFROM:+0000
TZOFFSETTO:+0000
TZNAME:UTC
DTSTART:20220101T000000
END:STANDARD
END:VTIMEZONE
BEGIN:VEVENT
DTSTART;TZID=UTC:20230225T180000
DTEND;TZID=UTC:20230225T193000
DTSTAMP:20260425T173405
CREATED:20230217T103348Z
LAST-MODIFIED:20230217T103348Z
UID:4216-1677348000-1677353400@stpauls-rc.co.uk
SUMMARY:80th Birthday Celebration
DESCRIPTION:We have three parishioners celebrating their birthdays after Mass on Saturday 25th February; Jane Waterworth\, Catherine Lawson and John Reid. Please stay behind for tea\, coffee\, wine\, cake and buffet to help them celebrate. Thank you.
URL:https://stpauls-rc.co.uk/event/80th-birthday-celebration/
LOCATION:St. Paul’s RC Church\, Cramlington\, Dewley\, Cramlington\, NE23 6EF\, United Kingdom
END:VEVENT
END:VCALENDAR