BEGIN:VCALENDAR
VERSION:2.0
PRODID:-//St. Paul&#039;s Cramlington - ECPv6.15.11//NONSGML v1.0//EN
CALSCALE:GREGORIAN
METHOD:PUBLISH
X-ORIGINAL-URL:https://stpauls-rc.co.uk
X-WR-CALDESC:Events for St. Paul&#039;s Cramlington
REFRESH-INTERVAL;VALUE=DURATION:PT1H
X-Robots-Tag:noindex
X-PUBLISHED-TTL:PT1H
BEGIN:VTIMEZONE
TZID:UTC
BEGIN:STANDARD
TZOFFSETFROM:+0000
TZOFFSETTO:+0000
TZNAME:UTC
DTSTART:20220101T000000
END:STANDARD
END:VTIMEZONE
BEGIN:VEVENT
DTSTART;TZID=UTC:20230304T100000
DTEND;TZID=UTC:20230304T130000
DTSTAMP:20260425T160658
CREATED:20230217T103548Z
LAST-MODIFIED:20230217T103627Z
UID:4219-1677924000-1677934800@stpauls-rc.co.uk
SUMMARY:The Pilgrim Way
DESCRIPTION:A Quiet Morning for Churches Together at the beginning of Lent as we accompany Jesus’ journey to Jerusalem and his Passion. An easy flow of prayer and reflective practices to go within and to connect with each other in this Lenten time. \nVenue: Our Lady and St Joseph RC Church – New Hartley \nDate: Sat. March 4th 10:00am-1:00p.m. (Welcome from 9.30) \nLeaders: Revs Paul Golightly and Liz Jewitt \nBring packed lunch to share together as we end our morning at 1pm.  Email  Paul Golightly thegolight@gmail.com to book a place or ring 0191 2375357.
URL:https://stpauls-rc.co.uk/event/the-pilgrim-way/
END:VEVENT
END:VCALENDAR