BEGIN:VCALENDAR
VERSION:2.0
PRODID:-//St. Paul&#039;s Cramlington - ECPv6.15.11//NONSGML v1.0//EN
CALSCALE:GREGORIAN
METHOD:PUBLISH
X-WR-CALNAME:St. Paul&#039;s Cramlington
X-ORIGINAL-URL:https://stpauls-rc.co.uk
X-WR-CALDESC:Events for St. Paul&#039;s Cramlington
REFRESH-INTERVAL;VALUE=DURATION:PT1H
X-Robots-Tag:noindex
X-PUBLISHED-TTL:PT1H
BEGIN:VTIMEZONE
TZID:UTC
BEGIN:STANDARD
TZOFFSETFROM:+0000
TZOFFSETTO:+0000
TZNAME:UTC
DTSTART:20220101T000000
END:STANDARD
END:VTIMEZONE
BEGIN:VEVENT
DTSTART;TZID=UTC:20230611T100000
DTEND;TZID=UTC:20230611T110000
DTSTAMP:20260425T113829
CREATED:20230609T152611Z
LAST-MODIFIED:20230609T152611Z
UID:4620-1686477600-1686481200@stpauls-rc.co.uk
SUMMARY:First Holy Communion / Confirmation
DESCRIPTION:Children from St. Paul’s will be receiving Jesus in the Sacrament of the Eucharist for the first time at the 10:00am Mass on Saturday 10th June along with candidates receiving the Holy Spirit in the Sacrament of Confirmation. Please come along and join in the celebrations. \nChildren from St. John’s will be receiving Jesus in the Sacrament of the Eucharist for the first time at the 10:00am Mass on Sunday 11th June along with candidates receiving the Holy Spirit in the Sacrament of Confirmation. \nBecause of this there will be NO MASS CELEBRATED AT ST. PAUL’S ON SUNDAY 11th JUNE\, as Fr. Stanly is unavailable and it is not possible for Fr. Manoj to celebrate both Masses at St. John’s and St. Paul’s. Please join us instead at St. John’s 10:00am Mass.
URL:https://stpauls-rc.co.uk/event/first-holy-communion-confirmation-2/
LOCATION:St. John the Baptist RC Church\, Annitsford\, United Kingdom
END:VEVENT
BEGIN:VEVENT
DTSTART;TZID=UTC:20230611T103000
DTEND;TZID=UTC:20230611T120000
DTSTAMP:20260425T113829
CREATED:20230609T152736Z
LAST-MODIFIED:20230609T152736Z
UID:4622-1686479400-1686484800@stpauls-rc.co.uk
SUMMARY:NO CELEBRATION OF MASS
DESCRIPTION:Children from St. John’s will be receiving Jesus in the Sacrament of the Eucharist for the first time at the 10:00am Mass on Sunday 11th June along with candidates receiving the Holy Spirit in the Sacrament of Confirmation. \nBecause of this there will be NO MASS CELEBRATED AT ST. PAUL’S ON SUNDAY 11th JUNE\, as Fr. Stanly is unavailable and it is not possible for Fr. Manoj to celebrate both Masses at St. John’s and St. Paul’s. Please join us instead at St. John’s 10:00am Mass.
URL:https://stpauls-rc.co.uk/event/no-celebration-of-mass/
LOCATION:St. Paul’s RC Church\, Cramlington\, Dewley\, Cramlington\, NE23 6EF\, United Kingdom
END:VEVENT
END:VCALENDAR