BEGIN:VCALENDAR
VERSION:2.0
PRODID:-//St. Paul&#039;s Cramlington - ECPv6.15.11//NONSGML v1.0//EN
CALSCALE:GREGORIAN
METHOD:PUBLISH
X-WR-CALNAME:St. Paul&#039;s Cramlington
X-ORIGINAL-URL:https://stpauls-rc.co.uk
X-WR-CALDESC:Events for St. Paul&#039;s Cramlington
REFRESH-INTERVAL;VALUE=DURATION:PT1H
X-Robots-Tag:noindex
X-PUBLISHED-TTL:PT1H
BEGIN:VTIMEZONE
TZID:UTC
BEGIN:STANDARD
TZOFFSETFROM:+0000
TZOFFSETTO:+0000
TZNAME:UTC
DTSTART:20220101T000000
END:STANDARD
END:VTIMEZONE
BEGIN:VEVENT
DTSTART;VALUE=DATE:20231209
DTEND;VALUE=DATE:20231210
DTSTAMP:20260425T023319
CREATED:20231013T153927Z
LAST-MODIFIED:20231013T153927Z
UID:5259-1702080000-1702166399@stpauls-rc.co.uk
SUMMARY:Edinburgh Christmas Market
DESCRIPTION:Saturday 9th December \nThe cost of the coach is £30 per person. A list is on the board in the porch on the right as you leave church for anyone wishing to join us. The £30  is required  a.s.a.p. to secure your seat. For more information see Linda or Terri Robson.
URL:https://stpauls-rc.co.uk/event/edinburgh-christmas-market/
END:VEVENT
BEGIN:VEVENT
DTSTART;TZID=UTC:20231209T180000
DTEND;TZID=UTC:20231209T190000
DTSTAMP:20260425T023319
CREATED:20231209T093245Z
LAST-MODIFIED:20231209T093245Z
UID:5359-1702144800-1702148400@stpauls-rc.co.uk
SUMMARY:Mass Intention
DESCRIPTION:Today’s Mass will be celebrated for the repose of the soul of Robert Hirst.
URL:https://stpauls-rc.co.uk/event/mass-intention-53/
LOCATION:St. Paul’s RC Church\, Cramlington\, Dewley\, Cramlington\, NE23 6EF\, United Kingdom
END:VEVENT
END:VCALENDAR