BEGIN:VCALENDAR
VERSION:2.0
PRODID:-//St. Paul&#039;s Cramlington - ECPv6.15.11//NONSGML v1.0//EN
CALSCALE:GREGORIAN
METHOD:PUBLISH
X-ORIGINAL-URL:https://stpauls-rc.co.uk
X-WR-CALDESC:Events for St. Paul&#039;s Cramlington
REFRESH-INTERVAL;VALUE=DURATION:PT1H
X-Robots-Tag:noindex
X-PUBLISHED-TTL:PT1H
BEGIN:VTIMEZONE
TZID:UTC
BEGIN:STANDARD
TZOFFSETFROM:+0000
TZOFFSETTO:+0000
TZNAME:UTC
DTSTART:20220101T000000
END:STANDARD
END:VTIMEZONE
BEGIN:VEVENT
DTSTART;TZID=UTC:20231227T100000
DTEND;TZID=UTC:20231227T103000
DTSTAMP:20260425T023316
CREATED:20240101T203215Z
LAST-MODIFIED:20240101T203215Z
UID:5500-1703671200-1703673000@stpauls-rc.co.uk
SUMMARY:Mass Intention
DESCRIPTION:Repose of the soul of Winnie Hindmarsh
URL:https://stpauls-rc.co.uk/event/mass-intention-59/
LOCATION:St. Paul’s RC Church\, Cramlington\, Dewley\, Cramlington\, NE23 6EF\, United Kingdom
END:VEVENT
END:VCALENDAR