BEGIN:VCALENDAR
VERSION:2.0
PRODID:-//St. Paul&#039;s Cramlington - ECPv6.15.11//NONSGML v1.0//EN
CALSCALE:GREGORIAN
METHOD:PUBLISH
X-ORIGINAL-URL:https://stpauls-rc.co.uk
X-WR-CALDESC:Events for St. Paul&#039;s Cramlington
REFRESH-INTERVAL;VALUE=DURATION:PT1H
X-Robots-Tag:noindex
X-PUBLISHED-TTL:PT1H
BEGIN:VTIMEZONE
TZID:UTC
BEGIN:STANDARD
TZOFFSETFROM:+0000
TZOFFSETTO:+0000
TZNAME:UTC
DTSTART:20230101T000000
END:STANDARD
END:VTIMEZONE
BEGIN:VEVENT
DTSTART;TZID=UTC:20240221T093000
DTEND;TZID=UTC:20240221T100000
DTSTAMP:20260424T235444
CREATED:20240206T131928Z
LAST-MODIFIED:20240206T131928Z
UID:6220-1708507800-1708509600@stpauls-rc.co.uk
SUMMARY:Praying the Rosary
DESCRIPTION:Praying the Rosary is one of the best ways to meditate upon the life of Jesus. We are planning to begin praying the Rosary every Wednesday at 9.30 am\, prior to the Mass. This started on the 7th of February 2024. If you are free\, kindly join for the Rosary.
URL:https://stpauls-rc.co.uk/event/praying-the-rosary-3/
LOCATION:St. Paul’s RC Church Winter Chapel\, Cramlington\, NE23 6EF
END:VEVENT
BEGIN:VEVENT
DTSTART;TZID=UTC:20240221T110000
DTEND;TZID=UTC:20240221T120000
DTSTAMP:20260424T235444
CREATED:20240209T175405Z
LAST-MODIFIED:20240209T175405Z
UID:6248-1708513200-1708516800@stpauls-rc.co.uk
SUMMARY:Requiem Mass for Bob Watson
DESCRIPTION:Bob’s Requiem Mass will take place here in St. Paul’s at 11:00am on Wednesday 21st February followed by a private family interment. Please do try to attend to support his family and to show your gratitude for the service Bob provided via his music ministry to our parish for over 50 years. Rest in Peace\, Bob.
URL:https://stpauls-rc.co.uk/event/requiem-mass-for-bob-watson/
LOCATION:St. Paul’s RC Church\, Cramlington\, Dewley\, Cramlington\, NE23 6EF\, United Kingdom
END:VEVENT
BEGIN:VEVENT
DTSTART;TZID=UTC:20240221T190000
DTEND;TZID=UTC:20240221T200000
DTSTAMP:20260424T235444
CREATED:20240206T132737Z
LAST-MODIFIED:20240206T132737Z
UID:6227-1708542000-1708545600@stpauls-rc.co.uk
SUMMARY:Partnership Station Mass
DESCRIPTION:In order to prepare for the season of Lent focused largely on a more spiritually oriented journey\, this year in our partnership\, we have agreed to celebrate a Station Mass in four Churches throughout the Partnership; Please do make a note in your diary. \n1. Wednesday 21st February at 7pm at St Robert of Newminster Church\, Morpeth\n2. Wednesday 28th February at 7pm at St Paul’s Church\, Cramlington \n3. Wednesday 6th March at 7pm at Our Lady and St Wilfrid’s Church\, Blyth \n4. Wednesday 13th March at 7pm at St Aidan’s\, Ashington
URL:https://stpauls-rc.co.uk/event/partnership-station-mass/
END:VEVENT
END:VCALENDAR