BEGIN:VCALENDAR
VERSION:2.0
PRODID:-//St. Paul&#039;s Cramlington - ECPv6.15.11//NONSGML v1.0//EN
CALSCALE:GREGORIAN
METHOD:PUBLISH
X-ORIGINAL-URL:https://stpauls-rc.co.uk
X-WR-CALDESC:Events for St. Paul&#039;s Cramlington
REFRESH-INTERVAL;VALUE=DURATION:PT1H
X-Robots-Tag:noindex
X-PUBLISHED-TTL:PT1H
BEGIN:VTIMEZONE
TZID:UTC
BEGIN:STANDARD
TZOFFSETFROM:+0000
TZOFFSETTO:+0000
TZNAME:UTC
DTSTART:20230101T000000
END:STANDARD
END:VTIMEZONE
BEGIN:VEVENT
DTSTART;TZID=UTC:20240405T180000
DTEND;TZID=UTC:20240405T193000
DTSTAMP:20260424T211819
CREATED:20240403T114546Z
LAST-MODIFIED:20240403T114546Z
UID:6516-1712340000-1712345400@stpauls-rc.co.uk
SUMMARY:No Services
DESCRIPTION:There will be no Exposition or Mass celebrated today at St. John the Baptist Church\, Annitsford.
URL:https://stpauls-rc.co.uk/event/no-services/
LOCATION:St. John the Baptist RC Church\, Annitsford\, United Kingdom
END:VEVENT
END:VCALENDAR