BEGIN:VCALENDAR
VERSION:2.0
PRODID:-//St. Paul&#039;s Cramlington - ECPv6.15.11//NONSGML v1.0//EN
CALSCALE:GREGORIAN
METHOD:PUBLISH
X-WR-CALNAME:St. Paul&#039;s Cramlington
X-ORIGINAL-URL:https://stpauls-rc.co.uk
X-WR-CALDESC:Events for St. Paul&#039;s Cramlington
REFRESH-INTERVAL;VALUE=DURATION:PT1H
X-Robots-Tag:noindex
X-PUBLISHED-TTL:PT1H
BEGIN:VTIMEZONE
TZID:UTC
BEGIN:STANDARD
TZOFFSETFROM:+0000
TZOFFSETTO:+0000
TZNAME:UTC
DTSTART:20230101T000000
END:STANDARD
END:VTIMEZONE
BEGIN:VEVENT
DTSTART;TZID=UTC:20241215T143000
DTEND;TZID=UTC:20241215T180000
DTSTAMP:20260424T112735
CREATED:20241214T122757Z
LAST-MODIFIED:20241214T122757Z
UID:7198-1734273000-1734285600@stpauls-rc.co.uk
SUMMARY:Carol Service
DESCRIPTION:Christmas Concerts by Cramlington Community Choir: Sunday 15th December\, one at 2:30pm and the second at 4:30pm. Tickets are FREE\, but a £5 donation is recommended. See Marylyn for your tickets.
URL:https://stpauls-rc.co.uk/event/carol-service/
LOCATION:St. Paul’s RC Church\, Cramlington\, Dewley\, Cramlington\, NE23 6EF\, United Kingdom
END:VEVENT
END:VCALENDAR