BEGIN:VCALENDAR
VERSION:2.0
PRODID:-//St. Paul&#039;s Cramlington - ECPv6.15.11//NONSGML v1.0//EN
CALSCALE:GREGORIAN
METHOD:PUBLISH
X-WR-CALNAME:St. Paul&#039;s Cramlington
X-ORIGINAL-URL:https://stpauls-rc.co.uk
X-WR-CALDESC:Events for St. Paul&#039;s Cramlington
REFRESH-INTERVAL;VALUE=DURATION:PT1H
X-Robots-Tag:noindex
X-PUBLISHED-TTL:PT1H
BEGIN:VTIMEZONE
TZID:UTC
BEGIN:STANDARD
TZOFFSETFROM:+0000
TZOFFSETTO:+0000
TZNAME:UTC
DTSTART:20240101T000000
END:STANDARD
END:VTIMEZONE
BEGIN:VEVENT
DTSTART;TZID=UTC:20250218T180000
DTEND;TZID=UTC:20250218T183000
DTSTAMP:20260424T084852
CREATED:20250207T140921Z
LAST-MODIFIED:20250207T140921Z
UID:7509-1739901600-1739903400@stpauls-rc.co.uk
SUMMARY:Nancy Colohan
DESCRIPTION:Nancy’s funeral service will take place on Wednesday 19th of February here in St. Paul’s. Her body will be brought to St. Paul’s church on Tuesday 18th February at 6:00 PM and the Requiem Mass will be celebrated on Wednesday 19th February at 10:00 AM followed by the service at the Crematorium
URL:https://stpauls-rc.co.uk/event/nancy-colohan/
LOCATION:St. Paul’s RC Church\, Cramlington\, Dewley\, Cramlington\, NE23 6EF\, United Kingdom
END:VEVENT
END:VCALENDAR