BEGIN:VCALENDAR
VERSION:2.0
PRODID:-//St. Paul&#039;s Cramlington - ECPv6.15.11//NONSGML v1.0//EN
CALSCALE:GREGORIAN
METHOD:PUBLISH
X-WR-CALNAME:St. Paul&#039;s Cramlington
X-ORIGINAL-URL:https://stpauls-rc.co.uk
X-WR-CALDESC:Events for St. Paul&#039;s Cramlington
REFRESH-INTERVAL;VALUE=DURATION:PT1H
X-Robots-Tag:noindex
X-PUBLISHED-TTL:PT1H
BEGIN:VTIMEZONE
TZID:UTC
BEGIN:STANDARD
TZOFFSETFROM:+0000
TZOFFSETTO:+0000
TZNAME:UTC
DTSTART:20240101T000000
END:STANDARD
END:VTIMEZONE
BEGIN:VEVENT
DTSTART;TZID=UTC:20250430T100000
DTEND;TZID=UTC:20250430T103000
DTSTAMP:20260424T045724
CREATED:20250429T081208Z
LAST-MODIFIED:20250429T081208Z
UID:7736-1746007200-1746009000@stpauls-rc.co.uk
SUMMARY:Mass Intention
DESCRIPTION:Mass today will be celebrated for the repose of the soul of Peter Holland who passed away on Monday 28th April 2025. Please pray for him and his family. R.I.P. Peter
URL:https://stpauls-rc.co.uk/event/mass-intention-141/
LOCATION:St. Paul’s RC Church\, Cramlington\, Dewley\, Cramlington\, NE23 6EF\, United Kingdom
END:VEVENT
END:VCALENDAR