BEGIN:VCALENDAR
VERSION:2.0
PRODID:-//St. Paul&#039;s Cramlington - ECPv6.15.11//NONSGML v1.0//EN
CALSCALE:GREGORIAN
METHOD:PUBLISH
X-ORIGINAL-URL:https://stpauls-rc.co.uk
X-WR-CALDESC:Events for St. Paul&#039;s Cramlington
REFRESH-INTERVAL;VALUE=DURATION:PT1H
X-Robots-Tag:noindex
X-PUBLISHED-TTL:PT1H
BEGIN:VTIMEZONE
TZID:UTC
BEGIN:STANDARD
TZOFFSETFROM:+0000
TZOFFSETTO:+0000
TZNAME:UTC
DTSTART:20240101T000000
END:STANDARD
END:VTIMEZONE
BEGIN:VEVENT
DTSTART;TZID=UTC:20250524T180000
DTEND;TZID=UTC:20250524T190000
DTSTAMP:20260424T045859
CREATED:20250629T134515Z
LAST-MODIFIED:20250629T134515Z
UID:7865-1748109600-1748113200@stpauls-rc.co.uk
SUMMARY:Mass Intention
DESCRIPTION:Mary & Paul Lavender R.I.P.
URL:https://stpauls-rc.co.uk/event/mass-intention-149/
LOCATION:St. Paul’s RC Church\, Cramlington\, Dewley\, Cramlington\, NE23 6EF\, United Kingdom
END:VEVENT
END:VCALENDAR