BEGIN:VCALENDAR
VERSION:2.0
PRODID:-//St. Paul&#039;s Cramlington - ECPv6.15.11//NONSGML v1.0//EN
CALSCALE:GREGORIAN
METHOD:PUBLISH
X-ORIGINAL-URL:https://stpauls-rc.co.uk
X-WR-CALDESC:Events for St. Paul&#039;s Cramlington
REFRESH-INTERVAL;VALUE=DURATION:PT1H
X-Robots-Tag:noindex
X-PUBLISHED-TTL:PT1H
BEGIN:VTIMEZONE
TZID:UTC
BEGIN:STANDARD
TZOFFSETFROM:+0000
TZOFFSETTO:+0000
TZNAME:UTC
DTSTART:20240101T000000
END:STANDARD
END:VTIMEZONE
BEGIN:VEVENT
DTSTART;TZID=UTC:20250810T100000
DTEND;TZID=UTC:20250810T110000
DTSTAMP:20260424T013706
CREATED:20250719T094032Z
LAST-MODIFIED:20250719T094032Z
UID:7948-1754820000-1754823600@stpauls-rc.co.uk
SUMMARY:Jubilee 2025 Celebration Mass
DESCRIPTION:As part of our parish Jubilee Celebration programme\, Mass on Sunday 10th August at St. John’s will be celebrated at 10:00am\, not the usual time of 9:30am. The Mass will be to thank God for couples\, from both parishes\, who are celebrating a Marriage Anniversary this year and everyone is invited to attend the Mass.
URL:https://stpauls-rc.co.uk/event/jubilee-2025-celebration-mass/
LOCATION:St. John the Baptist RC Church\, Annitsford\, United Kingdom
END:VEVENT
END:VCALENDAR