BEGIN:VCALENDAR
VERSION:2.0
PRODID:-//St. Paul&#039;s Cramlington - ECPv6.15.11//NONSGML v1.0//EN
CALSCALE:GREGORIAN
METHOD:PUBLISH
X-ORIGINAL-URL:https://stpauls-rc.co.uk
X-WR-CALDESC:Events for St. Paul&#039;s Cramlington
REFRESH-INTERVAL;VALUE=DURATION:PT1H
X-Robots-Tag:noindex
X-PUBLISHED-TTL:PT1H
BEGIN:VTIMEZONE
TZID:UTC
BEGIN:STANDARD
TZOFFSETFROM:+0000
TZOFFSETTO:+0000
TZNAME:UTC
DTSTART:20240101T000000
END:STANDARD
END:VTIMEZONE
BEGIN:VEVENT
DTSTART;TZID=UTC:20251112T093000
DTEND;TZID=UTC:20251112T103000
DTSTAMP:20260423T220744
CREATED:20251102T071045Z
LAST-MODIFIED:20251102T071045Z
UID:8201-1762939800-1762943400@stpauls-rc.co.uk
SUMMARY:Mass Intention
DESCRIPTION:Today’s Mass will be celebrated for the repose of the soul of the following: \nGair and George families – Robson\, Brough and Garvey families – Brian Emmerton\, Bob Fletcher and Agnes Templey – Francis Joseph Lake\, Joyce and Harry Westall – Collins and Robson families.
URL:https://stpauls-rc.co.uk/event/mass-intention-180/
LOCATION:St. Paul’s RC Church\, Cramlington\, Dewley\, Cramlington\, NE23 6EF\, United Kingdom
END:VEVENT
END:VCALENDAR