BEGIN:VCALENDAR
VERSION:2.0
PRODID:-//St. Paul&#039;s Cramlington - ECPv6.15.11//NONSGML v1.0//EN
CALSCALE:GREGORIAN
METHOD:PUBLISH
X-ORIGINAL-URL:https://stpauls-rc.co.uk
X-WR-CALDESC:Events for St. Paul&#039;s Cramlington
REFRESH-INTERVAL;VALUE=DURATION:PT1H
X-Robots-Tag:noindex
X-PUBLISHED-TTL:PT1H
BEGIN:VTIMEZONE
TZID:UTC
BEGIN:STANDARD
TZOFFSETFROM:+0000
TZOFFSETTO:+0000
TZNAME:UTC
DTSTART:20240101T000000
END:STANDARD
END:VTIMEZONE
BEGIN:VEVENT
DTSTART;TZID=UTC:20251212T100000
DTEND;TZID=UTC:20251212T110000
DTSTAMP:20260423T204911
CREATED:20251129T102400Z
LAST-MODIFIED:20251129T102400Z
UID:8283-1765533600-1765537200@stpauls-rc.co.uk
SUMMARY:Funeral of Chloe Niamh Beaney
DESCRIPTION:Will be held in St. Paul’s at 10:00am on Friday 12th December followed by her burial at Northumberland  Woodland Burial\, Bockenfield\, Morpeth\, NE23 3AU.
URL:https://stpauls-rc.co.uk/event/funeral-of-chloe-niamh-beaney/
LOCATION:St. Paul’s RC Church\, Cramlington\, Dewley\, Cramlington\, NE23 6EF\, United Kingdom
END:VEVENT
END:VCALENDAR