BEGIN:VCALENDAR
VERSION:2.0
PRODID:-//St. Paul&#039;s Cramlington - ECPv6.15.11//NONSGML v1.0//EN
CALSCALE:GREGORIAN
METHOD:PUBLISH
X-WR-CALNAME:St. Paul&#039;s Cramlington
X-ORIGINAL-URL:https://stpauls-rc.co.uk
X-WR-CALDESC:Events for St. Paul&#039;s Cramlington
REFRESH-INTERVAL;VALUE=DURATION:PT1H
X-Robots-Tag:noindex
X-PUBLISHED-TTL:PT1H
BEGIN:VTIMEZONE
TZID:UTC
BEGIN:STANDARD
TZOFFSETFROM:+0000
TZOFFSETTO:+0000
TZNAME:UTC
DTSTART:20240101T000000
END:STANDARD
END:VTIMEZONE
BEGIN:VEVENT
DTSTART;TZID=UTC:20251218T080000
DTEND;TZID=UTC:20251218T170000
DTSTAMP:20260423T204840
CREATED:20251230T101055Z
LAST-MODIFIED:20251230T101420Z
UID:8380-1766044800-1766077200@stpauls-rc.co.uk
SUMMARY:12th January
DESCRIPTION:READ ME   St. Benet Biscop
URL:https://stpauls-rc.co.uk/event/12th-january/
CATEGORIES:Feasts
END:VEVENT
BEGIN:VEVENT
DTSTART;TZID=UTC:20251218T080000
DTEND;TZID=UTC:20251218T170000
DTSTAMP:20260423T204840
CREATED:20260102T010012Z
LAST-MODIFIED:20251218T170128Z
UID:8382-1766044800-1766077200@stpauls-rc.co.uk
SUMMARY:17th January
DESCRIPTION:1.17. St Anthony of Egypt  READ ME
URL:https://stpauls-rc.co.uk/event/17th-january/
CATEGORIES:Feasts
END:VEVENT
BEGIN:VEVENT
DTSTART;TZID=UTC:20251218T080000
DTEND;TZID=UTC:20251218T170000
DTSTAMP:20260423T204840
CREATED:20260106T010043Z
LAST-MODIFIED:20251218T170810Z
UID:8384-1766044800-1766077200@stpauls-rc.co.uk
SUMMARY:21st January
DESCRIPTION:St. Agnes  READ ME
URL:https://stpauls-rc.co.uk/event/21st-january/
CATEGORIES:Feasts
END:VEVENT
BEGIN:VEVENT
DTSTART;TZID=UTC:20251218T080000
DTEND;TZID=UTC:20251218T170000
DTSTAMP:20260423T204840
CREATED:20260112T010035Z
LAST-MODIFIED:20251218T171318Z
UID:8386-1766044800-1766077200@stpauls-rc.co.uk
SUMMARY:24th January
DESCRIPTION:1.24. St Francis de Sales  READ ME
URL:https://stpauls-rc.co.uk/event/24th-january/
CATEGORIES:Feasts
END:VEVENT
BEGIN:VEVENT
DTSTART;TZID=UTC:20251218T080000
DTEND;TZID=UTC:20251218T170000
DTSTAMP:20260423T204840
CREATED:20260117T010054Z
LAST-MODIFIED:20251218T171613Z
UID:8388-1766044800-1766077200@stpauls-rc.co.uk
SUMMARY:26th January
DESCRIPTION:1.26 Saints Timothy & Titus  READ ME
URL:https://stpauls-rc.co.uk/event/26th-january/
CATEGORIES:Feasts
END:VEVENT
BEGIN:VEVENT
DTSTART;TZID=UTC:20251218T080000
DTEND;TZID=UTC:20251218T170000
DTSTAMP:20260423T204840
CREATED:20260121T010023Z
LAST-MODIFIED:20251218T172132Z
UID:8390-1766044800-1766077200@stpauls-rc.co.uk
SUMMARY:28th January
DESCRIPTION:St Thomas Aquinas  READ ME
URL:https://stpauls-rc.co.uk/event/28th-january/
CATEGORIES:Feasts
END:VEVENT
BEGIN:VEVENT
DTSTART;TZID=UTC:20251218T080000
DTEND;TZID=UTC:20251218T170000
DTSTAMP:20260423T204840
CREATED:20260124T010050Z
LAST-MODIFIED:20251218T172507Z
UID:8394-1766044800-1766077200@stpauls-rc.co.uk
SUMMARY:31st January
DESCRIPTION:1.31. St John Bosco  READ ME
URL:https://stpauls-rc.co.uk/event/31st-january/
CATEGORIES:Feasts
END:VEVENT
END:VCALENDAR