BEGIN:VCALENDAR
VERSION:2.0
PRODID:-//St. Paul&#039;s Cramlington - ECPv6.15.11//NONSGML v1.0//EN
CALSCALE:GREGORIAN
METHOD:PUBLISH
X-ORIGINAL-URL:https://stpauls-rc.co.uk
X-WR-CALDESC:Events for St. Paul&#039;s Cramlington
REFRESH-INTERVAL;VALUE=DURATION:PT1H
X-Robots-Tag:noindex
X-PUBLISHED-TTL:PT1H
BEGIN:VTIMEZONE
TZID:UTC
BEGIN:STANDARD
TZOFFSETFROM:+0000
TZOFFSETTO:+0000
TZNAME:UTC
DTSTART:20240101T000000
END:STANDARD
END:VTIMEZONE
BEGIN:VEVENT
DTSTART;TZID=UTC:20251222T080000
DTEND;TZID=UTC:20251222T170000
DTSTAMP:20260423T204918
CREATED:20251227T000735Z
LAST-MODIFIED:20251230T101804Z
UID:8642-1766390400-1766422800@stpauls-rc.co.uk
SUMMARY:1st January
DESCRIPTION:READ ME    Mary\, the Mother of God.
URL:https://stpauls-rc.co.uk/event/1st-january/
CATEGORIES:Feasts
END:VEVENT
BEGIN:VEVENT
DTSTART;TZID=UTC:20251222T080000
DTEND;TZID=UTC:20251222T170000
DTSTAMP:20260423T204918
CREATED:20251228T000444Z
LAST-MODIFIED:20251222T210712Z
UID:8640-1766390400-1766422800@stpauls-rc.co.uk
SUMMARY:2nd January
DESCRIPTION:READ ME    Saints Basil the Great and Gregory Nazianzen
URL:https://stpauls-rc.co.uk/event/2nd-january/
CATEGORIES:Feasts
END:VEVENT
BEGIN:VEVENT
DTSTART;TZID=UTC:20251222T080000
DTEND;TZID=UTC:20251222T170000
DTSTAMP:20260423T204918
CREATED:20251230T095006Z
LAST-MODIFIED:20251230T100148Z
UID:8638-1766390400-1766422800@stpauls-rc.co.uk
SUMMARY:6th January
DESCRIPTION:READ ME    The Epiphany Of The Lord
URL:https://stpauls-rc.co.uk/event/6th-january/
CATEGORIES:Feasts
END:VEVENT
END:VCALENDAR