BEGIN:VCALENDAR
VERSION:2.0
PRODID:-//St. Paul&#039;s Cramlington - ECPv6.15.11//NONSGML v1.0//EN
CALSCALE:GREGORIAN
METHOD:PUBLISH
X-WR-CALNAME:St. Paul&#039;s Cramlington
X-ORIGINAL-URL:https://stpauls-rc.co.uk
X-WR-CALDESC:Events for St. Paul&#039;s Cramlington
REFRESH-INTERVAL;VALUE=DURATION:PT1H
X-Robots-Tag:noindex
X-PUBLISHED-TTL:PT1H
BEGIN:VTIMEZONE
TZID:UTC
BEGIN:STANDARD
TZOFFSETFROM:+0000
TZOFFSETTO:+0000
TZNAME:UTC
DTSTART:20240101T000000
END:STANDARD
END:VTIMEZONE
BEGIN:VEVENT
DTSTART;TZID=UTC:20260101T100000
DTEND;TZID=UTC:20260101T103000
DTSTAMP:20260423T233015
CREATED:20260103T134645Z
LAST-MODIFIED:20260103T134724Z
UID:8931-1767261600-1767263400@stpauls-rc.co.uk
SUMMARY:Mass Intention
DESCRIPTION:For the intentions of Alan Fryer and Family
URL:https://stpauls-rc.co.uk/event/mass-intention-190/
CATEGORIES:Calendar
END:VEVENT
BEGIN:VEVENT
DTSTART;TZID=UTC:20250628T180000
DTEND;TZID=UTC:20250628T190000
DTSTAMP:20260423T233015
CREATED:20250628T073538Z
LAST-MODIFIED:20250628T073727Z
UID:7844-1751133600-1751137200@stpauls-rc.co.uk
SUMMARY:Mass Intention
DESCRIPTION:Mass tonight will be celebrated In Thanksgiving
URL:https://stpauls-rc.co.uk/event/mass-intention-142/
LOCATION:St. Paul’s RC Church\, Cramlington\, Dewley\, Cramlington\, NE23 6EF\, United Kingdom
CATEGORIES:Calendar
END:VEVENT
END:VCALENDAR