BEGIN:VCALENDAR
VERSION:2.0
PRODID:-//St. Paul&#039;s Cramlington - ECPv6.15.11//NONSGML v1.0//EN
CALSCALE:GREGORIAN
METHOD:PUBLISH
X-WR-CALNAME:St. Paul&#039;s Cramlington
X-ORIGINAL-URL:https://stpauls-rc.co.uk
X-WR-CALDESC:Events for St. Paul&#039;s Cramlington
REFRESH-INTERVAL;VALUE=DURATION:PT1H
X-Robots-Tag:noindex
X-PUBLISHED-TTL:PT1H
BEGIN:VTIMEZONE
TZID:UTC
BEGIN:STANDARD
TZOFFSETFROM:+0000
TZOFFSETTO:+0000
TZNAME:UTC
DTSTART:20250101T000000
END:STANDARD
END:VTIMEZONE
BEGIN:VEVENT
DTSTART;TZID=UTC:20260114T080000
DTEND;TZID=UTC:20260114T170000
DTSTAMP:20260424T002823
CREATED:20260114T133221Z
LAST-MODIFIED:20260114T133221Z
UID:8973-1768377600-1768410000@stpauls-rc.co.uk
SUMMARY:22nd January
DESCRIPTION:READ ME   St. Vincent Pallotti
URL:https://stpauls-rc.co.uk/event/22nd-january/
CATEGORIES:Feasts
END:VEVENT
END:VCALENDAR