BEGIN:VCALENDAR
VERSION:2.0
PRODID:-//St. Paul&#039;s Cramlington - ECPv6.15.11//NONSGML v1.0//EN
CALSCALE:GREGORIAN
METHOD:PUBLISH
X-ORIGINAL-URL:https://stpauls-rc.co.uk
X-WR-CALDESC:Events for St. Paul&#039;s Cramlington
REFRESH-INTERVAL;VALUE=DURATION:PT1H
X-Robots-Tag:noindex
X-PUBLISHED-TTL:PT1H
BEGIN:VTIMEZONE
TZID:UTC
BEGIN:STANDARD
TZOFFSETFROM:+0000
TZOFFSETTO:+0000
TZNAME:UTC
DTSTART:20200101T000000
END:STANDARD
END:VTIMEZONE
BEGIN:VEVENT
DTSTART;TZID=UTC:20250730T100000
DTEND;TZID=UTC:20250730T103000
DTSTAMP:20260424T050026
CREATED:20250726T131924Z
LAST-MODIFIED:20250726T132304Z
UID:7981-1753869600-1753871400@stpauls-rc.co.uk
SUMMARY:Mass Intention
DESCRIPTION:Mass today will be celebrated for the repose of the soul of Andrew John Convery R.I.P.
URL:https://stpauls-rc.co.uk/event/mass-intention-161/
LOCATION:St. Paul’s RC Church\, Cramlington\, Dewley\, Cramlington\, NE23 6EF\, United Kingdom
CATEGORIES:Mass & Events
END:VEVENT
BEGIN:VEVENT
DTSTART;TZID=UTC:20240713T180000
DTEND;TZID=UTC:20240713T190000
DTSTAMP:20260424T050026
CREATED:20240712T144533Z
LAST-MODIFIED:20240712T144533Z
UID:6872-1720893600-1720897200@stpauls-rc.co.uk
SUMMARY:Mass Intention
DESCRIPTION:Mass will be celebrated for the repose of the Souls of Mary Hebden\, Josie McConnell and Bill Pickering.  \n\n\n\n 
URL:https://stpauls-rc.co.uk/event/mass-intention-87/
LOCATION:St. Paul’s RC Church\, Cramlington\, Dewley\, Cramlington\, NE23 6EF\, United Kingdom
CATEGORIES:Mass & Events
END:VEVENT
BEGIN:VEVENT
DTSTART;TZID=UTC:20220604T180000
DTEND;TZID=UTC:20220604T190000
DTSTAMP:20260424T050026
CREATED:20220604T145920Z
LAST-MODIFIED:20220604T145932Z
UID:2628-1654365600-1654369200@stpauls-rc.co.uk
SUMMARY:Mass Intention
DESCRIPTION:Sr. Mary Paul\,   RIP
URL:https://stpauls-rc.co.uk/event/mass-intention-2/
LOCATION:St. Paul’s RC Church\, Cramlington\, Dewley\, Cramlington\, NE23 6EF\, United Kingdom
CATEGORIES:Mass & Events
END:VEVENT
BEGIN:VEVENT
DTSTART;TZID=UTC:20220114T100000
DTEND;TZID=UTC:20220114T103000
DTSTAMP:20260424T050026
CREATED:20211110T061930Z
LAST-MODIFIED:20220109T065957Z
UID:419-1642154400-1642156200@stpauls-rc.co.uk
SUMMARY:Friday @ 10 AM
DESCRIPTION:The Mass Will Be Held at 10.00 pm in the church Back Room
URL:https://stpauls-rc.co.uk/event/friaday-10-am/
CATEGORIES:Mass & Events
END:VEVENT
BEGIN:VEVENT
DTSTART;TZID=UTC:20220110T180000
DTEND;TZID=UTC:20220110T190000
DTSTAMP:20260424T050026
CREATED:20211126T123447Z
LAST-MODIFIED:20220109T065918Z
UID:662-1641837600-1641841200@stpauls-rc.co.uk
SUMMARY:Sunday Vigil Mass: Saturday @ 6pm
DESCRIPTION:The Mass will be held at 6:00pm in church after Adoration of the Blessed Sacrament from 5:30pm – 5:55pm.
URL:https://stpauls-rc.co.uk/event/sunday-vigil-mass/
CATEGORIES:Mass & Events
ATTACH;FMTTYPE=image/jpeg:https://stpauls-rc.co.uk/wp-content/uploads/2021/11/St-Pauls-Altar.jpg
END:VEVENT
BEGIN:VEVENT
DTSTART;TZID=UTC:20220110T100000
DTEND;TZID=UTC:20220110T110000
DTSTAMP:20260424T050026
CREATED:20211110T062927Z
LAST-MODIFIED:20220109T065740Z
UID:424-1641808800-1641812400@stpauls-rc.co.uk
SUMMARY:Sunday @ 10 AM
DESCRIPTION:The Mass will be held at 10:00 am in Church after Adoration of the Blessed Sacrament from 9:30am until 9:55am
URL:https://stpauls-rc.co.uk/event/sunday-10-am/
CATEGORIES:Mass & Events
END:VEVENT
BEGIN:VEVENT
DTSTART;TZID=UTC:20211203T180000
DTEND;TZID=UTC:20211203T190000
DTSTAMP:20260424T050026
CREATED:20211126T123736Z
LAST-MODIFIED:20211128T195944Z
UID:664-1638554400-1638558000@stpauls-rc.co.uk
SUMMARY:Adoration of the Blessed Sacrament: Friday evenings
DESCRIPTION:To be held between 6pm and 7pm In the church Back Room
URL:https://stpauls-rc.co.uk/event/adoration-of-the-blessed-sacrament/
CATEGORIES:Mass & Events
ATTACH;FMTTYPE=image/jpeg:https://stpauls-rc.co.uk/wp-content/uploads/2021/11/Blessed-Sacrament.jpg
END:VEVENT
BEGIN:VEVENT
DTSTART;TZID=UTC:20211202T100000
DTEND;TZID=UTC:20211202T103000
DTSTAMP:20260424T050026
CREATED:20211128T194425Z
LAST-MODIFIED:20211128T194934Z
UID:688-1638439200-1638441000@stpauls-rc.co.uk
SUMMARY:Thursday @ 10:00am
DESCRIPTION:The Mass will be held at 10:00am in the church Back Room
URL:https://stpauls-rc.co.uk/event/thursday-1000am/
CATEGORIES:Mass & Events
END:VEVENT
BEGIN:VEVENT
DTSTART;TZID=UTC:20211201T190000
DTEND;TZID=UTC:20211201T193000
DTSTAMP:20260424T050026
CREATED:20211128T194202Z
LAST-MODIFIED:20211128T194711Z
UID:686-1638385200-1638387000@stpauls-rc.co.uk
SUMMARY:Wednesday @ 7:00pm
DESCRIPTION:The Mass will be held @ 7:00pm in the church Back Room
URL:https://stpauls-rc.co.uk/event/wednesday-700pm/
CATEGORIES:Mass & Events
END:VEVENT
BEGIN:VEVENT
DTSTART;TZID=UTC:20211130T190000
DTEND;TZID=UTC:20211130T190000
DTSTAMP:20260424T050026
CREATED:20211126T160019Z
LAST-MODIFIED:20211128T193236Z
UID:677-1638298800-1638298800@stpauls-rc.co.uk
SUMMARY:Fr. Manoj's Induction Mass
DESCRIPTION:The Induction Mass for Fr. Manoj as Parish Priest of St. Paul’s Cramlington and also Our Lady & St. Joseph\, New Hartley will be concelebrated in St. Paul’s church at 7:00pm and will be followed by light refreshments. If you wish to stay for the refreshments please leave your name on the list at the back of church.
URL:https://stpauls-rc.co.uk/event/fr-manojs-induction-mass/
CATEGORIES:Mass & Events
ATTACH;FMTTYPE=image/jpeg:https://stpauls-rc.co.uk/wp-content/uploads/2021/11/Side-Chapel-May-2021-scaled.jpg
END:VEVENT
BEGIN:VEVENT
DTSTART;TZID=UTC:20211129T100000
DTEND;TZID=UTC:20211129T103000
DTSTAMP:20260424T050026
CREATED:20211110T054844Z
LAST-MODIFIED:20211128T193946Z
UID:412-1638180000-1638181800@stpauls-rc.co.uk
SUMMARY:Monday @ 10:00am
DESCRIPTION:The Mass will be held at 10.00am in church Back Room
URL:https://stpauls-rc.co.uk/event/saturday/
CATEGORIES:Mass & Events
END:VEVENT
END:VCALENDAR