BEGIN:VCALENDAR
VERSION:2.0
PRODID:-//St. Paul&#039;s Cramlington - ECPv6.15.11//NONSGML v1.0//EN
CALSCALE:GREGORIAN
METHOD:PUBLISH
X-WR-CALNAME:St. Paul&#039;s Cramlington
X-ORIGINAL-URL:https://stpauls-rc.co.uk
X-WR-CALDESC:Events for St. Paul&#039;s Cramlington
REFRESH-INTERVAL;VALUE=DURATION:PT1H
X-Robots-Tag:noindex
X-PUBLISHED-TTL:PT1H
BEGIN:VTIMEZONE
TZID:UTC
BEGIN:STANDARD
TZOFFSETFROM:+0000
TZOFFSETTO:+0000
TZNAME:UTC
DTSTART:20210101T000000
END:STANDARD
END:VTIMEZONE
BEGIN:VEVENT
DTSTART;TZID=UTC:20230118T103000
DTEND;TZID=UTC:20230118T120000
DTSTAMP:20260425T232344
CREATED:20221231T150450Z
LAST-MODIFIED:20221231T150450Z
UID:3996-1674037800-1674043200@stpauls-rc.co.uk
SUMMARY:Coffee Morning
DESCRIPTION:Coffee and tea will be served in the back room every Wednesday morning following Mass\, which will be celebrated in church at the new time of 10:00am. Please do come and join us.
URL:https://stpauls-rc.co.uk/event/coffee-morning-7/
LOCATION:St. Paul’s RC Church\, Cramlington\, Dewley\, Cramlington\, NE23 6EF\, United Kingdom
END:VEVENT
BEGIN:VEVENT
DTSTART;TZID=UTC:20230114T190000
DTEND;TZID=UTC:20230115T190000
DTSTAMP:20260425T232344
CREATED:20221231T144828Z
LAST-MODIFIED:20221231T144828Z
UID:3984-1673722800-1673809200@stpauls-rc.co.uk
SUMMARY:Book Sale
DESCRIPTION:In the Cafe area of church after Mass on weekends of 14th / 15th and 21st / 22nd January 2023.
URL:https://stpauls-rc.co.uk/event/book-sale/
LOCATION:St. Paul’s RC Church\, Cramlington\, Dewley\, Cramlington\, NE23 6EF\, United Kingdom
END:VEVENT
BEGIN:VEVENT
DTSTART;TZID=UTC:20230114T173000
DTEND;TZID=UTC:20230114T180000
DTSTAMP:20260425T232344
CREATED:20230127T150247Z
LAST-MODIFIED:20230127T150247Z
UID:4166-1673717400-1673719200@stpauls-rc.co.uk
SUMMARY:Rosary & Litany
DESCRIPTION:Will be said at 5:30pm before the 6:00pm evening Mass
URL:https://stpauls-rc.co.uk/event/rosary-litany/
LOCATION:St. Paul’s RC Church\, Cramlington\, Dewley\, Cramlington\, NE23 6EF\, United Kingdom
END:VEVENT
BEGIN:VEVENT
DTSTART;TZID=UTC:20230112T190000
DTEND;TZID=UTC:20230112T200000
DTSTAMP:20260425T232344
CREATED:20221231T144316Z
LAST-MODIFIED:20221231T144341Z
UID:3981-1673550000-1673553600@stpauls-rc.co.uk
SUMMARY:Partnership Mass
DESCRIPTION:Mass in St. Bede’s RC Church Bedlington will be at 7pm tonight to celebrate the Feast of St. Benet Biscop\, our Partnership Patron. Everyone is most welcome to come along and join in the celebration.
URL:https://stpauls-rc.co.uk/event/partnership-mass/
LOCATION:St. Bede’s RC Church\, Bedlington\, NE22 5TZ
END:VEVENT
BEGIN:VEVENT
DTSTART;TZID=UTC:20230111T100000
DTEND;TZID=UTC:20230111T120000
DTSTAMP:20260425T232344
CREATED:20221231T150342Z
LAST-MODIFIED:20221231T150342Z
UID:3994-1673431200-1673438400@stpauls-rc.co.uk
SUMMARY:Coffee Morning
DESCRIPTION:Coffee and tea will be served in the back room every Wednesday morning following Mass\, which will be celebrated in church at the new time of 10:00am. Please do come and join us.
URL:https://stpauls-rc.co.uk/event/coffee-morning-6/
LOCATION:St. Paul’s RC Church\, Cramlington\, Dewley\, Cramlington\, NE23 6EF\, United Kingdom
END:VEVENT
BEGIN:VEVENT
DTSTART;TZID=UTC:20230108T103000
DTEND;TZID=UTC:20230108T120000
DTSTAMP:20260425T232344
CREATED:20221230T205851Z
LAST-MODIFIED:20221230T205857Z
UID:3969-1673173800-1673179200@stpauls-rc.co.uk
SUMMARY:Mass Intention
DESCRIPTION:For the repose of the soul of Christine Turner
URL:https://stpauls-rc.co.uk/event/mass-intention-28/
LOCATION:St. Paul’s RC Church\, Cramlington\, Dewley\, Cramlington\, NE23 6EF\, United Kingdom
END:VEVENT
BEGIN:VEVENT
DTSTART;TZID=UTC:20230105T100000
DTEND;TZID=UTC:20230105T103000
DTSTAMP:20260425T232344
CREATED:20221230T205629Z
LAST-MODIFIED:20221230T205638Z
UID:3967-1672912800-1672914600@stpauls-rc.co.uk
SUMMARY:Mass Intention
DESCRIPTION:For the repose of the soul of Paddy Killen
URL:https://stpauls-rc.co.uk/event/mass-intention-25/
LOCATION:St. Paul’s RC Church\, Cramlington\, Dewley\, Cramlington\, NE23 6EF\, United Kingdom
END:VEVENT
BEGIN:VEVENT
DTSTART;TZID=UTC:20230104T103000
DTEND;TZID=UTC:20230104T120000
DTSTAMP:20260425T232344
CREATED:20221231T150237Z
LAST-MODIFIED:20221231T150237Z
UID:3992-1672828200-1672833600@stpauls-rc.co.uk
SUMMARY:Coffee Morning
DESCRIPTION:Coffee and tea will be served in the back room every Wednesday morning following Mass\, which will be celebrated in church at the new time of 10:00am. Please do come and join us.
URL:https://stpauls-rc.co.uk/event/coffee-morning-5/
LOCATION:St. Paul’s RC Church\, Cramlington\, Dewley\, Cramlington\, NE23 6EF\, United Kingdom
END:VEVENT
BEGIN:VEVENT
DTSTART;TZID=UTC:20221225T100000
DTEND;TZID=UTC:20221225T110000
DTSTAMP:20260425T232344
CREATED:20221210T071929Z
LAST-MODIFIED:20221210T071929Z
UID:3888-1671962400-1671966000@stpauls-rc.co.uk
SUMMARY:Christmas Day Mass
DESCRIPTION:Mass will be celebrated in church at 10:00am
URL:https://stpauls-rc.co.uk/event/christmas-day-mass/
LOCATION:St. Paul’s RC Church\, Cramlington\, Dewley\, Cramlington\, NE23 6EF\, United Kingdom
END:VEVENT
BEGIN:VEVENT
DTSTART;TZID=UTC:20221225T093000
DTEND;TZID=UTC:20221225T103000
DTSTAMP:20260425T232344
CREATED:20221210T072326Z
LAST-MODIFIED:20221210T072346Z
UID:3892-1671960600-1671964200@stpauls-rc.co.uk
SUMMARY:Christmas Day Mass
DESCRIPTION:Mass at 9:30am at St. John the Baptist\, Annitsford
URL:https://stpauls-rc.co.uk/event/christmas-day-mass-2/
LOCATION:St. John the Baptist RC Church\, Annitsford\, United Kingdom
END:VEVENT
BEGIN:VEVENT
DTSTART;TZID=UTC:20221224T233000
DTEND;TZID=UTC:20221225T233000
DTSTAMP:20260425T232344
CREATED:20221210T072143Z
LAST-MODIFIED:20221210T072143Z
UID:3890-1671924600-1672011000@stpauls-rc.co.uk
SUMMARY:Carols and Christmas Vigil Mass
DESCRIPTION:Carols at 11.30pm followed by Mass at Midnight at St. John’s Annitsford
URL:https://stpauls-rc.co.uk/event/carols-and-christmas-vigil-mass-2/
LOCATION:St. John the Baptist RC Church\, Annitsford\, United Kingdom
END:VEVENT
BEGIN:VEVENT
DTSTART;TZID=UTC:20221224T183000
DTEND;TZID=UTC:20221224T203000
DTSTAMP:20260425T232344
CREATED:20221210T071809Z
LAST-MODIFIED:20221210T071809Z
UID:3886-1671906600-1671913800@stpauls-rc.co.uk
SUMMARY:Carols and Christmas Vigil Mass
DESCRIPTION:Carols fro 6:30pm followed by Mass at 7:00pm
URL:https://stpauls-rc.co.uk/event/carols-and-christmas-vigil-mass/
LOCATION:St. Paul’s RC Church\, Cramlington\, Dewley\, Cramlington\, NE23 6EF\, United Kingdom
END:VEVENT
BEGIN:VEVENT
DTSTART;TZID=UTC:20221222T140000
DTEND;TZID=UTC:20221222T160000
DTSTAMP:20260425T232344
CREATED:20221210T071613Z
LAST-MODIFIED:20221216T221805Z
UID:3884-1671717600-1671724800@stpauls-rc.co.uk
SUMMARY:Reconciliation
DESCRIPTION:Reconciliation Service in church from 2:00pm until 4:00pm.
URL:https://stpauls-rc.co.uk/event/reconciliation/
LOCATION:St. Paul’s RC Church\, Cramlington\, Dewley\, Cramlington\, NE23 6EF\, United Kingdom
END:VEVENT
BEGIN:VEVENT
DTSTART;TZID=UTC:20221220T133000
DTEND;TZID=UTC:20221220T150000
DTSTAMP:20260425T232344
CREATED:20221210T071420Z
LAST-MODIFIED:20221210T071420Z
UID:3881-1671543000-1671548400@stpauls-rc.co.uk
SUMMARY:School Carol Service
DESCRIPTION:St. Peter & St. Paul’s School Carol Service for Year 4 will be held in church commencing at 1:30pm
URL:https://stpauls-rc.co.uk/event/school-carol-service-2/
LOCATION:St. Paul’s RC Church\, Cramlington\, Dewley\, Cramlington\, NE23 6EF\, United Kingdom
END:VEVENT
BEGIN:VEVENT
DTSTART;TZID=UTC:20221218T103000
DTEND;TZID=UTC:20221218T120000
DTSTAMP:20260425T232344
CREATED:20221216T221350Z
LAST-MODIFIED:20221216T221615Z
UID:3922-1671359400-1671364800@stpauls-rc.co.uk
SUMMARY:Mass Intention
DESCRIPTION:Mass today will be celebrated for the repose of the souls of John & Veronica Hislop.
URL:https://stpauls-rc.co.uk/event/mass-intention-27/
LOCATION:St. Paul’s RC Church\, Cramlington\, Dewley\, Cramlington\, NE23 6EF\, United Kingdom
END:VEVENT
BEGIN:VEVENT
DTSTART;TZID=UTC:20221217T180000
DTEND;TZID=UTC:20221217T190000
DTSTAMP:20260425T232344
CREATED:20221216T221144Z
LAST-MODIFIED:20221216T221144Z
UID:3920-1671300000-1671303600@stpauls-rc.co.uk
SUMMARY:Mass Intention
DESCRIPTION:Mass today will be celebrated for the repose of the soul of Paul Battersby.
URL:https://stpauls-rc.co.uk/event/mass-intention-26/
LOCATION:St. Paul’s RC Church\, Cramlington\, Dewley\, Cramlington\, NE23 6EF\, United Kingdom
END:VEVENT
BEGIN:VEVENT
DTSTART;TZID=UTC:20221216T133000
DTEND;TZID=UTC:20221216T150000
DTSTAMP:20260425T232344
CREATED:20221210T071314Z
LAST-MODIFIED:20221210T071314Z
UID:3879-1671197400-1671202800@stpauls-rc.co.uk
SUMMARY:School Carol Service
DESCRIPTION:St. Peter & St. Paul’s School Carol Service for Years 3-5 will be held in church commencing at 1:30pm
URL:https://stpauls-rc.co.uk/event/school-carol-service/
LOCATION:St. Paul’s RC Church\, Cramlington\, Dewley\, Cramlington\, NE23 6EF\, United Kingdom
END:VEVENT
BEGIN:VEVENT
DTSTART;TZID=UTC:20221215T093000
DTEND;TZID=UTC:20221215T103000
DTSTAMP:20260425T232344
CREATED:20221210T071018Z
LAST-MODIFIED:20221210T072733Z
UID:3877-1671096600-1671100200@stpauls-rc.co.uk
SUMMARY:Requiem Mass
DESCRIPTION:Today’s Mass will be the Requiem Mass for the repose of the soul of Vincent Slaven
URL:https://stpauls-rc.co.uk/event/requiem-mass/
LOCATION:St. Paul’s RC Church\, Cramlington\, Dewley\, Cramlington\, NE23 6EF\, United Kingdom
END:VEVENT
BEGIN:VEVENT
DTSTART;TZID=UTC:20221214T100000
DTEND;TZID=UTC:20221214T103000
DTSTAMP:20260425T232344
CREATED:20221210T070709Z
LAST-MODIFIED:20221210T070709Z
UID:3873-1671012000-1671013800@stpauls-rc.co.uk
SUMMARY:Mass Intention
DESCRIPTION:Today’s Mass will be celebrated for the repose of the soul of  Harold Turner
URL:https://stpauls-rc.co.uk/event/mass-intention-24/
LOCATION:St. Paul’s RC Church\, Cramlington\, Dewley\, Cramlington\, NE23 6EF\, United Kingdom
END:VEVENT
BEGIN:VEVENT
DTSTART;TZID=UTC:20221127T113000
DTEND;TZID=UTC:20221127T120000
DTSTAMP:20260425T232344
CREATED:20221015T195741Z
LAST-MODIFIED:20221028T131807Z
UID:3541-1669548600-1669550400@stpauls-rc.co.uk
SUMMARY:PPC Elections
DESCRIPTION:Election of members to St. Paul’s Parish Pastoral Council will take place today.
URL:https://stpauls-rc.co.uk/event/ppc-elections/
LOCATION:St. Paul’s RC Church\, Cramlington\, Dewley\, Cramlington\, NE23 6EF\, United Kingdom
END:VEVENT
BEGIN:VEVENT
DTSTART;TZID=UTC:20221119T190000
DTEND;TZID=UTC:20221119T193000
DTSTAMP:20260425T232344
CREATED:20221021T111653Z
LAST-MODIFIED:20221021T111653Z
UID:3563-1668884400-1668886200@stpauls-rc.co.uk
SUMMARY:Christmas Raffle Draw
DESCRIPTION:This will be drawn after the Sunday Vigil Mass on Saturday 19th November.
URL:https://stpauls-rc.co.uk/event/christmas-raffle-draw/
LOCATION:St. Paul’s RC Church\, Cramlington\, Dewley\, Cramlington\, NE23 6EF\, United Kingdom
END:VEVENT
BEGIN:VEVENT
DTSTART;TZID=UTC:20221117T190000
DTEND;TZID=UTC:20221117T193000
DTSTAMP:20260425T232344
CREATED:20221112T121454Z
LAST-MODIFIED:20221113T142520Z
UID:3769-1668711600-1668713400@stpauls-rc.co.uk
SUMMARY:Mass Intention
DESCRIPTION:Today’s Mass will be celebrated for Mary and Bill Smith.
URL:https://stpauls-rc.co.uk/event/mass-intention-23/
LOCATION:St. Paul’s RC Church\, Cramlington\, Dewley\, Cramlington\, NE23 6EF\, United Kingdom
END:VEVENT
BEGIN:VEVENT
DTSTART;TZID=UTC:20221117T190000
DTEND;TZID=UTC:20221117T193000
DTSTAMP:20260425T232344
CREATED:20221112T121245Z
LAST-MODIFIED:20221112T121245Z
UID:3767-1668711600-1668713400@stpauls-rc.co.uk
SUMMARY:Change in Mass Time
DESCRIPTION:Mass today\, Thursday 17th November 2022 will be celebrated at 7:00pm and not the usual 10:00am.
URL:https://stpauls-rc.co.uk/event/change-in-mass-time-2/
LOCATION:St. Paul’s RC Church\, Cramlington\, Dewley\, Cramlington\, NE23 6EF\, United Kingdom
END:VEVENT
BEGIN:VEVENT
DTSTART;TZID=UTC:20221111T100000
DTEND;TZID=UTC:20221111T103000
DTSTAMP:20260425T232344
CREATED:20221106T230352Z
LAST-MODIFIED:20221106T230352Z
UID:3721-1668160800-1668162600@stpauls-rc.co.uk
SUMMARY:Armistice / Remembrance Day
DESCRIPTION:An additional Mass will be celebrated at 10:00am in church with the whole of St. Peter & St. Paul’s School children in attendance.
URL:https://stpauls-rc.co.uk/event/armistice-remembrance-day/
LOCATION:St. Paul’s RC Church\, Cramlington\, Dewley\, Cramlington\, NE23 6EF\, United Kingdom
END:VEVENT
BEGIN:VEVENT
DTSTART;TZID=UTC:20221110T100000
DTEND;TZID=UTC:20221110T103000
DTSTAMP:20260425T232344
CREATED:20221106T230532Z
LAST-MODIFIED:20221106T230532Z
UID:3723-1668074400-1668076200@stpauls-rc.co.uk
SUMMARY:Daily Mass
DESCRIPTION:Year 3 of St. Peter & St. Paul’s School will be in attendance at Mass today.
URL:https://stpauls-rc.co.uk/event/daily-mass/
LOCATION:St. Paul’s RC Church\, Cramlington\, Dewley\, Cramlington\, NE23 6EF\, United Kingdom
END:VEVENT
BEGIN:VEVENT
DTSTART;TZID=UTC:20221103T100000
DTEND;TZID=UTC:20221103T103000
DTSTAMP:20260425T232344
CREATED:20221028T131258Z
LAST-MODIFIED:20221028T131258Z
UID:3676-1667469600-1667471400@stpauls-rc.co.uk
SUMMARY:Mass Intentions
DESCRIPTION:Mass  will be celebrated today for the Repose of the Souls of John Waterworth and Steve Swietlik.
URL:https://stpauls-rc.co.uk/event/mass-intentions-2/
LOCATION:St. Paul’s RC Church\, Cramlington\, Dewley\, Cramlington\, NE23 6EF\, United Kingdom
END:VEVENT
BEGIN:VEVENT
DTSTART;TZID=UTC:20221102T190000
DTEND;TZID=UTC:20221102T193000
DTSTAMP:20260425T232344
CREATED:20221028T132935Z
LAST-MODIFIED:20221028T132935Z
UID:3682-1667415600-1667417400@stpauls-rc.co.uk
SUMMARY:Change of Mass Time
DESCRIPTION:Today is the Feast of All Souls and Mass will be celebrated at St. Paul’s at 7:00pm in the evening instead of the usual 10:00am. \nThis will enable Mass to be celebrated at St. John’s Annitsford at 10:00am followed by the Blessing of the Graves.
URL:https://stpauls-rc.co.uk/event/change-of-mass-time/
LOCATION:St. Paul’s RC Church\, Cramlington\, Dewley\, Cramlington\, NE23 6EF\, United Kingdom
END:VEVENT
BEGIN:VEVENT
DTSTART;TZID=UTC:20221101T190000
DTEND;TZID=UTC:20221101T193000
DTSTAMP:20260425T232344
CREATED:20221023T194242Z
LAST-MODIFIED:20221028T133113Z
UID:3590-1667329200-1667331000@stpauls-rc.co.uk
SUMMARY:Feast of All Saints
DESCRIPTION:Tuesday 1st November is a Holy Day of Obligation. An additional Mass will be celebrated in the evening at St. Paul’s at 7pm.
URL:https://stpauls-rc.co.uk/event/feast-of-all-saints/
LOCATION:St. Paul’s RC Church\, Cramlington\, Dewley\, Cramlington\, NE23 6EF\, United Kingdom
END:VEVENT
BEGIN:VEVENT
DTSTART;TZID=UTC:20221101T080000
DTEND;TZID=UTC:20221101T170000
DTSTAMP:20260425T232344
CREATED:20221028T132705Z
LAST-MODIFIED:20221028T132705Z
UID:3680-1667289600-1667322000@stpauls-rc.co.uk
SUMMARY:Celebration of Mass
DESCRIPTION:Today is aHoly Day of Obligation and an additional Mass will be celebrated at St. Paul’s at 7:00pm in the evening.
URL:https://stpauls-rc.co.uk/event/celebration-of-mass/
LOCATION:St. Paul’s RC Church\, Cramlington\, Dewley\, Cramlington\, NE23 6EF\, United Kingdom
END:VEVENT
BEGIN:VEVENT
DTSTART;VALUE=DATE:20221101
DTEND;VALUE=DATE:20221102
DTSTAMP:20260425T232344
CREATED:20221015T200257Z
LAST-MODIFIED:20221015T200257Z
UID:3544-1667260800-1667347199@stpauls-rc.co.uk
SUMMARY:Month of Remembrance
DESCRIPTION:November is the month for remembering our loved ones who have gone before us. \nLet us remember them in our prayers.
URL:https://stpauls-rc.co.uk/event/month-of-remembrance/
LOCATION:St. Paul’s RC Church\, Cramlington\, Dewley\, Cramlington\, NE23 6EF\, United Kingdom
END:VEVENT
END:VCALENDAR