BEGIN:VCALENDAR
VERSION:2.0
PRODID:-//St. Paul&#039;s Cramlington - ECPv6.15.11//NONSGML v1.0//EN
CALSCALE:GREGORIAN
METHOD:PUBLISH
X-WR-CALNAME:St. Paul&#039;s Cramlington
X-ORIGINAL-URL:https://stpauls-rc.co.uk
X-WR-CALDESC:Events for St. Paul&#039;s Cramlington
REFRESH-INTERVAL;VALUE=DURATION:PT1H
X-Robots-Tag:noindex
X-PUBLISHED-TTL:PT1H
BEGIN:VTIMEZONE
TZID:UTC
BEGIN:STANDARD
TZOFFSETFROM:+0000
TZOFFSETTO:+0000
TZNAME:UTC
DTSTART:20220101T000000
END:STANDARD
END:VTIMEZONE
BEGIN:VEVENT
DTSTART;TZID=UTC:20230525T190000
DTEND;TZID=UTC:20230525T203000
DTSTAMP:20260425T143657
CREATED:20230524T062808Z
LAST-MODIFIED:20230524T062808Z
UID:4574-1685041200-1685046600@stpauls-rc.co.uk
SUMMARY:St. Benet Bishop Partnership Spirituality Group
DESCRIPTION:You are warmly invited to a service of preparation for Pentecost at Our Lady & St Joseph’s New Hartley on Thursday 25th May 7pm. Followed by light refreshments.
URL:https://stpauls-rc.co.uk/event/st-benet-bishop-partnership-spirituality-group/
END:VEVENT
BEGIN:VEVENT
DTSTART;TZID=UTC:20230517T100000
DTEND;TZID=UTC:20230517T223000
DTSTAMP:20260425T143657
CREATED:20230513T094938Z
LAST-MODIFIED:20230513T094938Z
UID:4545-1684317600-1684362600@stpauls-rc.co.uk
SUMMARY:Mass Intention
DESCRIPTION:Mass will be celebrated for the repose of the soul of Sr. Mary Paul
URL:https://stpauls-rc.co.uk/event/mass-intention-38/
LOCATION:St. Paul’s RC Church\, Cramlington\, Dewley\, Cramlington\, NE23 6EF\, United Kingdom
END:VEVENT
BEGIN:VEVENT
DTSTART;TZID=UTC:20230513T133000
DTEND;TZID=UTC:20230513T193000
DTSTAMP:20260425T143657
CREATED:20230415T104524Z
LAST-MODIFIED:20230415T104524Z
UID:4489-1683984600-1684006200@stpauls-rc.co.uk
SUMMARY:Day of Prayer
DESCRIPTION:A day of prayer with the following schedule: \n13:30 Welcome  – 13:40. Rosary for World Peace – 14:25 Fatima Film and Talk – 15:30 Break for Tea / Coffee – 16:45  Holy Hour and Reconciliation – 17:40 Short Welcome – 17:45 Procession with Fatima Statue – 18:00 Vigil Mass – 18:45 Tea / Coffee & Close
URL:https://stpauls-rc.co.uk/event/day-of-prayer/
LOCATION:St. Paul’s RC Church\, Cramlington\, Dewley\, Cramlington\, NE23 6EF\, United Kingdom
END:VEVENT
BEGIN:VEVENT
DTSTART;TZID=UTC:20230506T133000
DTEND;TZID=UTC:20230506T193000
DTSTAMP:20260425T143657
CREATED:20230415T103711Z
LAST-MODIFIED:20230513T094753Z
UID:4478-1683379800-1683401400@stpauls-rc.co.uk
SUMMARY:Five Saturdays Devotion
DESCRIPTION:The first of five Saturdays Devotion: Starting at 1:30pm with Rosary from 3:45  – 4:25\, Meditation for 15 minutes\, 4:25 – 4:40\, then Adoration / Confession from 4:40 – 5:40 and end with the usual 6:00pm Mass.
URL:https://stpauls-rc.co.uk/event/five-saturdays-devotion/
LOCATION:St. Paul’s RC Church\, Cramlington\, Dewley\, Cramlington\, NE23 6EF\, United Kingdom
END:VEVENT
BEGIN:VEVENT
DTSTART;TZID=UTC:20230503T180000
DTEND;TZID=UTC:20230503T193000
DTSTAMP:20260425T143657
CREATED:20230415T104829Z
LAST-MODIFIED:20230415T104829Z
UID:4491-1683136800-1683142200@stpauls-rc.co.uk
SUMMARY:Reconciliation Service
DESCRIPTION:will take place in St. Paul’s Church at 6pm followed by Mass for children\, parents and parishioners of both parishes at 7pm. This is a changed date from Wed. 26 April 2023.
URL:https://stpauls-rc.co.uk/event/reconciliation-service/
LOCATION:St. Paul’s RC Church\, Cramlington\, Dewley\, Cramlington\, NE23 6EF\, United Kingdom
END:VEVENT
BEGIN:VEVENT
DTSTART;TZID=UTC:20230427T183000
DTEND;TZID=UTC:20230427T193000
DTSTAMP:20260425T143657
CREATED:20230415T102726Z
LAST-MODIFIED:20230415T102726Z
UID:4470-1682620200-1682623800@stpauls-rc.co.uk
SUMMARY:FILM: Fatima\, The Ultimate Mystery
DESCRIPTION:Will commence at 6:30pm
URL:https://stpauls-rc.co.uk/event/film-fatima-the-ultimate-mystery/
LOCATION:St. Paul’s RC Church\, Cramlington\, Dewley\, Cramlington\, NE23 6EF\, United Kingdom
END:VEVENT
BEGIN:VEVENT
DTSTART;TZID=UTC:20230426T080000
DTEND;TZID=UTC:20230426T170000
DTSTAMP:20260425T143657
CREATED:20230415T105231Z
LAST-MODIFIED:20230415T105400Z
UID:4497-1682496000-1682528400@stpauls-rc.co.uk
SUMMARY:Coffee Morning
DESCRIPTION:in the Back Room after 10:00am Mass
URL:https://stpauls-rc.co.uk/event/coffee-morning-16/
LOCATION:St. Paul’s RC Church\, Cramlington\, Dewley\, Cramlington\, NE23 6EF\, United Kingdom
END:VEVENT
BEGIN:VEVENT
DTSTART;TZID=UTC:20230423T103000
DTEND;TZID=UTC:20230423T120000
DTSTAMP:20260425T143657
CREATED:20230415T103459Z
LAST-MODIFIED:20230415T103459Z
UID:4476-1682245800-1682251200@stpauls-rc.co.uk
SUMMARY:Film and Talk
DESCRIPTION:There will be a 2 minute Talk and 6 minute Film after 10:45am Mass today.
URL:https://stpauls-rc.co.uk/event/film-and-talk/
LOCATION:St. Paul’s RC Church\, Cramlington\, Dewley\, Cramlington\, NE23 6EF\, United Kingdom
END:VEVENT
BEGIN:VEVENT
DTSTART;TZID=UTC:20230422T180000
DTEND;TZID=UTC:20230422T190000
DTSTAMP:20260425T143657
CREATED:20230415T103334Z
LAST-MODIFIED:20230415T103334Z
UID:4474-1682186400-1682190000@stpauls-rc.co.uk
SUMMARY:Talk and Film
DESCRIPTION:There will be a 2 minute Talk and 6 minute Film after 6:00pm Mass today.
URL:https://stpauls-rc.co.uk/event/talk-and-film/
LOCATION:St. Paul’s RC Church\, Cramlington\, Dewley\, Cramlington\, NE23 6EF\, United Kingdom
END:VEVENT
BEGIN:VEVENT
DTSTART;TZID=UTC:20230419T100000
DTEND;TZID=UTC:20230419T113000
DTSTAMP:20260425T143657
CREATED:20230415T105145Z
LAST-MODIFIED:20230415T105145Z
UID:4495-1681898400-1681903800@stpauls-rc.co.uk
SUMMARY:Coffee Morning
DESCRIPTION:in the Back Room after 10:00am Mass
URL:https://stpauls-rc.co.uk/event/coffee-morning-15/
LOCATION:St. Paul’s RC Church\, Cramlington\, Dewley\, Cramlington\, NE23 6EF\, United Kingdom
END:VEVENT
BEGIN:VEVENT
DTSTART;TZID=UTC:20230416T103000
DTEND;TZID=UTC:20230416T120000
DTSTAMP:20260425T143657
CREATED:20230415T101926Z
LAST-MODIFIED:20230415T101926Z
UID:4466-1681641000-1681646400@stpauls-rc.co.uk
SUMMARY:Mass Intention
DESCRIPTION:10:45 am Mass today will be celebrated for the repose of the souls of John & Veronica Heslop\, RIP.
URL:https://stpauls-rc.co.uk/event/mass-intention-36/
LOCATION:St. Paul’s RC Church\, Cramlington\, Dewley\, Cramlington\, NE23 6EF\, United Kingdom
END:VEVENT
BEGIN:VEVENT
DTSTART;TZID=UTC:20230415T080000
DTEND;TZID=UTC:20230415T170000
DTSTAMP:20260425T143657
CREATED:20230415T103113Z
LAST-MODIFIED:20230415T103113Z
UID:4472-1681545600-1681578000@stpauls-rc.co.uk
SUMMARY:Ordination Anniversary Mass
DESCRIPTION:Mass will be at 7:00pm today celebrating Fr. Manoj’s 25th Anniversary of his Ordination to the Priesthood. \nThere will be a Buffet and Wine afterwards to which you are invited to attend to join Fr. Manoj in his celebration.
URL:https://stpauls-rc.co.uk/event/ordination-anniversary-mass/
END:VEVENT
BEGIN:VEVENT
DTSTART;TZID=UTC:20230412T100000
DTEND;TZID=UTC:20230412T113000
DTSTAMP:20260425T143657
CREATED:20230415T105041Z
LAST-MODIFIED:20230415T105041Z
UID:4493-1681293600-1681299000@stpauls-rc.co.uk
SUMMARY:Coffee Morning
DESCRIPTION:in the Back Room after 10:00am Mass
URL:https://stpauls-rc.co.uk/event/coffee-morning-14/
LOCATION:St. Paul’s RC Church\, Cramlington\, Dewley\, Cramlington\, NE23 6EF\, United Kingdom
END:VEVENT
BEGIN:VEVENT
DTSTART;TZID=UTC:20230409T060000
DTEND;TZID=UTC:20230409T070000
DTSTAMP:20260425T143657
CREATED:20230310T170357Z
LAST-MODIFIED:20230310T170523Z
UID:4301-1681020000-1681023600@stpauls-rc.co.uk
SUMMARY:Easter Sunday Morning Celebration
DESCRIPTION:Cramlington Churches Together to meet at 6:00am in South Beach Car Park\, Blyth then proceed onto the beach to see the sunrise at 6:19am to celebrate Jesus’ Resurrection from the dead.
URL:https://stpauls-rc.co.uk/event/easter-sunday-morning-sunrise/
END:VEVENT
BEGIN:VEVENT
DTSTART;TZID=UTC:20230407T110000
DTEND;TZID=UTC:20230407T123000
DTSTAMP:20260425T143657
CREATED:20230310T165940Z
LAST-MODIFIED:20230310T171739Z
UID:4298-1680865200-1680870600@stpauls-rc.co.uk
SUMMARY:GOOD FRIDAY:    Carrying of the Crosses to the Hill
DESCRIPTION:Cramlington Churches Together to meet at 11:15am in Seven Oaks Park then proceed via Sainsbury entrance opposite\, through The Mall turning left at Lloyds Bank exiting The Mall adjacent to Hays Travel then through Car Park to The Hill adjacent to Sainsbury’s Petrol Station where the 3 Crosses will be erected on top of The Hill with a short service of prayers and songs. The 3 Crosses will remain on The Hill as a symbol for a week.
URL:https://stpauls-rc.co.uk/event/carrying-of-the-crosses-to-the-hill/
END:VEVENT
BEGIN:VEVENT
DTSTART;TZID=UTC:20230407T100000
DTEND;TZID=UTC:20230407T103000
DTSTAMP:20260425T143657
CREATED:20230310T164643Z
LAST-MODIFIED:20230310T171510Z
UID:4296-1680861600-1680863400@stpauls-rc.co.uk
SUMMARY:GOOD FRIDAY:       Stations of the Cross
DESCRIPTION:Recited in church
URL:https://stpauls-rc.co.uk/event/stations-of-the-cross-5/
LOCATION:St. Paul’s RC Church\, Cramlington\, Dewley\, Cramlington\, NE23 6EF\, United Kingdom
END:VEVENT
BEGIN:VEVENT
DTSTART;TZID=UTC:20230401T180000
DTEND;TZID=UTC:20230401T190000
DTSTAMP:20260425T143657
CREATED:20230415T102156Z
LAST-MODIFIED:20230415T102228Z
UID:4468-1680372000-1680375600@stpauls-rc.co.uk
SUMMARY:Mass Intention
DESCRIPTION:6:00 pm Mass today will be celebrated for the repose of the souls of Billy\, Freda & Kevin Bell\, RIP.
URL:https://stpauls-rc.co.uk/event/mass-intention-37/
LOCATION:St. Paul’s RC Church\, Cramlington\, Dewley\, Cramlington\, NE23 6EF\, United Kingdom
END:VEVENT
BEGIN:VEVENT
DTSTART;TZID=UTC:20230331T100000
DTEND;TZID=UTC:20230331T103000
DTSTAMP:20260425T143657
CREATED:20230310T164520Z
LAST-MODIFIED:20230310T164520Z
UID:4294-1680256800-1680258600@stpauls-rc.co.uk
SUMMARY:Stations of the Cross
DESCRIPTION:Recited in church
URL:https://stpauls-rc.co.uk/event/stations-of-the-cross-4/
LOCATION:St. Paul’s RC Church\, Cramlington\, Dewley\, Cramlington\, NE23 6EF\, United Kingdom
END:VEVENT
BEGIN:VEVENT
DTSTART;TZID=UTC:20230324T100000
DTEND;TZID=UTC:20230324T103000
DTSTAMP:20260425T143657
CREATED:20230310T164421Z
LAST-MODIFIED:20230310T164421Z
UID:4292-1679652000-1679653800@stpauls-rc.co.uk
SUMMARY:Stations of the Cross
DESCRIPTION:Recited in church
URL:https://stpauls-rc.co.uk/event/stations-of-the-cross-3/
LOCATION:St. Paul’s RC Church\, Cramlington\, Dewley\, Cramlington\, NE23 6EF\, United Kingdom
END:VEVENT
BEGIN:VEVENT
DTSTART;TZID=UTC:20230322T190000
DTEND;TZID=UTC:20230322T203000
DTSTAMP:20260425T143657
CREATED:20230310T172125Z
LAST-MODIFIED:20230310T172125Z
UID:4316-1679511600-1679517000@stpauls-rc.co.uk
SUMMARY:Fatima Centre Event
DESCRIPTION:A talk on “The History of the Rosary” will be held in church commencing at 7:00pm.
URL:https://stpauls-rc.co.uk/event/fatima-centre-event/
LOCATION:St. Paul’s RC Church\, Cramlington\, Dewley\, Cramlington\, NE23 6EF\, United Kingdom
END:VEVENT
BEGIN:VEVENT
DTSTART;TZID=UTC:20230322T103000
DTEND;TZID=UTC:20230322T233000
DTSTAMP:20260425T143657
CREATED:20230317T153113Z
LAST-MODIFIED:20230317T153128Z
UID:4339-1679481000-1679527800@stpauls-rc.co.uk
SUMMARY:Coffee Morning
DESCRIPTION:In the Back Room after the 10:00am Mass
URL:https://stpauls-rc.co.uk/event/coffee-morning-13/
LOCATION:St. Paul’s RC Church\, Cramlington\, Dewley\, Cramlington\, NE23 6EF\, United Kingdom
END:VEVENT
BEGIN:VEVENT
DTSTART;TZID=UTC:20230322T100000
DTEND;TZID=UTC:20230322T103000
DTSTAMP:20260425T143657
CREATED:20230310T163518Z
LAST-MODIFIED:20230317T152811Z
UID:4284-1679479200-1679481000@stpauls-rc.co.uk
SUMMARY:Mass Intention
DESCRIPTION:Mass will be celebrated for Kay Hazelwood
URL:https://stpauls-rc.co.uk/event/mass-intention-34/
LOCATION:St. Paul’s RC Church\, Cramlington\, Dewley\, Cramlington\, NE23 6EF\, United Kingdom
END:VEVENT
BEGIN:VEVENT
DTSTART;TZID=UTC:20230317T100000
DTEND;TZID=UTC:20230317T103000
DTSTAMP:20260425T143657
CREATED:20230310T163857Z
LAST-MODIFIED:20230310T163857Z
UID:4290-1679047200-1679049000@stpauls-rc.co.uk
SUMMARY:Stations of the Cross
DESCRIPTION:Recited in church
URL:https://stpauls-rc.co.uk/event/stations-of-the-cross-2/
LOCATION:St. Paul’s RC Church\, Cramlington\, Dewley\, Cramlington\, NE23 6EF\, United Kingdom
END:VEVENT
BEGIN:VEVENT
DTSTART;TZID=UTC:20230316T193000
DTEND;TZID=UTC:20230316T230000
DTSTAMP:20260425T143657
CREATED:20230310T163116Z
LAST-MODIFIED:20230310T164218Z
UID:4280-1678995000-1679007600@stpauls-rc.co.uk
SUMMARY:St. Patrick's Night
DESCRIPTION:St. Patrick’s Night Pie and Pea Supper to be held on 16th March from 7:30pm with music\, Irish bingo (anything goes!) and some fun games all for £6.00. Venue is EAST HARTFORD COMMUNITY CENTRE\, NE23 3AP. Please contact any member of the Social Group\, send an email to webmaster@stpauls-rc.co.uk or leave your message here with your name and contact number if you wish to get a ticket to come along. \n \n 
URL:https://stpauls-rc.co.uk/event/st-patricks-night/
END:VEVENT
BEGIN:VEVENT
DTSTART;TZID=UTC:20230316T190000
DTEND;TZID=UTC:20230316T203000
DTSTAMP:20260425T143657
CREATED:20230310T172341Z
LAST-MODIFIED:20230310T172341Z
UID:4318-1678993200-1678998600@stpauls-rc.co.uk
SUMMARY:Spiritual Nurturing and Formation Group
DESCRIPTION:will meet at 7pm in the Back Room and the theme will be Lent based
URL:https://stpauls-rc.co.uk/event/spiritual-nurturing-and-formation-group-2/
LOCATION:St. Paul’s RC Church\, Cramlington\, Dewley\, Cramlington\, NE23 6EF\, United Kingdom
END:VEVENT
BEGIN:VEVENT
DTSTART;TZID=UTC:20230316T100000
DTEND;TZID=UTC:20230316T103000
DTSTAMP:20260425T143657
CREATED:20230310T163651Z
LAST-MODIFIED:20230310T163651Z
UID:4286-1678960800-1678962600@stpauls-rc.co.uk
SUMMARY:School Mass
DESCRIPTION:Mass will be celebrated with Year 4 in attendance
URL:https://stpauls-rc.co.uk/event/school-mass-2/
LOCATION:St. Paul’s RC Church\, Cramlington\, Dewley\, Cramlington\, NE23 6EF\, United Kingdom
END:VEVENT
BEGIN:VEVENT
DTSTART;TZID=UTC:20230315T103000
DTEND;TZID=UTC:20230315T113000
DTSTAMP:20260425T143657
CREATED:20230310T172510Z
LAST-MODIFIED:20230310T172510Z
UID:4320-1678876200-1678879800@stpauls-rc.co.uk
SUMMARY:Coffee Morning
DESCRIPTION:in the Back Room after 10:00am Mass
URL:https://stpauls-rc.co.uk/event/coffee-morning-10/
LOCATION:St. Paul’s RC Church\, Cramlington\, Dewley\, Cramlington\, NE23 6EF\, United Kingdom
END:VEVENT
BEGIN:VEVENT
DTSTART;TZID=UTC:20230312T103000
DTEND;TZID=UTC:20230312T120000
DTSTAMP:20260425T143657
CREATED:20230310T163321Z
LAST-MODIFIED:20230310T163321Z
UID:4282-1678617000-1678622400@stpauls-rc.co.uk
SUMMARY:Mass Intention
DESCRIPTION:Mass will be celebrated today for Madelaine Vaccarzzzie
URL:https://stpauls-rc.co.uk/event/mass-intention-33/
LOCATION:St. Paul’s RC Church\, Cramlington\, Dewley\, Cramlington\, NE23 6EF\, United Kingdom
END:VEVENT
BEGIN:VEVENT
DTSTART;TZID=UTC:20230311T180000
DTEND;TZID=UTC:20230311T190000
DTSTAMP:20260425T143657
CREATED:20230312T082534Z
LAST-MODIFIED:20230312T082534Z
UID:4328-1678557600-1678561200@stpauls-rc.co.uk
SUMMARY:Mass Intention
DESCRIPTION:Mass will be celebrated for the repose of the soul of Stanley Ford\, John’s father\, Claire’s father-in-law and Rebecca’s grandfather\, whose 10th Anniversary occurs this weekend
URL:https://stpauls-rc.co.uk/event/mass-intention-35/
LOCATION:St. Paul’s RC Church\, Cramlington\, Dewley\, Cramlington\, NE23 6EF\, United Kingdom
END:VEVENT
BEGIN:VEVENT
DTSTART;TZID=UTC:20230310T100000
DTEND;TZID=UTC:20230310T103000
DTSTAMP:20260425T143657
CREATED:20230310T163806Z
LAST-MODIFIED:20230310T163806Z
UID:4288-1678442400-1678444200@stpauls-rc.co.uk
SUMMARY:Stations of the Cross
DESCRIPTION:Recited in church
URL:https://stpauls-rc.co.uk/event/stations-of-the-cross/
LOCATION:St. Paul’s RC Church\, Cramlington\, Dewley\, Cramlington\, NE23 6EF\, United Kingdom
END:VEVENT
END:VCALENDAR