BEGIN:VCALENDAR
VERSION:2.0
PRODID:-//St. Paul&#039;s Cramlington - ECPv6.15.11//NONSGML v1.0//EN
CALSCALE:GREGORIAN
METHOD:PUBLISH
X-WR-CALNAME:St. Paul&#039;s Cramlington
X-ORIGINAL-URL:https://stpauls-rc.co.uk
X-WR-CALDESC:Events for St. Paul&#039;s Cramlington
REFRESH-INTERVAL;VALUE=DURATION:PT1H
X-Robots-Tag:noindex
X-PUBLISHED-TTL:PT1H
BEGIN:VTIMEZONE
TZID:UTC
BEGIN:STANDARD
TZOFFSETFROM:+0000
TZOFFSETTO:+0000
TZNAME:UTC
DTSTART:20220101T000000
END:STANDARD
END:VTIMEZONE
BEGIN:VEVENT
DTSTART;TZID=UTC:20231130T103000
DTEND;TZID=UTC:20231130T113000
DTSTAMP:20260425T114149
CREATED:20231110T121321Z
LAST-MODIFIED:20231110T121321Z
UID:5310-1701340200-1701343800@stpauls-rc.co.uk
SUMMARY:Requiem Mass
DESCRIPTION:A Requiem Mass at 10:30am today  will be celebrated for the life of Cicely Pulman who died on Friday 3rd November. Please remember Cicely and her family in your prayers.
URL:https://stpauls-rc.co.uk/event/requiem-mass-5/
LOCATION:St. Paul’s RC Church\, Cramlington\, Dewley\, Cramlington\, NE23 6EF\, United Kingdom
END:VEVENT
BEGIN:VEVENT
DTSTART;TZID=UTC:20231125T190000
DTEND;TZID=UTC:20231125T193000
DTSTAMP:20260425T114149
CREATED:20231013T154800Z
LAST-MODIFIED:20231013T154800Z
UID:5268-1700938800-1700940600@stpauls-rc.co.uk
SUMMARY:Christmas Raffle
DESCRIPTION:The raffle will be drawn on Saturday 25th November and your help in selling tickets would again be very helpful. Tickets available from the 14th October and donations of prizes welcomed.  Thanks.
URL:https://stpauls-rc.co.uk/event/christmas-raffle-2/
LOCATION:St. Paul’s RC Church\, Cramlington\, Dewley\, Cramlington\, NE23 6EF\, United Kingdom
END:VEVENT
BEGIN:VEVENT
DTSTART;TZID=UTC:20231125T180000
DTEND;TZID=UTC:20231125T190000
DTSTAMP:20260425T114149
CREATED:20231125T144340Z
LAST-MODIFIED:20231125T144340Z
UID:5339-1700935200-1700938800@stpauls-rc.co.uk
SUMMARY:Mass Intention
DESCRIPTION:Mass today will be celebrated for the repose of the soul of Mary Elizabeth Smith.
URL:https://stpauls-rc.co.uk/event/mass-intention-52/
LOCATION:St. Paul’s RC Church\, Cramlington\, Dewley\, Cramlington\, NE23 6EF\, United Kingdom
END:VEVENT
BEGIN:VEVENT
DTSTART;TZID=UTC:20231118T180000
DTEND;TZID=UTC:20231118T190000
DTSTAMP:20260425T114149
CREATED:20231110T121608Z
LAST-MODIFIED:20231110T121635Z
UID:5312-1700330400-1700334000@stpauls-rc.co.uk
SUMMARY:Mass Intention
DESCRIPTION:Mass will be celebrated today in memory of Margaret Elizabeths & Bill Smith.
URL:https://stpauls-rc.co.uk/event/mass-intention-51/
LOCATION:St. Paul’s RC Church\, Cramlington\, Dewley\, Cramlington\, NE23 6EF\, United Kingdom
END:VEVENT
BEGIN:VEVENT
DTSTART;TZID=UTC:20231101T190000
DTEND;TZID=UTC:20231101T200000
DTSTAMP:20260425T114149
CREATED:20231028T191846Z
LAST-MODIFIED:20231028T191846Z
UID:5286-1698865200-1698868800@stpauls-rc.co.uk
SUMMARY:Mass Intention
DESCRIPTION:Mass will be celebrated today for the repose of the soul of John Waterworth
URL:https://stpauls-rc.co.uk/event/mass-intention-50/
LOCATION:St. Paul’s RC Church\, Cramlington\, Dewley\, Cramlington\, NE23 6EF\, United Kingdom
END:VEVENT
BEGIN:VEVENT
DTSTART;TZID=UTC:20231022T103000
DTEND;TZID=UTC:20231022T120000
DTSTAMP:20260425T114149
CREATED:20231022T120012Z
LAST-MODIFIED:20231022T120012Z
UID:5277-1697970600-1697976000@stpauls-rc.co.uk
SUMMARY:Mass Intention
DESCRIPTION:Mass today was celebrated for the repose of the soul of Joan Mennell.
URL:https://stpauls-rc.co.uk/event/mass-intention-48/
LOCATION:St. Paul’s RC Church\, Cramlington\, Dewley\, Cramlington\, NE23 6EF\, United Kingdom
END:VEVENT
BEGIN:VEVENT
DTSTART;TZID=UTC:20231021T180000
DTEND;TZID=UTC:20231021T190000
DTSTAMP:20260425T114149
CREATED:20231022T120239Z
LAST-MODIFIED:20231022T120239Z
UID:5279-1697911200-1697914800@stpauls-rc.co.uk
SUMMARY:Mass Intention
DESCRIPTION:Mass will be celebrated today for the repose of the sousl of the Siddell family
URL:https://stpauls-rc.co.uk/event/mass-intention-49/
END:VEVENT
BEGIN:VEVENT
DTSTART;TZID=UTC:20231019T190000
DTEND;TZID=UTC:20231019T203000
DTSTAMP:20260425T114149
CREATED:20231013T154549Z
LAST-MODIFIED:20231013T154549Z
UID:5266-1697742000-1697747400@stpauls-rc.co.uk
SUMMARY:Parish Spiritual Nurturing and Formation Group
DESCRIPTION:The group will meet again on October 19th which takes it up to half term. All are welcome at 7:00pm in the back room.
URL:https://stpauls-rc.co.uk/event/parish-spiritual-nurturing-and-formation-group/
LOCATION:St. Paul’s RC Church\, Cramlington\, Dewley\, Cramlington\, NE23 6EF\, United Kingdom
END:VEVENT
BEGIN:VEVENT
DTSTART;TZID=UTC:20231004T100000
DTEND;TZID=UTC:20231004T110000
DTSTAMP:20260425T114149
CREATED:20230830T113419Z
LAST-MODIFIED:20230905T160814Z
UID:5164-1696413600-1696417200@stpauls-rc.co.uk
SUMMARY:Bishop Stephen Wright's Visit
DESCRIPTION:Bishop Stephen will be visiting our Parish on 4th October to celebrate the 10:00am Mass followed by a Formal Blessing of the new entrance to St. Peter & St. Paul’s Academy School. All are welcome to attend (see attached invite below). Please do try and join us for the celebration. \n 
URL:https://stpauls-rc.co.uk/event/bishop-stephen-wrights-visit/
LOCATION:St. Paul’s RC Church\, Cramlington\, Dewley\, Cramlington\, NE23 6EF\, United Kingdom
END:VEVENT
BEGIN:VEVENT
DTSTART;TZID=UTC:20230930T180000
DTEND;TZID=UTC:20230930T190000
DTSTAMP:20260425T114149
CREATED:20230923T170037Z
LAST-MODIFIED:20230923T170037Z
UID:5234-1696096800-1696100400@stpauls-rc.co.uk
SUMMARY:Mass Intention
DESCRIPTION:Mass will be celebrated today for the repose of the soul of John Collins.
URL:https://stpauls-rc.co.uk/event/mass-intention-47/
LOCATION:St. Paul’s RC Church\, Cramlington\, Dewley\, Cramlington\, NE23 6EF\, United Kingdom
END:VEVENT
BEGIN:VEVENT
DTSTART;TZID=UTC:20230928T100000
DTEND;TZID=UTC:20230928T103000
DTSTAMP:20260425T114149
CREATED:20230923T165857Z
LAST-MODIFIED:20230923T165857Z
UID:5232-1695895200-1695897000@stpauls-rc.co.uk
SUMMARY:Mass Intention
DESCRIPTION:Mass will be celebrated today for the repose of the souls of Billy Freda\, Kevin Bell and Jeanette Rashti.
URL:https://stpauls-rc.co.uk/event/mass-intention-46/
LOCATION:St. Paul’s RC Church\, Cramlington\, Dewley\, Cramlington\, NE23 6EF\, United Kingdom
END:VEVENT
BEGIN:VEVENT
DTSTART;TZID=UTC:20230923T180000
DTEND;TZID=UTC:20230923T190000
DTSTAMP:20260425T114149
CREATED:20230923T165623Z
LAST-MODIFIED:20230923T165623Z
UID:5230-1695492000-1695495600@stpauls-rc.co.uk
SUMMARY:Mass Intention
DESCRIPTION:Mass will be celebrated today for the repose of the soul of Vincent Slaven.
URL:https://stpauls-rc.co.uk/event/mass-intention-45/
LOCATION:St. Paul’s RC Church\, Cramlington\, Dewley\, Cramlington\, NE23 6EF\, United Kingdom
END:VEVENT
BEGIN:VEVENT
DTSTART;TZID=UTC:20230920T113000
DTEND;TZID=UTC:20230920T123000
DTSTAMP:20260425T114149
CREATED:20230901T213552Z
LAST-MODIFIED:20230910T091817Z
UID:5176-1695209400-1695213000@stpauls-rc.co.uk
SUMMARY:Requiem Mass
DESCRIPTION:Mass today at 11:30am will be a Requiem Mass for the repose of the soul of John Collins with his Cremation at Whitley Bay Crematorium at 1:30pm.
URL:https://stpauls-rc.co.uk/event/requiem-mass-4/
LOCATION:St. Paul’s RC Church\, Cramlington\, Dewley\, Cramlington\, NE23 6EF\, United Kingdom
END:VEVENT
BEGIN:VEVENT
DTSTART;TZID=UTC:20230919T163000
DTEND;TZID=UTC:20230919T170000
DTSTAMP:20260425T114149
CREATED:20230901T213905Z
LAST-MODIFIED:20230910T092030Z
UID:5179-1695141000-1695142800@stpauls-rc.co.uk
SUMMARY:Reception of John Collin's Body into Church
DESCRIPTION:John’s body will be brought into church at 4:30pm today prior to his Requiem Mass tomorrow morning at 11:30am.
URL:https://stpauls-rc.co.uk/event/reception-of-john-collins-body-into-church/
LOCATION:St. Paul’s RC Church\, Cramlington\, Dewley\, Cramlington\, NE23 6EF\, United Kingdom
END:VEVENT
BEGIN:VEVENT
DTSTART;TZID=UTC:20230912T100000
DTEND;TZID=UTC:20230912T110000
DTSTAMP:20260425T114149
CREATED:20230901T213422Z
LAST-MODIFIED:20230901T213422Z
UID:5174-1694512800-1694516400@stpauls-rc.co.uk
SUMMARY:Requiem Mass
DESCRIPTION:Mass today at 10:00am will be a Requiem Mass for the repose of the soul of Joan Shaw.
URL:https://stpauls-rc.co.uk/event/requiem-mass-3/
LOCATION:St. Paul’s RC Church\, Cramlington\, Dewley\, Cramlington\, NE23 6EF\, United Kingdom
END:VEVENT
BEGIN:VEVENT
DTSTART;TZID=UTC:20230912T100000
DTEND;TZID=UTC:20230912T110000
DTSTAMP:20260425T114149
CREATED:20230830T112346Z
LAST-MODIFIED:20230830T112405Z
UID:5159-1694512800-1694516400@stpauls-rc.co.uk
SUMMARY:Requiem Mass for Joan Shaw
DESCRIPTION:The Requiem Mass Funeral for Joan Shaw will be celebrated at 10:00am on Tuesday 12th September in St. Paul’s Church.
URL:https://stpauls-rc.co.uk/event/requiem-mass-for-joan-shaw/
LOCATION:St. Paul’s RC Church\, Cramlington\, Dewley\, Cramlington\, NE23 6EF\, United Kingdom
END:VEVENT
BEGIN:VEVENT
DTSTART;TZID=UTC:20230910T103000
DTEND;TZID=UTC:20230910T120000
DTSTAMP:20260425T114149
CREATED:20230910T091525Z
LAST-MODIFIED:20230910T091525Z
UID:5201-1694341800-1694347200@stpauls-rc.co.uk
SUMMARY:Mass Intention
DESCRIPTION:Mass today will be celebrated for the repose of the souls of George and Margaret Martin.  RIP
URL:https://stpauls-rc.co.uk/event/mass-intention-44/
LOCATION:St. Paul’s RC Church\, Cramlington\, Dewley\, Cramlington\, NE23 6EF\, United Kingdom
END:VEVENT
BEGIN:VEVENT
DTSTART;TZID=UTC:20230902T153000
DTEND;TZID=UTC:20230902T193000
DTSTAMP:20260425T114149
CREATED:20230415T104330Z
LAST-MODIFIED:20230623T162720Z
UID:4487-1693668600-1693683000@stpauls-rc.co.uk
SUMMARY:Five Saturdays Devotion
DESCRIPTION:The fifth of “Five Saturdays Devotion”: Starting with Rosary from 3:45  – 4:25\, Meditation for 15 minutes\, 4:25 – 4:40\, then Adoration / Confession from 4:40 – 5:40 and end with the usual 6:00pm Mass.
URL:https://stpauls-rc.co.uk/event/five-saturdays-devotion-5/
LOCATION:St. Paul’s RC Church\, Cramlington\, Dewley\, Cramlington\, NE23 6EF\, United Kingdom
END:VEVENT
BEGIN:VEVENT
DTSTART;TZID=UTC:20230826T180000
DTEND;TZID=UTC:20230826T190000
DTSTAMP:20260425T114149
CREATED:20230830T112726Z
LAST-MODIFIED:20230830T112726Z
UID:5162-1693072800-1693076400@stpauls-rc.co.uk
SUMMARY:Mass Intention
DESCRIPTION:Thanksgiving for 50 years of married life of David & Margaret Hawkins.
URL:https://stpauls-rc.co.uk/event/mass-intention-43/
LOCATION:St. Paul’s RC Church\, Cramlington\, Dewley\, Cramlington\, NE23 6EF\, United Kingdom
END:VEVENT
BEGIN:VEVENT
DTSTART;TZID=UTC:20230806T103000
DTEND;TZID=UTC:20230806T120000
DTSTAMP:20260425T114149
CREATED:20230805T161922Z
LAST-MODIFIED:20230805T161930Z
UID:4972-1691317800-1691323200@stpauls-rc.co.uk
SUMMARY:Mass Intention
DESCRIPTION:In Thanksgiving
URL:https://stpauls-rc.co.uk/event/mass-intention-42/
LOCATION:St. Paul’s RC Church\, Cramlington\, Dewley\, Cramlington\, NE23 6EF\, United Kingdom
END:VEVENT
BEGIN:VEVENT
DTSTART;TZID=UTC:20230805T153000
DTEND;TZID=UTC:20230805T193000
DTSTAMP:20260425T114149
CREATED:20230415T104236Z
LAST-MODIFIED:20230623T162629Z
UID:4485-1691249400-1691263800@stpauls-rc.co.uk
SUMMARY:Five Saturdays Devotion
DESCRIPTION:The fourth of “Five Saturdays Devotion”: Starting with Rosary from 3:45  – 4:25\, Meditation for 15 minutes\, 4:25 – 4:40\, then Adoration / Confession from 4:40 – 5:40 and end with the usual 6:00pm Mass.
URL:https://stpauls-rc.co.uk/event/five-saturdays-devotion-4/
LOCATION:St. Paul’s RC Church\, Cramlington\, Dewley\, Cramlington\, NE23 6EF\, United Kingdom
END:VEVENT
BEGIN:VEVENT
DTSTART;TZID=UTC:20230730T103000
DTEND;TZID=UTC:20230730T120000
DTSTAMP:20260425T114149
CREATED:20230805T161717Z
LAST-MODIFIED:20230805T161726Z
UID:4970-1690713000-1690718400@stpauls-rc.co.uk
SUMMARY:Mass Intention
DESCRIPTION:Mass at 10:45am today will be celebrated for the repose of the souls of Selwyne & Maise Cartwright
URL:https://stpauls-rc.co.uk/event/mass-intention-41/
LOCATION:St. Paul’s RC Church\, Cramlington\, Dewley\, Cramlington\, NE23 6EF\, United Kingdom
END:VEVENT
BEGIN:VEVENT
DTSTART;TZID=UTC:20230715T100000
DTEND;TZID=UTC:20230715T150000
DTSTAMP:20260425T114149
CREATED:20230623T155201Z
LAST-MODIFIED:20230623T155325Z
UID:4663-1689415200-1689433200@stpauls-rc.co.uk
SUMMARY:A Day for Catechists
DESCRIPTION:A day for exploring Catechesis\, Accompaniment and Evangelisation. If you are or would like to be involved with Baptismal Preparation\, First Holy Communions\, Confirmations\, Marriage Preparation\, RCIA\, Children’s Liturgy or other Faith Sharing initiatives we are excited to host the largest gathering of Catechists the Diocese has seen in recent times. This will be a special opportunity to come together and renew our approach to sacramental preparation and faith-sharing\, post-pandemic. Whether you are a seasoned Catechist or just considering becoming one\, we want you to join us. We will be sharing key principles from the new Directory for Catechesis and affirming good practices\, as well as providing new ideas and inspiration. Saturday 15 July 2023\, 10am – 3pm. Refreshments included\, please bring a packed lunch. St Robert of Newminster Catholic School\, Washington\, NE38 8AF. Individuals and parish groups welcome. To book your place(s) please visit http://bit.ly/DHNDOC23.
URL:https://stpauls-rc.co.uk/event/a-day-for-catechists/
END:VEVENT
BEGIN:VEVENT
DTSTART;TZID=UTC:20230711T190000
DTEND;TZID=UTC:20230711T203000
DTSTAMP:20260425T114149
CREATED:20230623T154647Z
LAST-MODIFIED:20230623T154647Z
UID:4661-1689102000-1689107400@stpauls-rc.co.uk
SUMMARY:Listening Exercise for the Laity
DESCRIPTION:Copies of the letter from Bishop Malcolm which will be read out this weekend are available at the back of church or from Fr. Manoj Our nearest meeting is to be held on 11th July in St. Bede’s Church Hall\, Bedlington starting at 7:00pm and finishing at 8:30pm prompt
URL:https://stpauls-rc.co.uk/event/listening-exercise-for-the-laity/
LOCATION:St. Bede’s RC Church\, Bedlington\, NE22 5TZ
END:VEVENT
BEGIN:VEVENT
DTSTART;TZID=UTC:20230711T180000
DTEND;TZID=UTC:20230711T193000
DTSTAMP:20260425T114149
CREATED:20230630T165326Z
LAST-MODIFIED:20230630T165414Z
UID:4710-1689098400-1689103800@stpauls-rc.co.uk
SUMMARY:Altar Servers Formation Session
DESCRIPTION:We are planning an ongoing formation session for the Altar Servers of both St. John’s and St. Paul’s Parishes on July 11th\, 2023. If any of the children or youth would like to be part of this service please contact Fr. Manoj at the earliest convenience. One of the requirements is that the person should have received their first Holy Communion.
URL:https://stpauls-rc.co.uk/event/altar-servers-formation-session/
LOCATION:St. Paul’s RC Church\, Cramlington\, Dewley\, Cramlington\, NE23 6EF\, United Kingdom
END:VEVENT
BEGIN:VEVENT
DTSTART;TZID=UTC:20230708T090000
DTEND;TZID=UTC:20230708T180000
DTSTAMP:20260425T114149
CREATED:20230623T161247Z
LAST-MODIFIED:20230623T161247Z
UID:4675-1688806800-1688839200@stpauls-rc.co.uk
SUMMARY:Trip to the Holy Island of Lindisfarne
DESCRIPTION:A trip to Holy Island is being arranged for Saturday 8th July with a walk across the causeway for those with the ability to safely do so.  Mass will take place in the afternoon. We hope to arrange a bus for those who require it.  If you are interested in going please put your name on the list on the wall in the porch on the right hand side as you leave church.  For any further information speak to any member of the Social Group. The Annual CAFOD Pilgrimage is also on the same day and we hope to join up with them.
URL:https://stpauls-rc.co.uk/event/trip-to-the-holy-island-of-lindisfarne/
END:VEVENT
BEGIN:VEVENT
DTSTART;TZID=UTC:20230702T103000
DTEND;TZID=UTC:20230702T120000
DTSTAMP:20260425T114149
CREATED:20230630T164919Z
LAST-MODIFIED:20230630T164919Z
UID:4708-1688293800-1688299200@stpauls-rc.co.uk
SUMMARY:Mass Intention
DESCRIPTION:Mass celebrated today “In Thanksgiving for 74 Years” (PK)
URL:https://stpauls-rc.co.uk/event/mass-intention-40/
LOCATION:St. Paul’s RC Church\, Cramlington\, Dewley\, Cramlington\, NE23 6EF\, United Kingdom
END:VEVENT
BEGIN:VEVENT
DTSTART;TZID=UTC:20230701T190000
DTEND;TZID=UTC:20230701T193000
DTSTAMP:20260425T114149
CREATED:20230623T160111Z
LAST-MODIFIED:20230623T160111Z
UID:4670-1688238000-1688239800@stpauls-rc.co.uk
SUMMARY:Summer Raffle
DESCRIPTION:Will take place after Mass on Saturday 1st July 2023. Tickets available from John Reid.
URL:https://stpauls-rc.co.uk/event/summer-raffle/
LOCATION:St. Paul’s RC Church\, Cramlington\, Dewley\, Cramlington\, NE23 6EF\, United Kingdom
END:VEVENT
BEGIN:VEVENT
DTSTART;TZID=UTC:20230701T180000
DTEND;TZID=UTC:20230701T190000
DTSTAMP:20260425T114149
CREATED:20230630T164724Z
LAST-MODIFIED:20230630T164724Z
UID:4706-1688234400-1688238000@stpauls-rc.co.uk
SUMMARY:Mass Intention
DESCRIPTION:Mass celebrated tonight for the repose of the soul of Ruth Jay (100th Birthday Anniversary)
URL:https://stpauls-rc.co.uk/event/mass-intention-39/
LOCATION:St. Paul’s RC Church\, Cramlington\, Dewley\, Cramlington\, NE23 6EF\, United Kingdom
END:VEVENT
BEGIN:VEVENT
DTSTART;TZID=UTC:20230701T153000
DTEND;TZID=UTC:20230701T193000
DTSTAMP:20260425T114149
CREATED:20230415T104138Z
LAST-MODIFIED:20230623T162507Z
UID:4483-1688225400-1688239800@stpauls-rc.co.uk
SUMMARY:Five Saturdays Devotion
DESCRIPTION:The third of “Five Saturdays Devotion”: Starting with Rosary from 3:45  – 4:25\, Meditation for 15 minutes\, 4:25 – 4:40\, then Adoration / Confession from 4:40 – 5:40 and end with the usual 6:00pm Mass.
URL:https://stpauls-rc.co.uk/event/five-saturdays-devotion-3/
LOCATION:St. Paul’s RC Church\, Cramlington\, Dewley\, Cramlington\, NE23 6EF\, United Kingdom
END:VEVENT
END:VCALENDAR