BEGIN:VCALENDAR
VERSION:2.0
PRODID:-//St. Paul&#039;s Cramlington - ECPv6.15.11//NONSGML v1.0//EN
CALSCALE:GREGORIAN
METHOD:PUBLISH
X-WR-CALNAME:St. Paul&#039;s Cramlington
X-ORIGINAL-URL:https://stpauls-rc.co.uk
X-WR-CALDESC:Events for St. Paul&#039;s Cramlington
REFRESH-INTERVAL;VALUE=DURATION:PT1H
X-Robots-Tag:noindex
X-PUBLISHED-TTL:PT1H
BEGIN:VTIMEZONE
TZID:UTC
BEGIN:STANDARD
TZOFFSETFROM:+0000
TZOFFSETTO:+0000
TZNAME:UTC
DTSTART:20240101T000000
END:STANDARD
END:VTIMEZONE
BEGIN:VEVENT
DTSTART;TZID=UTC:20251203T080000
DTEND;TZID=UTC:20251203T170000
DTSTAMP:20260423T233106
CREATED:20251102T075407Z
LAST-MODIFIED:20251102T213851Z
UID:8214-1764748800-1764781200@stpauls-rc.co.uk
SUMMARY:Mass Intention
DESCRIPTION:Today’s Mass will be celebrated for the repose of the souls of the following: \nCrilley Family – Sr. Agnes Miller – Choir members – St. Paul’s Priests – Vincent Slaven – Paul Battersby
URL:https://stpauls-rc.co.uk/event/mass-intention-186/
LOCATION:St. Paul’s RC Church\, Cramlington\, Dewley\, Cramlington\, NE23 6EF\, United Kingdom
END:VEVENT
BEGIN:VEVENT
DTSTART;TZID=UTC:20251127T100000
DTEND;TZID=UTC:20251127T103000
DTSTAMP:20260423T233106
CREATED:20251102T074238Z
LAST-MODIFIED:20251102T074746Z
UID:8212-1764237600-1764239400@stpauls-rc.co.uk
SUMMARY:Mass Intention
DESCRIPTION:Today’s Mass will be celebrated for the repose of the souls of the following: \nMargaret and George Loan – Sam & Elsie Hall – Eric & Mary Rendell – Neale Cocks – Paul Johnson – Turton family.
URL:https://stpauls-rc.co.uk/event/mass-intention-185/
LOCATION:St. Paul’s RC Church\, Cramlington\, Dewley\, Cramlington\, NE23 6EF\, United Kingdom
END:VEVENT
BEGIN:VEVENT
DTSTART;TZID=UTC:20251126T100000
DTEND;TZID=UTC:20251126T103000
DTSTAMP:20260423T233106
CREATED:20251102T073623Z
LAST-MODIFIED:20251102T073623Z
UID:8209-1764151200-1764153000@stpauls-rc.co.uk
SUMMARY:Mass Intention
DESCRIPTION:Today’s Mass will be celebrated for the repose of the souls of the following: \nFrances Marshall – Ellen & Bill Jewell – George and Margaret Martin – Catherine & Lawrence Bradley – McBriarty and Dooley families – Allan & Wareing families\, George\, Frances\, Florence and Gerald.
URL:https://stpauls-rc.co.uk/event/mass-intention-184/
LOCATION:St. Paul’s RC Church\, Cramlington\, Dewley\, Cramlington\, NE23 6EF\, United Kingdom
END:VEVENT
BEGIN:VEVENT
DTSTART;TZID=UTC:20251120T100000
DTEND;TZID=UTC:20251120T103000
DTSTAMP:20260423T233106
CREATED:20251102T072959Z
LAST-MODIFIED:20251102T073738Z
UID:8207-1763632800-1763634600@stpauls-rc.co.uk
SUMMARY:Mass Intention
DESCRIPTION:Today’s Mass will be celebrated for the repose of the souls of the following: \nFittes and Bell families – Norma & Bill – Young and Collinson families – Espie\, Wilson & Forster families – P.K Varghese & Mathew – Rosalie Patricia Graham\, William Sullivan\, Mary Sullivan\, Frances Sullivan.
URL:https://stpauls-rc.co.uk/event/mass-intention-183/
LOCATION:St. Paul’s RC Church\, Cramlington\, Dewley\, Cramlington\, NE23 6EF\, United Kingdom
END:VEVENT
BEGIN:VEVENT
DTSTART;TZID=UTC:20251119T120000
DTEND;TZID=UTC:20251119T130000
DTSTAMP:20260423T233106
CREATED:20251111T145648Z
LAST-MODIFIED:20251111T145700Z
UID:8248-1763553600-1763557200@stpauls-rc.co.uk
SUMMARY:Requiem Mass
DESCRIPTION:Today ‘s Mass will be a Requiem Mass for Rosemary Brownlow\, prior to her committal at Cowpen Crematorium\, Blyth. \nRosemary was a former parishioner at St. Paul’s and Deputy Head at St. Benet Biscop High School\, Bedlington.
URL:https://stpauls-rc.co.uk/event/requiem-mass-12/
LOCATION:St. Paul’s RC Church\, Cramlington\, Dewley\, Cramlington\, NE23 6EF\, United Kingdom
END:VEVENT
BEGIN:VEVENT
DTSTART;TZID=UTC:20251115T180000
DTEND;TZID=UTC:20251115T190000
DTSTAMP:20260423T233106
CREATED:20251111T150359Z
LAST-MODIFIED:20251111T150415Z
UID:8250-1763229600-1763233200@stpauls-rc.co.uk
SUMMARY:Mass Intention
DESCRIPTION:Today’s Mass will be celebrated for the repose of the soul of Mary Elizabeth Smith\, R.I.P.
URL:https://stpauls-rc.co.uk/event/mass-intention-176/
LOCATION:St. Paul’s RC Church\, Cramlington\, Dewley\, Cramlington\, NE23 6EF\, United Kingdom
END:VEVENT
BEGIN:VEVENT
DTSTART;TZID=UTC:20251113T100000
DTEND;TZID=UTC:20251113T103000
DTSTAMP:20260423T233106
CREATED:20251102T071544Z
LAST-MODIFIED:20251102T071544Z
UID:8203-1763028000-1763029800@stpauls-rc.co.uk
SUMMARY:Mass Intention
DESCRIPTION:Today’s Mass will be celebrated for the repose of the soul of the following: \nWhite\, Margaret and Owen WilliamsWelsh\, Halliday\, Low families and loved ones – Robinson and Headley families – Biwer and Webb families – Christine and Harold Turner – Karen Tracy.
URL:https://stpauls-rc.co.uk/event/mass-intention-181/
LOCATION:St. Paul’s RC Church\, Cramlington\, Dewley\, Cramlington\, NE23 6EF\, United Kingdom
END:VEVENT
BEGIN:VEVENT
DTSTART;TZID=UTC:20251112T093000
DTEND;TZID=UTC:20251112T103000
DTSTAMP:20260423T233106
CREATED:20251102T071045Z
LAST-MODIFIED:20251102T071045Z
UID:8201-1762939800-1762943400@stpauls-rc.co.uk
SUMMARY:Mass Intention
DESCRIPTION:Today’s Mass will be celebrated for the repose of the soul of the following: \nGair and George families – Robson\, Brough and Garvey families – Brian Emmerton\, Bob Fletcher and Agnes Templey – Francis Joseph Lake\, Joyce and Harry Westall – Collins and Robson families.
URL:https://stpauls-rc.co.uk/event/mass-intention-180/
LOCATION:St. Paul’s RC Church\, Cramlington\, Dewley\, Cramlington\, NE23 6EF\, United Kingdom
END:VEVENT
BEGIN:VEVENT
DTSTART;TZID=UTC:20251108T180000
DTEND;TZID=UTC:20251108T190000
DTSTAMP:20260423T233106
CREATED:20251101T121046Z
LAST-MODIFIED:20251101T121046Z
UID:8199-1762624800-1762628400@stpauls-rc.co.uk
SUMMARY:Mass Intention
DESCRIPTION:Today’s Mass will be celebrated for the repose of the soul of Jim Shaw\, R.I.P.
URL:https://stpauls-rc.co.uk/event/mass-intention-179/
LOCATION:St. Paul’s RC Church\, Cramlington\, Dewley\, Cramlington\, NE23 6EF\, United Kingdom
END:VEVENT
BEGIN:VEVENT
DTSTART;TZID=UTC:20251106T100000
DTEND;TZID=UTC:20251106T103000
DTSTAMP:20260423T233106
CREATED:20251101T120850Z
LAST-MODIFIED:20251101T120912Z
UID:8196-1762423200-1762425000@stpauls-rc.co.uk
SUMMARY:Mass Intention
DESCRIPTION:Mass today will be celebrated for the repose of the souls of Eric & Evelyn Waggott\, John Reid\, Ruth Jay\, Stan Welford\, Robert & Vera Turner\, Killen\, Stevenson & McCain Families
URL:https://stpauls-rc.co.uk/event/mass-intention-178/
LOCATION:St. Paul’s RC Church\, Cramlington\, Dewley\, Cramlington\, NE23 6EF\, United Kingdom
END:VEVENT
BEGIN:VEVENT
DTSTART;TZID=UTC:20251105T100000
DTEND;TZID=UTC:20251105T103000
DTSTAMP:20260423T233106
CREATED:20251101T120620Z
LAST-MODIFIED:20251101T120620Z
UID:8194-1762336800-1762338600@stpauls-rc.co.uk
SUMMARY:Mass Intention
DESCRIPTION:Mass today will be celebrated for the repose of the souls of  Amy & Brian\, Waterworth Family\, Bella Oman\, Betty Laws\, Pamela Siddle\, Smith & Murray Families\, James & Edna George
URL:https://stpauls-rc.co.uk/event/mass-intention-177/
LOCATION:St. Paul’s RC Church\, Cramlington\, Dewley\, Cramlington\, NE23 6EF\, United Kingdom
END:VEVENT
BEGIN:VEVENT
DTSTART;TZID=UTC:20251030T100000
DTEND;TZID=UTC:20251030T103000
DTSTAMP:20260423T233106
CREATED:20251025T130646Z
LAST-MODIFIED:20251025T130646Z
UID:8180-1761818400-1761820200@stpauls-rc.co.uk
SUMMARY:Mass Intention
DESCRIPTION:Mass today will be celebrated for a Special Intention (SW)
URL:https://stpauls-rc.co.uk/event/mass-intention-175/
LOCATION:St. Paul’s RC Church\, Cramlington\, Dewley\, Cramlington\, NE23 6EF\, United Kingdom
END:VEVENT
BEGIN:VEVENT
DTSTART;TZID=UTC:20251029T100000
DTEND;TZID=UTC:20251029T113000
DTSTAMP:20260423T233106
CREATED:20251017T215054Z
LAST-MODIFIED:20251017T215054Z
UID:8153-1761732000-1761737400@stpauls-rc.co.uk
SUMMARY:Requiem Mass
DESCRIPTION:Mass today will be a Requiem Mass celebrated for the repose of the soul of Sr. Agnes Miller\, R.I.P.
URL:https://stpauls-rc.co.uk/event/requiem-mass-11/
LOCATION:St. Paul’s RC Church\, Cramlington\, Dewley\, Cramlington\, NE23 6EF\, United Kingdom
END:VEVENT
BEGIN:VEVENT
DTSTART;TZID=UTC:20251028T170000
DTEND;TZID=UTC:20251028T173000
DTSTAMP:20260423T233106
CREATED:20251017T215315Z
LAST-MODIFIED:20251017T215315Z
UID:8155-1761670800-1761672600@stpauls-rc.co.uk
SUMMARY:Reception of body into church
DESCRIPTION:Today the body of Sr. Agnes Miller will be received into church at 5:00pm with the Rosary being recited prior to her Requiem Mass tomorrow at 10:00am.
URL:https://stpauls-rc.co.uk/event/reception-of-body-into-church/
LOCATION:St. Paul’s RC Church\, Cramlington\, Dewley\, Cramlington\, NE23 6EF\, United Kingdom
END:VEVENT
BEGIN:VEVENT
DTSTART;TZID=UTC:20251025T180000
DTEND;TZID=UTC:20251025T190000
DTSTAMP:20260423T233106
CREATED:20251017T214918Z
LAST-MODIFIED:20251017T214918Z
UID:8151-1761415200-1761418800@stpauls-rc.co.uk
SUMMARY:Mass Intention
DESCRIPTION:Mass today will be celebrated for the repose of the soul of Pamela Siddle\, R.I.P.
URL:https://stpauls-rc.co.uk/event/mass-intention-174/
LOCATION:St. Paul’s RC Church\, Cramlington\, Dewley\, Cramlington\, NE23 6EF\, United Kingdom
END:VEVENT
BEGIN:VEVENT
DTSTART;TZID=UTC:20251023T100000
DTEND;TZID=UTC:20251023T103000
DTSTAMP:20260423T233106
CREATED:20251017T214534Z
LAST-MODIFIED:20251017T214534Z
UID:8147-1761213600-1761215400@stpauls-rc.co.uk
SUMMARY:Mass Intention
DESCRIPTION:Mass today will be celebrated for the repose of the soul of Sr. Agnes Miller\, R.I.P.
URL:https://stpauls-rc.co.uk/event/mass-intention-172/
LOCATION:St. Paul’s RC Church\, Cramlington\, Dewley\, Cramlington\, NE23 6EF\, United Kingdom
END:VEVENT
BEGIN:VEVENT
DTSTART;TZID=UTC:20251022T100000
DTEND;TZID=UTC:20251022T103000
DTSTAMP:20260423T233106
CREATED:20251017T214715Z
LAST-MODIFIED:20251017T214715Z
UID:8149-1761127200-1761129000@stpauls-rc.co.uk
SUMMARY:Mass Intention
DESCRIPTION:Mass today will be celebrated for the repose of the soul of Joan Mennell R.I.P.
URL:https://stpauls-rc.co.uk/event/mass-intention-173/
LOCATION:St. Paul’s RC Church\, Cramlington\, Dewley\, Cramlington\, NE23 6EF\, United Kingdom
END:VEVENT
BEGIN:VEVENT
DTSTART;TZID=UTC:20251015T093000
DTEND;TZID=UTC:20251015T100000
DTSTAMP:20260423T233106
CREATED:20251017T214407Z
LAST-MODIFIED:20251017T214407Z
UID:8145-1760520600-1760522400@stpauls-rc.co.uk
SUMMARY:Mass Intention
DESCRIPTION:Mass today will be celebrated for the repose of the soul of Sr. Agnes Miller\, R.I.P.
URL:https://stpauls-rc.co.uk/event/mass-intention-171/
LOCATION:St. Paul’s RC Church\, Cramlington\, Dewley\, Cramlington\, NE23 6EF\, United Kingdom
END:VEVENT
BEGIN:VEVENT
DTSTART;TZID=UTC:20251001T100000
DTEND;TZID=UTC:20251001T103000
DTSTAMP:20260423T233106
CREATED:20250927T100320Z
LAST-MODIFIED:20250927T100320Z
UID:8068-1759312800-1759314600@stpauls-rc.co.uk
SUMMARY:Mass Intention
DESCRIPTION:Mass today will be celebrated for a successful operation and speedy recovery (JE)
URL:https://stpauls-rc.co.uk/event/mass-intention-170/
LOCATION:St. Paul’s RC Church\, Cramlington\, Dewley\, Cramlington\, NE23 6EF\, United Kingdom
END:VEVENT
BEGIN:VEVENT
DTSTART;TZID=UTC:20250927T180000
DTEND;TZID=UTC:20250927T190000
DTSTAMP:20260423T233106
CREATED:20250919T205506Z
LAST-MODIFIED:20250919T205517Z
UID:8057-1758996000-1758999600@stpauls-rc.co.uk
SUMMARY:Mass Intention
DESCRIPTION:Mass tonight will be celebrated for the repose of the soul of John Collins R.I.P.
URL:https://stpauls-rc.co.uk/event/mass-intention-169/
LOCATION:St. Paul’s RC Church\, Cramlington\, Dewley\, Cramlington\, NE23 6EF\, United Kingdom
END:VEVENT
BEGIN:VEVENT
DTSTART;TZID=UTC:20250913T183000
DTEND;TZID=UTC:20250913T190000
DTSTAMP:20260423T233106
CREATED:20250905T202935Z
LAST-MODIFIED:20250905T202949Z
UID:8035-1757788200-1757790000@stpauls-rc.co.uk
SUMMARY:Mass Intention
DESCRIPTION:Mass today will be celebrated for the repose of the soul of Marguerite Mary Tivet R.I.P.
URL:https://stpauls-rc.co.uk/event/mass-intention-168/
LOCATION:St. Paul’s RC Church\, Cramlington\, Dewley\, Cramlington\, NE23 6EF\, United Kingdom
END:VEVENT
BEGIN:VEVENT
DTSTART;TZID=UTC:20250906T180000
DTEND;TZID=UTC:20250906T190000
DTSTAMP:20260423T233106
CREATED:20250823T081000Z
LAST-MODIFIED:20250830T184302Z
UID:8023-1757181600-1757185200@stpauls-rc.co.uk
SUMMARY:Mass Intention
DESCRIPTION:Mass today will be celebrated for the repose of the soul of David Thompson White and deceased members of the White and Welsh families. Also for the repose of the soul of John Collins R.I.P.
URL:https://stpauls-rc.co.uk/event/mass-intention-167/
LOCATION:St. Paul’s RC Church\, Cramlington\, Dewley\, Cramlington\, NE23 6EF\, United Kingdom
END:VEVENT
BEGIN:VEVENT
DTSTART;TZID=UTC:20250830T180000
DTEND;TZID=UTC:20250830T190000
DTSTAMP:20260423T233106
CREATED:20250823T080008Z
LAST-MODIFIED:20250823T080008Z
UID:8021-1756576800-1756580400@stpauls-rc.co.uk
SUMMARY:Mass Intention
DESCRIPTION:Mass today will be celebrated for the following intentions: Private Intention (MC): Thanksgiving for Special Intention: and Thanksgiving for Successful Operation.
URL:https://stpauls-rc.co.uk/event/mass-intention-166/
LOCATION:St. Paul’s RC Church\, Cramlington\, Dewley\, Cramlington\, NE23 6EF\, United Kingdom
END:VEVENT
BEGIN:VEVENT
DTSTART;TZID=UTC:20250823T180000
DTEND;TZID=UTC:20250823T190000
DTSTAMP:20260423T233106
CREATED:20250816T090024Z
LAST-MODIFIED:20250816T090024Z
UID:8012-1755972000-1755975600@stpauls-rc.co.uk
SUMMARY:Mass Intention
DESCRIPTION:Mass tonight will be celebrated for the repose of the soul of Rosamma  Joseph\, R.I.P. (Fr. Manoj’s mum)
URL:https://stpauls-rc.co.uk/event/mass-intention-165/
LOCATION:St. Paul’s RC Church\, Cramlington\, Dewley\, Cramlington\, NE23 6EF\, United Kingdom
END:VEVENT
BEGIN:VEVENT
DTSTART;TZID=UTC:20250816T180000
DTEND;TZID=UTC:20250816T190000
DTSTAMP:20260423T233106
CREATED:20250809T223411Z
LAST-MODIFIED:20250809T223411Z
UID:8005-1755367200-1755370800@stpauls-rc.co.uk
SUMMARY:Mass Intention
DESCRIPTION:Mass today will be celebrated for the repose of the soul of Daisy Wilson\, R.I.P.
URL:https://stpauls-rc.co.uk/event/mass-intention-164/
LOCATION:St. Paul’s RC Church\, Cramlington\, Dewley\, Cramlington\, NE23 6EF\, United Kingdom
END:VEVENT
BEGIN:VEVENT
DTSTART;TZID=UTC:20250813T100000
DTEND;TZID=UTC:20250813T103000
DTSTAMP:20260423T233106
CREATED:20250809T223152Z
LAST-MODIFIED:20250809T223227Z
UID:8003-1755079200-1755081000@stpauls-rc.co.uk
SUMMARY:Mass Intention
DESCRIPTION:Private Intention (S W)
URL:https://stpauls-rc.co.uk/event/mass-intention-163/
LOCATION:St. Paul’s RC Church\, Cramlington\, Dewley\, Cramlington\, NE23 6EF\, United Kingdom
END:VEVENT
BEGIN:VEVENT
DTSTART;TZID=UTC:20250810T100000
DTEND;TZID=UTC:20250810T110000
DTSTAMP:20260423T233106
CREATED:20250719T094032Z
LAST-MODIFIED:20250719T094032Z
UID:7948-1754820000-1754823600@stpauls-rc.co.uk
SUMMARY:Jubilee 2025 Celebration Mass
DESCRIPTION:As part of our parish Jubilee Celebration programme\, Mass on Sunday 10th August at St. John’s will be celebrated at 10:00am\, not the usual time of 9:30am. The Mass will be to thank God for couples\, from both parishes\, who are celebrating a Marriage Anniversary this year and everyone is invited to attend the Mass.
URL:https://stpauls-rc.co.uk/event/jubilee-2025-celebration-mass/
LOCATION:St. John the Baptist RC Church\, Annitsford\, United Kingdom
END:VEVENT
BEGIN:VEVENT
DTSTART;TZID=UTC:20250809T180000
DTEND;TZID=UTC:20250809T190000
DTSTAMP:20260423T233106
CREATED:20250809T222945Z
LAST-MODIFIED:20250809T223005Z
UID:8001-1754762400-1754766000@stpauls-rc.co.uk
SUMMARY:Mass Intention
DESCRIPTION:Mass today will be celebrated for the repose of the soul of John Collins\, R.I.P.
URL:https://stpauls-rc.co.uk/event/mass-intention-162/
LOCATION:St. Paul’s RC Church\, Cramlington\, Dewley\, Cramlington\, NE23 6EF\, United Kingdom
END:VEVENT
BEGIN:VEVENT
DTSTART;TZID=UTC:20250730T100000
DTEND;TZID=UTC:20250730T103000
DTSTAMP:20260423T233106
CREATED:20250726T131924Z
LAST-MODIFIED:20250726T132304Z
UID:7981-1753869600-1753871400@stpauls-rc.co.uk
SUMMARY:Mass Intention
DESCRIPTION:Mass today will be celebrated for the repose of the soul of Andrew John Convery R.I.P.
URL:https://stpauls-rc.co.uk/event/mass-intention-161/
LOCATION:St. Paul’s RC Church\, Cramlington\, Dewley\, Cramlington\, NE23 6EF\, United Kingdom
CATEGORIES:Mass & Events
END:VEVENT
BEGIN:VEVENT
DTSTART;TZID=UTC:20250726T180000
DTEND;TZID=UTC:20250726T190000
DTSTAMP:20260423T233106
CREATED:20250719T093210Z
LAST-MODIFIED:20250719T093210Z
UID:7944-1753552800-1753556400@stpauls-rc.co.uk
SUMMARY:Mass Intention
DESCRIPTION:Mass today will be celebrated for a special Intention\, “IN THANKSGIVING” (BB)
URL:https://stpauls-rc.co.uk/event/mass-intention-160/
LOCATION:St. Paul’s RC Church\, Cramlington\, Dewley\, Cramlington\, NE23 6EF\, United Kingdom
END:VEVENT
END:VCALENDAR