BEGIN:VCALENDAR
VERSION:2.0
PRODID:-//St. Paul&#039;s Cramlington - ECPv6.15.11//NONSGML v1.0//EN
CALSCALE:GREGORIAN
METHOD:PUBLISH
X-WR-CALNAME:St. Paul&#039;s Cramlington
X-ORIGINAL-URL:https://stpauls-rc.co.uk
X-WR-CALDESC:Events for St. Paul&#039;s Cramlington
REFRESH-INTERVAL;VALUE=DURATION:PT1H
X-Robots-Tag:noindex
X-PUBLISHED-TTL:PT1H
BEGIN:VTIMEZONE
TZID:UTC
BEGIN:STANDARD
TZOFFSETFROM:+0000
TZOFFSETTO:+0000
TZNAME:UTC
DTSTART:20240101T000000
END:STANDARD
END:VTIMEZONE
BEGIN:VEVENT
DTSTART;TZID=UTC:20260425T180000
DTEND;TZID=UTC:20260425T190000
DTSTAMP:20260423T221108
CREATED:20260418T131520Z
LAST-MODIFIED:20260418T131520Z
UID:9231-1777140000-1777143600@stpauls-rc.co.uk
SUMMARY:Mass Intention
DESCRIPTION:Tonight’s Mass will be celebrated for the repose of the souls of Nancy\, John and Keith McCarthy\, R.I.P.
URL:https://stpauls-rc.co.uk/event/mass-intention-198/
LOCATION:St. Paul’s RC Church\, Cramlington\, Dewley\, Cramlington\, NE23 6EF\, United Kingdom
END:VEVENT
BEGIN:VEVENT
DTSTART;TZID=UTC:20260220T120000
DTEND;TZID=UTC:20260220T133000
DTSTAMP:20260423T221108
CREATED:20260111T220421Z
LAST-MODIFIED:20260111T220421Z
UID:8967-1771588800-1771594200@stpauls-rc.co.uk
SUMMARY:Blessing and Dedication of the Chapel of Our Lady of Fatima and the Enshrinement of the relics of Saints Francisco and Jacinto Marto Mass
DESCRIPTION:The Side Chapel at St. Paul’s will have been turned into a sacred space dedicated to Our Lady of Fatima and will stand as a place of prayer and reflection entrusted with the mission of proclaiming and preserving the timeless message of the Fatima apparitions
URL:https://stpauls-rc.co.uk/event/blessing-and-dedication-of-the-chapel-of-our-lady-of-fatima-and-the-enshrinement-of-the-relics-of-saints-francisco-and-jacinto-marto-mass/
LOCATION:St. Paul’s RC Church\, Cramlington\, Dewley\, Cramlington\, NE23 6EF\, United Kingdom
END:VEVENT
BEGIN:VEVENT
DTSTART;TZID=UTC:20260214T180000
DTEND;TZID=UTC:20260214T190000
DTSTAMP:20260423T221108
CREATED:20260209T124320Z
LAST-MODIFIED:20260209T124320Z
UID:9029-1771092000-1771095600@stpauls-rc.co.uk
SUMMARY:Mass Intention
DESCRIPTION:Today’s Mass will be celebrated for a Private Intention.
URL:https://stpauls-rc.co.uk/event/mass-intention-197/
LOCATION:St. Paul’s RC Church\, Cramlington\, Dewley\, Cramlington\, NE23 6EF\, United Kingdom
END:VEVENT
BEGIN:VEVENT
DTSTART;TZID=UTC:20260213T113000
DTEND;TZID=UTC:20260213T123000
DTSTAMP:20260423T221108
CREATED:20260209T123913Z
LAST-MODIFIED:20260209T123913Z
UID:9027-1770982200-1770985800@stpauls-rc.co.uk
SUMMARY:Funeral Service
DESCRIPTION:The Funeral Service for Veronica James will be held today in S. Paul’s at 11:45am followed by her committal at Cowpen Crematorium
URL:https://stpauls-rc.co.uk/event/funeral-service-2/
LOCATION:St. Paul’s RC Church\, Cramlington\, Dewley\, Cramlington\, NE23 6EF\, United Kingdom
END:VEVENT
BEGIN:VEVENT
DTSTART;TZID=UTC:20260212T100000
DTEND;TZID=UTC:20260212T103000
DTSTAMP:20260423T221108
CREATED:20260209T125021Z
LAST-MODIFIED:20260209T125021Z
UID:9031-1770890400-1770892200@stpauls-rc.co.uk
SUMMARY:School Mass
DESCRIPTION:Years 1 and 2 from Ss Peter & Paul’s School will be attending the 10am Mass today
URL:https://stpauls-rc.co.uk/event/school-mass-3/
LOCATION:St. Paul’s RC Church\, Cramlington\, Dewley\, Cramlington\, NE23 6EF\, United Kingdom
END:VEVENT
BEGIN:VEVENT
DTSTART;TZID=UTC:20260207T180000
DTEND;TZID=UTC:20260207T190000
DTSTAMP:20260423T221108
CREATED:20260130T230605Z
LAST-MODIFIED:20260130T230605Z
UID:8996-1770487200-1770490800@stpauls-rc.co.uk
SUMMARY:Mass Intention
DESCRIPTION:Mass today will be celebrated for the repose of the soul of Bob Watson
URL:https://stpauls-rc.co.uk/event/mass-intention-194/
LOCATION:St. Paul’s RC Church\, Cramlington\, Dewley\, Cramlington\, NE23 6EF\, United Kingdom
END:VEVENT
BEGIN:VEVENT
DTSTART;TZID=UTC:20260204T100000
DTEND;TZID=UTC:20260204T103000
DTSTAMP:20260423T221108
CREATED:20260130T230813Z
LAST-MODIFIED:20260130T230813Z
UID:8998-1770199200-1770201000@stpauls-rc.co.uk
SUMMARY:Mass Intention
DESCRIPTION:Mass today will be celebrated for the good health of Jessica
URL:https://stpauls-rc.co.uk/event/mass-intention-195/
LOCATION:St. Paul’s RC Church\, Cramlington\, Dewley\, Cramlington\, NE23 6EF\, United Kingdom
END:VEVENT
BEGIN:VEVENT
DTSTART;TZID=UTC:20260131T180000
DTEND;TZID=UTC:20260131T190000
DTSTAMP:20260423T221108
CREATED:20260130T231115Z
LAST-MODIFIED:20260130T231115Z
UID:9000-1769882400-1769886000@stpauls-rc.co.uk
SUMMARY:Mass Intention
DESCRIPTION:Mass today will be celebrated in thanksgiving for T R
URL:https://stpauls-rc.co.uk/event/mass-intention-196/
LOCATION:St. Paul’s RC Church\, Cramlington\, Dewley\, Cramlington\, NE23 6EF\, United Kingdom
END:VEVENT
BEGIN:VEVENT
DTSTART;TZID=UTC:20260114T080000
DTEND;TZID=UTC:20260114T170000
DTSTAMP:20260423T221108
CREATED:20260114T133221Z
LAST-MODIFIED:20260114T133221Z
UID:8973-1768377600-1768410000@stpauls-rc.co.uk
SUMMARY:22nd January
DESCRIPTION:READ ME   St. Vincent Pallotti
URL:https://stpauls-rc.co.uk/event/22nd-january/
CATEGORIES:Feasts
END:VEVENT
BEGIN:VEVENT
DTSTART;TZID=UTC:20260108T100000
DTEND;TZID=UTC:20260108T103000
DTSTAMP:20260423T221108
CREATED:20260103T135336Z
LAST-MODIFIED:20260103T135336Z
UID:8937-1767866400-1767868200@stpauls-rc.co.uk
SUMMARY:Mass Intention
DESCRIPTION:Mass today will be celebrated for Members of Turner Family R.I.P.
URL:https://stpauls-rc.co.uk/event/mass-intention-193/
LOCATION:St. Paul’s RC Church\, Cramlington\, Dewley\, Cramlington\, NE23 6EF\, United Kingdom
END:VEVENT
BEGIN:VEVENT
DTSTART;TZID=UTC:20260107T100000
DTEND;TZID=UTC:20260107T103000
DTSTAMP:20260423T221108
CREATED:20260103T135148Z
LAST-MODIFIED:20260103T135148Z
UID:8935-1767780000-1767781800@stpauls-rc.co.uk
SUMMARY:Mass Intention
DESCRIPTION:Mass today will be celebrated for a Special Intention (SW)
URL:https://stpauls-rc.co.uk/event/mass-intention-192/
LOCATION:St. Paul’s RC Church\, Cramlington\, Dewley\, Cramlington\, NE23 6EF\, United Kingdom
END:VEVENT
BEGIN:VEVENT
DTSTART;TZID=UTC:20260103T180000
DTEND;TZID=UTC:20260103T190000
DTSTAMP:20260423T221108
CREATED:20260103T134938Z
LAST-MODIFIED:20260103T134938Z
UID:8933-1767463200-1767466800@stpauls-rc.co.uk
SUMMARY:Mass Intention
DESCRIPTION:Mass today will be celebrated for the repose of the souls of Jim Gray & John Reid R.I.P.
URL:https://stpauls-rc.co.uk/event/mass-intention-191/
LOCATION:St. Paul’s RC Church\, Cramlington\, Dewley\, Cramlington\, NE23 6EF\, United Kingdom
END:VEVENT
BEGIN:VEVENT
DTSTART;TZID=UTC:20260101T100000
DTEND;TZID=UTC:20260101T103000
DTSTAMP:20260423T221108
CREATED:20260103T134645Z
LAST-MODIFIED:20260103T134724Z
UID:8931-1767261600-1767263400@stpauls-rc.co.uk
SUMMARY:Mass Intention
DESCRIPTION:For the intentions of Alan Fryer and Family
URL:https://stpauls-rc.co.uk/event/mass-intention-190/
CATEGORIES:Calendar
END:VEVENT
BEGIN:VEVENT
DTSTART;TZID=UTC:20251231T100000
DTEND;TZID=UTC:20251231T103000
DTSTAMP:20260423T221108
CREATED:20260103T134332Z
LAST-MODIFIED:20260103T134459Z
UID:8929-1767175200-1767177000@stpauls-rc.co.uk
SUMMARY:Mass Intention
DESCRIPTION:For the intention of Phil Raine
URL:https://stpauls-rc.co.uk/event/mass-intention-188/
LOCATION:St. Paul’s RC Church\, Cramlington\, Dewley\, Cramlington\, NE23 6EF\, United Kingdom
END:VEVENT
BEGIN:VEVENT
DTSTART;TZID=UTC:20251222T080000
DTEND;TZID=UTC:20251222T170000
DTSTAMP:20260423T221108
CREATED:20251230T095006Z
LAST-MODIFIED:20251230T100148Z
UID:8638-1766390400-1766422800@stpauls-rc.co.uk
SUMMARY:6th January
DESCRIPTION:READ ME    The Epiphany Of The Lord
URL:https://stpauls-rc.co.uk/event/6th-january/
CATEGORIES:Feasts
END:VEVENT
BEGIN:VEVENT
DTSTART;TZID=UTC:20251222T080000
DTEND;TZID=UTC:20251222T170000
DTSTAMP:20260423T221108
CREATED:20251228T000444Z
LAST-MODIFIED:20251222T210712Z
UID:8640-1766390400-1766422800@stpauls-rc.co.uk
SUMMARY:2nd January
DESCRIPTION:READ ME    Saints Basil the Great and Gregory Nazianzen
URL:https://stpauls-rc.co.uk/event/2nd-january/
CATEGORIES:Feasts
END:VEVENT
BEGIN:VEVENT
DTSTART;TZID=UTC:20251222T080000
DTEND;TZID=UTC:20251222T170000
DTSTAMP:20260423T221108
CREATED:20251227T000735Z
LAST-MODIFIED:20251230T101804Z
UID:8642-1766390400-1766422800@stpauls-rc.co.uk
SUMMARY:1st January
DESCRIPTION:READ ME    Mary\, the Mother of God.
URL:https://stpauls-rc.co.uk/event/1st-january/
CATEGORIES:Feasts
END:VEVENT
BEGIN:VEVENT
DTSTART;TZID=UTC:20251221T080000
DTEND;TZID=UTC:20251221T170000
DTSTAMP:20260423T221108
CREATED:20260423T002049Z
LAST-MODIFIED:20251221T192300Z
UID:8442-1766304000-1766336400@stpauls-rc.co.uk
SUMMARY:2nd May
DESCRIPTION:READ ME   St Athanasius
URL:https://stpauls-rc.co.uk/event/2nd-may/
CATEGORIES:Feasts
END:VEVENT
BEGIN:VEVENT
DTSTART;TZID=UTC:20251221T080000
DTEND;TZID=UTC:20251221T170000
DTSTAMP:20260423T221108
CREATED:20260405T005822Z
LAST-MODIFIED:20251229T134619Z
UID:8436-1766304000-1766336400@stpauls-rc.co.uk
SUMMARY:29th April
DESCRIPTION:READ ME    St Catherine of Siena
URL:https://stpauls-rc.co.uk/event/29th-april/
CATEGORIES:Feasts
END:VEVENT
BEGIN:VEVENT
DTSTART;TZID=UTC:20251221T080000
DTEND;TZID=UTC:20251221T170000
DTSTAMP:20260423T221108
CREATED:20260403T005631Z
LAST-MODIFIED:20251221T145813Z
UID:8434-1766304000-1766336400@stpauls-rc.co.uk
SUMMARY:25 April
DESCRIPTION:READ ME   St Mark
URL:https://stpauls-rc.co.uk/event/25-april/
CATEGORIES:Feasts
END:VEVENT
BEGIN:VEVENT
DTSTART;TZID=UTC:20251221T080000
DTEND;TZID=UTC:20251221T170000
DTSTAMP:20260423T221108
CREATED:20260402T005446Z
LAST-MODIFIED:20251221T145618Z
UID:8432-1766304000-1766336400@stpauls-rc.co.uk
SUMMARY:23rd April
DESCRIPTION:READ ME    St. George
URL:https://stpauls-rc.co.uk/event/23rd-april/
CATEGORIES:Feasts
END:VEVENT
BEGIN:VEVENT
DTSTART;TZID=UTC:20251221T080000
DTEND;TZID=UTC:20251221T170000
DTSTAMP:20260423T221108
CREATED:20260329T004846Z
LAST-MODIFIED:20251221T145415Z
UID:8430-1766304000-1766336400@stpauls-rc.co.uk
SUMMARY:5th April
DESCRIPTION:READ ME   EASTER SUNDAY
URL:https://stpauls-rc.co.uk/event/5th-april/
CATEGORIES:Feasts
END:VEVENT
BEGIN:VEVENT
DTSTART;TZID=UTC:20251221T080000
DTEND;TZID=UTC:20251221T170000
DTSTAMP:20260423T221108
CREATED:20260325T004544Z
LAST-MODIFIED:20251221T144831Z
UID:8428-1766304000-1766336400@stpauls-rc.co.uk
SUMMARY:3rd April
DESCRIPTION:READ ME    Good Friday
URL:https://stpauls-rc.co.uk/event/3rd-april/
CATEGORIES:Feasts
END:VEVENT
BEGIN:VEVENT
DTSTART;TZID=UTC:20251221T080000
DTEND;TZID=UTC:20251221T170000
DTSTAMP:20260423T221108
CREATED:20260214T003105Z
LAST-MODIFIED:20251221T143300Z
UID:8418-1766304000-1766336400@stpauls-rc.co.uk
SUMMARY:19th March
DESCRIPTION:READ ME    St. Joseph
URL:https://stpauls-rc.co.uk/event/19th-march/
CATEGORIES:Feasts
END:VEVENT
BEGIN:VEVENT
DTSTART;TZID=UTC:20251221T080000
DTEND;TZID=UTC:20251221T170000
DTSTAMP:20260423T221108
CREATED:20260210T002817Z
LAST-MODIFIED:20251221T143100Z
UID:8416-1766304000-1766336400@stpauls-rc.co.uk
SUMMARY:17th March
DESCRIPTION:READ ME   Saint Patrick
URL:https://stpauls-rc.co.uk/event/17th-march/
CATEGORIES:Feasts
END:VEVENT
BEGIN:VEVENT
DTSTART;TZID=UTC:20251221T080000
DTEND;TZID=UTC:20251221T170000
DTSTAMP:20260423T221108
CREATED:20260206T002433Z
LAST-MODIFIED:20251221T142700Z
UID:8414-1766304000-1766336400@stpauls-rc.co.uk
SUMMARY:18th February
DESCRIPTION:READ ME    ASH WEDNESDAY
URL:https://stpauls-rc.co.uk/event/18th-february/
CATEGORIES:Feasts
END:VEVENT
BEGIN:VEVENT
DTSTART;TZID=UTC:20251221T080000
DTEND;TZID=UTC:20251221T170000
DTSTAMP:20260423T221108
CREATED:20260205T002131Z
LAST-MODIFIED:20251221T142347Z
UID:8411-1766304000-1766336400@stpauls-rc.co.uk
SUMMARY:14th February
DESCRIPTION:READ ME   Saints Cyril & Methodius \n 
URL:https://stpauls-rc.co.uk/event/14th-february/
CATEGORIES:Feasts
END:VEVENT
BEGIN:VEVENT
DTSTART;TZID=UTC:20251221T080000
DTEND;TZID=UTC:20251221T170000
DTSTAMP:20260423T221108
CREATED:20260202T001913Z
LAST-MODIFIED:20251221T142124Z
UID:8409-1766304000-1766336400@stpauls-rc.co.uk
SUMMARY:10th February
DESCRIPTION:READ ME   St Scholastica
URL:https://stpauls-rc.co.uk/event/10th-february/
CATEGORIES:Feasts
END:VEVENT
BEGIN:VEVENT
DTSTART;TZID=UTC:20251221T080000
DTEND;TZID=UTC:20251221T170000
DTSTAMP:20260423T221108
CREATED:20251231T001727Z
LAST-MODIFIED:20260113T115143Z
UID:8407-1766304000-1766336400@stpauls-rc.co.uk
SUMMARY:6th February
DESCRIPTION:READ ME   Saint Paul Miki and Companions
URL:https://stpauls-rc.co.uk/event/6th-february/
CATEGORIES:Feasts
END:VEVENT
BEGIN:VEVENT
DTSTART;TZID=UTC:20251218T080000
DTEND;TZID=UTC:20251218T170000
DTSTAMP:20260423T221108
CREATED:20260124T010050Z
LAST-MODIFIED:20251218T172507Z
UID:8394-1766044800-1766077200@stpauls-rc.co.uk
SUMMARY:31st January
DESCRIPTION:1.31. St John Bosco  READ ME
URL:https://stpauls-rc.co.uk/event/31st-january/
CATEGORIES:Feasts
END:VEVENT
END:VCALENDAR