BEGIN:VCALENDAR
VERSION:2.0
PRODID:-//St. Paul&#039;s Cramlington - ECPv6.15.11//NONSGML v1.0//EN
CALSCALE:GREGORIAN
METHOD:PUBLISH
X-WR-CALNAME:St. Paul&#039;s Cramlington
X-ORIGINAL-URL:https://stpauls-rc.co.uk
X-WR-CALDESC:Events for St. Paul&#039;s Cramlington
REFRESH-INTERVAL;VALUE=DURATION:PT1H
X-Robots-Tag:noindex
X-PUBLISHED-TTL:PT1H
BEGIN:VTIMEZONE
TZID:UTC
BEGIN:STANDARD
TZOFFSETFROM:+0000
TZOFFSETTO:+0000
TZNAME:UTC
DTSTART:20250101T000000
END:STANDARD
END:VTIMEZONE
BEGIN:VEVENT
DTSTART;TZID=UTC:20260425T180000
DTEND;TZID=UTC:20260425T190000
DTSTAMP:20260423T162930
CREATED:20260418T131520Z
LAST-MODIFIED:20260418T131520Z
UID:9231-1777140000-1777143600@stpauls-rc.co.uk
SUMMARY:Mass Intention
DESCRIPTION:Tonight’s Mass will be celebrated for the repose of the souls of Nancy\, John and Keith McCarthy\, R.I.P.
URL:https://stpauls-rc.co.uk/event/mass-intention-198/
LOCATION:St. Paul’s RC Church\, Cramlington\, Dewley\, Cramlington\, NE23 6EF\, United Kingdom
END:VEVENT
BEGIN:VEVENT
DTSTART;TZID=UTC:20260607T100000
DTEND;TZID=UTC:20260607T110000
DTSTAMP:20260423T162930
CREATED:20260105T173910Z
LAST-MODIFIED:20260105T173926Z
UID:8942-1780826400-1780830000@stpauls-rc.co.uk
SUMMARY:First Holy Communion Mass
DESCRIPTION:Children from St. Paul’s will receive their First Holy Communion today during Mass.
URL:https://stpauls-rc.co.uk/event/first-holy-communion-mass-2/
LOCATION:St. Paul’s RC Church\, Cramlington\, Dewley\, Cramlington\, NE23 6EF\, United Kingdom
END:VEVENT
END:VCALENDAR