BEGIN:VCALENDAR
VERSION:2.0
PRODID:-//St. Paul&#039;s Cramlington - ECPv6.15.11//NONSGML v1.0//EN
CALSCALE:GREGORIAN
METHOD:PUBLISH
X-ORIGINAL-URL:https://stpauls-rc.co.uk
X-WR-CALDESC:Events for St. Paul&#039;s Cramlington
REFRESH-INTERVAL;VALUE=DURATION:PT1H
X-Robots-Tag:noindex
X-PUBLISHED-TTL:PT1H
BEGIN:VTIMEZONE
TZID:UTC
BEGIN:STANDARD
TZOFFSETFROM:+0000
TZOFFSETTO:+0000
TZNAME:UTC
DTSTART:20210101T000000
END:STANDARD
END:VTIMEZONE
BEGIN:VEVENT
DTSTART;TZID=UTC:20220904T100000
DTEND;TZID=UTC:20220904T110000
DTSTAMP:20260426T035614
CREATED:20220904T065608Z
LAST-MODIFIED:20220904T070014Z
UID:3370-1662285600-1662289200@stpauls-rc.co.uk
SUMMARY:Mass Intention
DESCRIPTION:People of the Parish.
URL:https://stpauls-rc.co.uk/event/mass-intention-18/
LOCATION:St. Paul’s RC Church\, Cramlington\, Dewley\, Cramlington\, NE23 6EF\, United Kingdom
END:VEVENT
BEGIN:VEVENT
DTSTART;TZID=UTC:20220908T190000
DTEND;TZID=UTC:20220908T203000
DTSTAMP:20260426T035614
CREATED:20220716T183223Z
LAST-MODIFIED:20220716T183231Z
UID:3081-1662663600-1662669000@stpauls-rc.co.uk
SUMMARY:ADULT FORMATION AND SPIRITUAL NURTURING GROUP
DESCRIPTION:The Group will next meet on Thursday 8th September. Please come along between 7 – 8:15pm to nurture and share your faith values with your parish family. Feel free to drop in\, join in or just listen. Refreshments are provided.
URL:https://stpauls-rc.co.uk/event/adult-formation-and-spiritual-nurturing-group-4/
LOCATION:St. Paul’s RC Church\, Cramlington\, Dewley\, Cramlington\, NE23 6EF\, United Kingdom
END:VEVENT
BEGIN:VEVENT
DTSTART;TZID=UTC:20220910T180000
DTEND;TZID=UTC:20220910T190000
DTSTAMP:20260426T035614
CREATED:20220909T140618Z
LAST-MODIFIED:20220909T140618Z
UID:3405-1662832800-1662836400@stpauls-rc.co.uk
SUMMARY:Mass Intention
DESCRIPTION:Her Majesty Queen Elizabeth II. RIP
URL:https://stpauls-rc.co.uk/event/mass-intention-19/
LOCATION:St. Paul’s RC Church\, Cramlington\, Dewley\, Cramlington\, NE23 6EF\, United Kingdom
END:VEVENT
BEGIN:VEVENT
DTSTART;TZID=UTC:20220911T100000
DTEND;TZID=UTC:20220911T110000
DTSTAMP:20260426T035614
CREATED:20220909T140728Z
LAST-MODIFIED:20220909T140751Z
UID:3407-1662890400-1662894000@stpauls-rc.co.uk
SUMMARY:Mass Intention
DESCRIPTION:Deceased members of the Killen and McCain families
URL:https://stpauls-rc.co.uk/event/mass-intention-20/
LOCATION:St. Paul’s RC Church\, Cramlington\, Dewley\, Cramlington\, NE23 6EF\, United Kingdom
END:VEVENT
BEGIN:VEVENT
DTSTART;TZID=UTC:20220912T100000
DTEND;TZID=UTC:20220912T103000
DTSTAMP:20260426T035614
CREATED:20220903T191623Z
LAST-MODIFIED:20220903T191623Z
UID:3326-1662976800-1662978600@stpauls-rc.co.uk
SUMMARY:NO MASS
DESCRIPTION:There will be NO MASS on MONDAY 12th\, MONDAY 19th\, MONDAY 26th SEPTEMBER 2022 or on MONDAY 3rd OCTOBER 2022 at St. Paul’s. \nThere will be NO MASS after the SUNDAY VIGIL on SATURDAY 8th OCTOBER until FRIDAY 14th OCTOBER at St. Paul’s. A Eucharistic Service will be held on SUNDAY 9th OCTOBER in lieu of Mass. \nThere will be NO MASS on WEDNESDAY 14th SEPTEMBER\, SUNDAY 9th  or WEDNESDAY 12th OCTOBER 2022 at New Hartley. \nThere will be NO MASS on  SUNDAY 9th OCTOBER 2022 at St. John the Baptist\, Annistford. A Eucharistic Service will be held in lieu of Mass.
URL:https://stpauls-rc.co.uk/event/no-mass-11/
LOCATION:St. Paul’s RC Church\, Cramlington\, Dewley\, Cramlington\, NE23 6EF\, United Kingdom
END:VEVENT
BEGIN:VEVENT
DTSTART;VALUE=DATE:20220914
DTEND;VALUE=DATE:20220915
DTSTAMP:20260426T035614
CREATED:20220903T193917Z
LAST-MODIFIED:20220909T141522Z
UID:3344-1663113600-1663199999@stpauls-rc.co.uk
SUMMARY:NO MASS
DESCRIPTION:There will be NO MASS on WEDNESDAY 14th SEPTEMBER at New Hartley.
URL:https://stpauls-rc.co.uk/event/no-mass-20/
END:VEVENT
BEGIN:VEVENT
DTSTART;TZID=UTC:20220916T180000
DTEND;TZID=UTC:20220916T190000
DTSTAMP:20260426T035614
CREATED:20220909T141032Z
LAST-MODIFIED:20220909T141304Z
UID:3409-1663351200-1663354800@stpauls-rc.co.uk
SUMMARY:Change in Mass Time
DESCRIPTION:Mass will be celebrated at 6:30pm following Exposition of The Blessed Sacrament from 6:00 – 6:30pm
URL:https://stpauls-rc.co.uk/event/change-in-mass-time/
LOCATION:St. Paul’s RC Church\, Cramlington\, Dewley\, Cramlington\, NE23 6EF\, United Kingdom
END:VEVENT
BEGIN:VEVENT
DTSTART;TZID=UTC:20220917T180000
DTEND;TZID=UTC:20220917T190000
DTSTAMP:20260426T035614
CREATED:20220916T192851Z
LAST-MODIFIED:20220916T192851Z
UID:3436-1663437600-1663441200@stpauls-rc.co.uk
SUMMARY:Mass Intention
DESCRIPTION:Keith McCarthy – Recovery from ill health
URL:https://stpauls-rc.co.uk/event/mass-intention-21/
LOCATION:St. Paul’s RC Church\, Cramlington\, Dewley\, Cramlington\, NE23 6EF\, United Kingdom
END:VEVENT
BEGIN:VEVENT
DTSTART;TZID=UTC:20220917T180000
DTEND;TZID=UTC:20220917T210000
DTSTAMP:20260426T035614
CREATED:20220804T172927Z
LAST-MODIFIED:20220804T183201Z
UID:3156-1663437600-1663448400@stpauls-rc.co.uk
SUMMARY:Festival of Music
DESCRIPTION:                           \n                  CRAMLINGTON DOXFORD PLACE METHODIST CHURCH \n                                               Harvest Celebration  \n                Festival Of Music with the Stockton Salvation Army Band \n                                      followed by Pie and Pea Supper  \nTickets £5.00 to include supper available from Judith Dodds\, Tele: 07860 815809. \n                    Saturday 17th September 2022\, commencing 6:00pm \n                                           Please be seated by 5:45pm
URL:https://stpauls-rc.co.uk/event/festival-of-music/
END:VEVENT
BEGIN:VEVENT
DTSTART;TZID=UTC:20220919T100000
DTEND;TZID=UTC:20220919T103000
DTSTAMP:20260426T035614
CREATED:20220903T191736Z
LAST-MODIFIED:20220903T191736Z
UID:3328-1663581600-1663583400@stpauls-rc.co.uk
SUMMARY:NO MASS
DESCRIPTION:There will be NO MASS on MONDAY 12th\, MONDAY 19th\, MONDAY 26th SEPTEMBER 2022 or on MONDAY 3rd OCTOBER 2022 at St. Paul’s. \nThere will be NO MASS after the SUNDAY VIGIL on SATURDAY 8th OCTOBER until FRIDAY 14th OCTOBER at St. Paul’s. A Eucharistic Service will be held on SUNDAY 9th OCTOBER in lieu of Mass. \nThere will be NO MASS on WEDNESDAY 14th SEPTEMBER\, SUNDAY 9th  or WEDNESDAY 12th OCTOBER 2022 at New Hartley. \nThere will be NO MASS on  SUNDAY 9th OCTOBER 2022 at St. John the Baptist\, Annistford. A Eucharistic Service will be held in lieu of Mass.
URL:https://stpauls-rc.co.uk/event/no-mass-12/
LOCATION:St. Paul’s RC Church\, Cramlington\, Dewley\, Cramlington\, NE23 6EF\, United Kingdom
END:VEVENT
BEGIN:VEVENT
DTSTART;TZID=UTC:20220922T190000
DTEND;TZID=UTC:20220922T210000
DTSTAMP:20260426T035614
CREATED:20220618T064556Z
LAST-MODIFIED:20220618T064556Z
UID:2743-1663873200-1663880400@stpauls-rc.co.uk
SUMMARY:Diocesan Faith and Food event
DESCRIPTION:As part of the Year of the Eucharist\, a Diocesan ‘Faith and Food’ event will be held on Thursday 22nd  September\, 7:00 – 9:00pm at English Martyrs Church Hall\, Stamfordham Road\, Newcastle.
URL:https://stpauls-rc.co.uk/event/diocesan-faith-and-food-event/
END:VEVENT
BEGIN:VEVENT
DTSTART;TZID=UTC:20220924T180000
DTEND;TZID=UTC:20220924T190000
DTSTAMP:20260426T035614
CREATED:20220926T232313Z
LAST-MODIFIED:20220926T232335Z
UID:3462-1664042400-1664046000@stpauls-rc.co.uk
SUMMARY:Mass Intention
DESCRIPTION:Bet & Rob Watson Anniversaries
URL:https://stpauls-rc.co.uk/event/mass-intention-22/
LOCATION:St. Paul’s RC Church\, Cramlington\, Dewley\, Cramlington\, NE23 6EF\, United Kingdom
END:VEVENT
BEGIN:VEVENT
DTSTART;TZID=UTC:20220926T100000
DTEND;TZID=UTC:20220926T103000
DTSTAMP:20260426T035614
CREATED:20220903T191848Z
LAST-MODIFIED:20220903T191848Z
UID:3330-1664186400-1664188200@stpauls-rc.co.uk
SUMMARY:NO MASS
DESCRIPTION:There will be NO MASS on MONDAY 12th\, MONDAY 19th\, MONDAY 26th SEPTEMBER 2022 or on MONDAY 3rd OCTOBER 2022 at St. Paul’s. \nThere will be NO MASS after the SUNDAY VIGIL on SATURDAY 8th OCTOBER until FRIDAY 14th OCTOBER at St. Paul’s. A Eucharistic Service will be held on SUNDAY 9th OCTOBER in lieu of Mass. \nThere will be NO MASS on WEDNESDAY 14th SEPTEMBER\, SUNDAY 9th  or WEDNESDAY 12th OCTOBER 2022 at New Hartley. \nThere will be NO MASS on  SUNDAY 9th OCTOBER 2022 at St. John the Baptist\, Annistford. A Eucharistic Service will be held in lieu of Mass.
URL:https://stpauls-rc.co.uk/event/no-mass-13/
LOCATION:St. Paul’s RC Church\, Cramlington\, Dewley\, Cramlington\, NE23 6EF\, United Kingdom
END:VEVENT
BEGIN:VEVENT
DTSTART;TZID=UTC:20221003T100000
DTEND;TZID=UTC:20221003T103000
DTSTAMP:20260426T035614
CREATED:20220903T191953Z
LAST-MODIFIED:20220903T192035Z
UID:3332-1664791200-1664793000@stpauls-rc.co.uk
SUMMARY:NO MASS
DESCRIPTION:There will be NO MASS on MONDAY 12th\, MONDAY 19th\, MONDAY 26th SEPTEMBER 2022 or on MONDAY 3rd OCTOBER 2022 at St. Paul’s. \nThere will be NO MASS after the SUNDAY VIGIL on SATURDAY 8th OCTOBER until FRIDAY 14th OCTOBER at St. Paul’s. A Eucharistic Service will be held on SUNDAY 9th OCTOBER in lieu of Mass. \nThere will be NO MASS on WEDNESDAY 14th SEPTEMBER\, SUNDAY 9th  or WEDNESDAY 12th OCTOBER 2022 at New Hartley. \nThere will be NO MASS on  SUNDAY 9th OCTOBER 2022 at St. John the Baptist\, Annistford. A Eucharistic Service will be held in lieu of Mass.
URL:https://stpauls-rc.co.uk/event/no-mass-14/
LOCATION:St. Paul’s RC Church\, Cramlington\, Dewley\, Cramlington\, NE23 6EF\, United Kingdom
END:VEVENT
BEGIN:VEVENT
DTSTART;TZID=UTC:20221008T180000
DTEND;TZID=UTC:20221008T190000
DTSTAMP:20260426T035614
CREATED:20220903T194503Z
LAST-MODIFIED:20220904T070346Z
UID:3352-1665252000-1665255600@stpauls-rc.co.uk
SUMMARY:MASS
DESCRIPTION:MASS will be celebrated at St. John the Baptist\, Annistford on SATURDAY 8th OCTOBER at 6:00pm  as there will be NO MASS on  SUNDAY 9th OCTOBER 2022. A Eucharistic Service will be held in lieu of Mass.
URL:https://stpauls-rc.co.uk/event/mass-5/
LOCATION:St. John the Baptist RC Church\, Annitsford\, United Kingdom
END:VEVENT
BEGIN:VEVENT
DTSTART;VALUE=DATE:20221009
DTEND;VALUE=DATE:20221010
DTSTAMP:20260426T035614
CREATED:20220903T194042Z
LAST-MODIFIED:20220903T194042Z
UID:3346-1665273600-1665359999@stpauls-rc.co.uk
SUMMARY:NO MASS
DESCRIPTION:There will be NO MASS on MONDAY 12th\, MONDAY 19th\, MONDAY 26th SEPTEMBER 2022 or on MONDAY 3rd OCTOBER 2022 at St. Paul’s. \nThere will be NO MASS after the SUNDAY VIGIL on SATURDAY 8th OCTOBER until FRIDAY 14th OCTOBER at St. Paul’s. A Eucharistic Service will be held on SUNDAY 9th OCTOBER in lieu of Mass. \nThere will be NO MASS on WEDNESDAY 14th SEPTEMBER\, SUNDAY 9th  or WEDNESDAY 12th OCTOBER 2022 at New Hartley. \nThere will be NO MASS on  SUNDAY 9th OCTOBER 2022 at St. John the Baptist\, Annistford. A Eucharistic Service will be held in lieu of Mass.
URL:https://stpauls-rc.co.uk/event/no-mass-21/
END:VEVENT
BEGIN:VEVENT
DTSTART;VALUE=DATE:20221009
DTEND;VALUE=DATE:20221010
DTSTAMP:20260426T035614
CREATED:20220903T194249Z
LAST-MODIFIED:20220903T194249Z
UID:3350-1665273600-1665359999@stpauls-rc.co.uk
SUMMARY:NO MASS
DESCRIPTION:There will be NO MASS on MONDAY 12th\, MONDAY 19th\, MONDAY 26th SEPTEMBER 2022 or on MONDAY 3rd OCTOBER 2022 at St. Paul’s. \nThere will be NO MASS after the SUNDAY VIGIL on SATURDAY 8th OCTOBER until FRIDAY 14th OCTOBER at St. Paul’s. A Eucharistic Service will be held on SUNDAY 9th OCTOBER in lieu of Mass. \nThere will be NO MASS on WEDNESDAY 14th SEPTEMBER\, SUNDAY 9th  or WEDNESDAY 12th OCTOBER 2022 at New Hartley. \nThere will be NO MASS on  SUNDAY 9th OCTOBER 2022 at St. John the Baptist\, Annistford. A Eucharistic Service will be held in lieu of Mass.
URL:https://stpauls-rc.co.uk/event/no-mass-23/
LOCATION:St. John the Baptist RC Church\, Annitsford\, United Kingdom
END:VEVENT
BEGIN:VEVENT
DTSTART;TZID=UTC:20221009T100000
DTEND;TZID=UTC:20221009T110000
DTSTAMP:20260426T035614
CREATED:20220903T192146Z
LAST-MODIFIED:20220903T192146Z
UID:3334-1665309600-1665313200@stpauls-rc.co.uk
SUMMARY:NO MASS
DESCRIPTION:There will be NO MASS on MONDAY 12th\, MONDAY 19th\, MONDAY 26th SEPTEMBER 2022 or on MONDAY 3rd OCTOBER 2022 at St. Paul’s. \nThere will be NO MASS after the SUNDAY VIGIL on SATURDAY 8th OCTOBER until FRIDAY 14th OCTOBER at St. Paul’s. A Eucharistic Service will be held on SUNDAY 9th OCTOBER in lieu of Mass. \nThere will be NO MASS on WEDNESDAY 14th SEPTEMBER\, SUNDAY 9th  or WEDNESDAY 12th OCTOBER 2022 at New Hartley. \nThere will be NO MASS on  SUNDAY 9th OCTOBER 2022 at St. John the Baptist\, Annistford. A Eucharistic Service will be held in lieu of Mass.
URL:https://stpauls-rc.co.uk/event/no-mass-15/
LOCATION:St. Paul’s RC Church\, Cramlington\, Dewley\, Cramlington\, NE23 6EF\, United Kingdom
END:VEVENT
BEGIN:VEVENT
DTSTART;TZID=UTC:20221010T100000
DTEND;TZID=UTC:20221010T103000
DTSTAMP:20260426T035614
CREATED:20220903T192250Z
LAST-MODIFIED:20220903T192250Z
UID:3336-1665396000-1665397800@stpauls-rc.co.uk
SUMMARY:NO MASS
DESCRIPTION:There will be NO MASS on MONDAY 12th\, MONDAY 19th\, MONDAY 26th SEPTEMBER 2022 or on MONDAY 3rd OCTOBER 2022 at St. Paul’s. \nThere will be NO MASS after the SUNDAY VIGIL on SATURDAY 8th OCTOBER until FRIDAY 14th OCTOBER at St. Paul’s. A Eucharistic Service will be held on SUNDAY 9th OCTOBER in lieu of Mass. \nThere will be NO MASS on WEDNESDAY 14th SEPTEMBER\, SUNDAY 9th  or WEDNESDAY 12th OCTOBER 2022 at New Hartley. \nThere will be NO MASS on  SUNDAY 9th OCTOBER 2022 at St. John the Baptist\, Annistford. A Eucharistic Service will be held in lieu of Mass.
URL:https://stpauls-rc.co.uk/event/no-mass-16/
LOCATION:St. Paul’s RC Church\, Cramlington\, Dewley\, Cramlington\, NE23 6EF\, United Kingdom
END:VEVENT
BEGIN:VEVENT
DTSTART;TZID=UTC:20221011T100000
DTEND;TZID=UTC:20221011T103000
DTSTAMP:20260426T035614
CREATED:20220903T192337Z
LAST-MODIFIED:20220903T192337Z
UID:3338-1665482400-1665484200@stpauls-rc.co.uk
SUMMARY:NO MASS
DESCRIPTION:There will be NO MASS on MONDAY 12th\, MONDAY 19th\, MONDAY 26th SEPTEMBER 2022 or on MONDAY 3rd OCTOBER 2022 at St. Paul’s. \nThere will be NO MASS after the SUNDAY VIGIL on SATURDAY 8th OCTOBER until FRIDAY 14th OCTOBER at St. Paul’s. A Eucharistic Service will be held on SUNDAY 9th OCTOBER in lieu of Mass. \nThere will be NO MASS on WEDNESDAY 14th SEPTEMBER\, SUNDAY 9th  or WEDNESDAY 12th OCTOBER 2022 at New Hartley. \nThere will be NO MASS on  SUNDAY 9th OCTOBER 2022 at St. John the Baptist\, Annistford. A Eucharistic Service will be held in lieu of Mass.
URL:https://stpauls-rc.co.uk/event/no-mass-17/
LOCATION:St. Paul’s RC Church\, Cramlington\, Dewley\, Cramlington\, NE23 6EF\, United Kingdom
END:VEVENT
BEGIN:VEVENT
DTSTART;VALUE=DATE:20221012
DTEND;VALUE=DATE:20221013
DTSTAMP:20260426T035614
CREATED:20220903T194125Z
LAST-MODIFIED:20220903T194125Z
UID:3348-1665532800-1665619199@stpauls-rc.co.uk
SUMMARY:NO MASS
DESCRIPTION:There will be NO MASS on MONDAY 12th\, MONDAY 19th\, MONDAY 26th SEPTEMBER 2022 or on MONDAY 3rd OCTOBER 2022 at St. Paul’s. \nThere will be NO MASS after the SUNDAY VIGIL on SATURDAY 8th OCTOBER until FRIDAY 14th OCTOBER at St. Paul’s. A Eucharistic Service will be held on SUNDAY 9th OCTOBER in lieu of Mass. \nThere will be NO MASS on WEDNESDAY 14th SEPTEMBER\, SUNDAY 9th  or WEDNESDAY 12th OCTOBER 2022 at New Hartley. \nThere will be NO MASS on  SUNDAY 9th OCTOBER 2022 at St. John the Baptist\, Annistford. A Eucharistic Service will be held in lieu of Mass.
URL:https://stpauls-rc.co.uk/event/no-mass-22/
END:VEVENT
BEGIN:VEVENT
DTSTART;TZID=UTC:20221012T100000
DTEND;TZID=UTC:20221012T103000
DTSTAMP:20260426T035614
CREATED:20220903T192434Z
LAST-MODIFIED:20220903T192434Z
UID:3340-1665568800-1665570600@stpauls-rc.co.uk
SUMMARY:NO MASS
DESCRIPTION:There will be NO MASS on MONDAY 12th\, MONDAY 19th\, MONDAY 26th SEPTEMBER 2022 or on MONDAY 3rd OCTOBER 2022 at St. Paul’s. \nThere will be NO MASS after the SUNDAY VIGIL on SATURDAY 8th OCTOBER until FRIDAY 14th OCTOBER at St. Paul’s. A Eucharistic Service will be held on SUNDAY 9th OCTOBER in lieu of Mass. \nThere will be NO MASS on WEDNESDAY 14th SEPTEMBER\, SUNDAY 9th  or WEDNESDAY 12th OCTOBER 2022 at New Hartley. \nThere will be NO MASS on  SUNDAY 9th OCTOBER 2022 at St. John the Baptist\, Annistford. A Eucharistic Service will be held in lieu of Mass.
URL:https://stpauls-rc.co.uk/event/no-mass-18/
LOCATION:St. Paul’s RC Church\, Cramlington\, Dewley\, Cramlington\, NE23 6EF\, United Kingdom
END:VEVENT
BEGIN:VEVENT
DTSTART;TZID=UTC:20221013T100000
DTEND;TZID=UTC:20221013T103000
DTSTAMP:20260426T035614
CREATED:20220903T192528Z
LAST-MODIFIED:20220903T192528Z
UID:3342-1665655200-1665657000@stpauls-rc.co.uk
SUMMARY:NO MASS
DESCRIPTION:There will be NO MASS on MONDAY 12th\, MONDAY 19th\, MONDAY 26th SEPTEMBER 2022 or on MONDAY 3rd OCTOBER 2022 at St. Paul’s. \nThere will be NO MASS after the SUNDAY VIGIL on SATURDAY 8th OCTOBER until FRIDAY 14th OCTOBER at St. Paul’s. A Eucharistic Service will be held on SUNDAY 9th OCTOBER in lieu of Mass. \nThere will be NO MASS on WEDNESDAY 14th SEPTEMBER\, SUNDAY 9th  or WEDNESDAY 12th OCTOBER 2022 at New Hartley. \nThere will be NO MASS on  SUNDAY 9th OCTOBER 2022 at St. John the Baptist\, Annistford. A Eucharistic Service will be held in lieu of Mass.
URL:https://stpauls-rc.co.uk/event/no-mass-19/
LOCATION:St. Paul’s RC Church\, Cramlington\, Dewley\, Cramlington\, NE23 6EF\, United Kingdom
END:VEVENT
BEGIN:VEVENT
DTSTART;TZID=UTC:20221015T180000
DTEND;TZID=UTC:20221119T180000
DTSTAMP:20260426T035614
CREATED:20221021T111901Z
LAST-MODIFIED:20221028T133621Z
UID:3565-1665856800-1668880800@stpauls-rc.co.uk
SUMMARY:Christmas Raffle - Ticket Sales
DESCRIPTION:Your help is needed to sell draw tickets which are now available and to contribute prizes. The draw will take place on the 19th November and your usual help and contributions are gratefully received.
URL:https://stpauls-rc.co.uk/event/christmas-raffle/
LOCATION:St. Paul’s RC Church\, Cramlington\, Dewley\, Cramlington\, NE23 6EF\, United Kingdom
END:VEVENT
BEGIN:VEVENT
DTSTART;TZID=UTC:20221016T120000
DTEND;TZID=UTC:20221016T133000
DTSTAMP:20260426T035614
CREATED:20221015T195440Z
LAST-MODIFIED:20221015T195440Z
UID:3539-1665921600-1665927000@stpauls-rc.co.uk
SUMMARY:PPC AGM
DESCRIPTION:Annual General Meeting of St. Paul’s Parish Pastoral Council.
URL:https://stpauls-rc.co.uk/event/ppc-agm/
LOCATION:St. Paul’s RC Church\, Cramlington\, Dewley\, Cramlington\, NE23 6EF\, United Kingdom
END:VEVENT
BEGIN:VEVENT
DTSTART;TZID=UTC:20221019T103000
DTEND;TZID=UTC:20221019T120000
DTSTAMP:20260426T035614
CREATED:20221021T110502Z
LAST-MODIFIED:20221021T110502Z
UID:3551-1666175400-1666180800@stpauls-rc.co.uk
SUMMARY:Coffee Mornings
DESCRIPTION:These will be held after each Wednesday morning Mass.
URL:https://stpauls-rc.co.uk/event/coffee-mornings/
END:VEVENT
BEGIN:VEVENT
DTSTART;TZID=UTC:20221021T190000
DTEND;TZID=UTC:20221021T220000
DTSTAMP:20260426T035614
CREATED:20220818T221030Z
LAST-MODIFIED:20220818T221131Z
UID:3223-1666378800-1666389600@stpauls-rc.co.uk
SUMMARY:Theatre Trip
DESCRIPTION:“Lipstick on you Collar” At Phoenix Theatre Blyth organised by Sheila Hedley\, 07541 104055. Tickets will be £24. Please contact Sheila ASAP should you wish to go.
URL:https://stpauls-rc.co.uk/event/theatre-trip/
END:VEVENT
BEGIN:VEVENT
DTSTART;TZID=UTC:20221022T080000
DTEND;TZID=UTC:20221106T120000
DTSTAMP:20260426T035614
CREATED:20221021T110231Z
LAST-MODIFIED:20221021T110231Z
UID:3549-1666425600-1667736000@stpauls-rc.co.uk
SUMMARY:PPC Election: Nominations 2022
DESCRIPTION:Nomination papers are available at the back of church to be filled in and placed in the Box. There is a need to elect 8 people to the PPC any anyone aged 18 or over and of good standing in the parish can be nominated. Successful nominees will serve for a term of 2 years with the option to serve a further 2 years if successful in the following election process. Please ensure the person you are nominating has agreed to stand and that your nomination is submitted by weekending 6th November. Elections to the PPC will now take place on 13th November.
URL:https://stpauls-rc.co.uk/event/ppc-election-nominations-2022/
END:VEVENT
BEGIN:VEVENT
DTSTART;TZID=UTC:20221022T180000
DTEND;TZID=UTC:20221022T190000
DTSTAMP:20260426T035614
CREATED:20221021T111119Z
LAST-MODIFIED:20221021T111119Z
UID:3555-1666461600-1666465200@stpauls-rc.co.uk
SUMMARY:World Mission Sunday
DESCRIPTION:A second collection will take place at Masses this weekend .
URL:https://stpauls-rc.co.uk/event/world-mission-sunday/
LOCATION:St. Paul’s RC Church\, Cramlington\, Dewley\, Cramlington\, NE23 6EF\, United Kingdom
END:VEVENT
BEGIN:VEVENT
DTSTART;TZID=UTC:20221023T103000
DTEND;TZID=UTC:20221023T120000
DTSTAMP:20260426T035614
CREATED:20221021T111232Z
LAST-MODIFIED:20221021T111232Z
UID:3557-1666521000-1666526400@stpauls-rc.co.uk
SUMMARY:World Mission Sunday
DESCRIPTION:A second collection will take place at Masses this weekend .
URL:https://stpauls-rc.co.uk/event/world-mission-sunday-2/
LOCATION:St. Paul’s RC Church\, Cramlington\, Dewley\, Cramlington\, NE23 6EF\, United Kingdom
END:VEVENT
END:VCALENDAR