BEGIN:VCALENDAR
VERSION:2.0
PRODID:-//St. Paul&#039;s Cramlington - ECPv6.15.11//NONSGML v1.0//EN
CALSCALE:GREGORIAN
METHOD:PUBLISH
X-WR-CALNAME:St. Paul&#039;s Cramlington
X-ORIGINAL-URL:https://stpauls-rc.co.uk
X-WR-CALDESC:Events for St. Paul&#039;s Cramlington
REFRESH-INTERVAL;VALUE=DURATION:PT1H
X-Robots-Tag:noindex
X-PUBLISHED-TTL:PT1H
BEGIN:VTIMEZONE
TZID:UTC
BEGIN:STANDARD
TZOFFSETFROM:+0000
TZOFFSETTO:+0000
TZNAME:UTC
DTSTART:20220101T000000
END:STANDARD
END:VTIMEZONE
BEGIN:VEVENT
DTSTART;TZID=UTC:20240225T103000
DTEND;TZID=UTC:20240225T120000
DTSTAMP:20260425T133941
CREATED:20240302T110656Z
LAST-MODIFIED:20240302T110708Z
UID:6338-1708857000-1708862400@stpauls-rc.co.uk
SUMMARY:Mass Intention
DESCRIPTION:Special Intention of the Williams Family
URL:https://stpauls-rc.co.uk/event/mass-intention-75/
LOCATION:St. Paul’s RC Church\, Cramlington\, Dewley\, Cramlington\, NE23 6EF\, United Kingdom
END:VEVENT
BEGIN:VEVENT
DTSTART;TZID=UTC:20240221T190000
DTEND;TZID=UTC:20240221T200000
DTSTAMP:20260425T133941
CREATED:20240206T132737Z
LAST-MODIFIED:20240206T132737Z
UID:6227-1708542000-1708545600@stpauls-rc.co.uk
SUMMARY:Partnership Station Mass
DESCRIPTION:In order to prepare for the season of Lent focused largely on a more spiritually oriented journey\, this year in our partnership\, we have agreed to celebrate a Station Mass in four Churches throughout the Partnership; Please do make a note in your diary. \n1. Wednesday 21st February at 7pm at St Robert of Newminster Church\, Morpeth\n2. Wednesday 28th February at 7pm at St Paul’s Church\, Cramlington \n3. Wednesday 6th March at 7pm at Our Lady and St Wilfrid’s Church\, Blyth \n4. Wednesday 13th March at 7pm at St Aidan’s\, Ashington
URL:https://stpauls-rc.co.uk/event/partnership-station-mass/
END:VEVENT
BEGIN:VEVENT
DTSTART;TZID=UTC:20240221T110000
DTEND;TZID=UTC:20240221T120000
DTSTAMP:20260425T133941
CREATED:20240209T175405Z
LAST-MODIFIED:20240209T175405Z
UID:6248-1708513200-1708516800@stpauls-rc.co.uk
SUMMARY:Requiem Mass for Bob Watson
DESCRIPTION:Bob’s Requiem Mass will take place here in St. Paul’s at 11:00am on Wednesday 21st February followed by a private family interment. Please do try to attend to support his family and to show your gratitude for the service Bob provided via his music ministry to our parish for over 50 years. Rest in Peace\, Bob.
URL:https://stpauls-rc.co.uk/event/requiem-mass-for-bob-watson/
LOCATION:St. Paul’s RC Church\, Cramlington\, Dewley\, Cramlington\, NE23 6EF\, United Kingdom
END:VEVENT
BEGIN:VEVENT
DTSTART;TZID=UTC:20240221T093000
DTEND;TZID=UTC:20240221T100000
DTSTAMP:20260425T133941
CREATED:20240206T131928Z
LAST-MODIFIED:20240206T131928Z
UID:6220-1708507800-1708509600@stpauls-rc.co.uk
SUMMARY:Praying the Rosary
DESCRIPTION:Praying the Rosary is one of the best ways to meditate upon the life of Jesus. We are planning to begin praying the Rosary every Wednesday at 9.30 am\, prior to the Mass. This started on the 7th of February 2024. If you are free\, kindly join for the Rosary.
URL:https://stpauls-rc.co.uk/event/praying-the-rosary-3/
LOCATION:St. Paul’s RC Church Winter Chapel\, Cramlington\, NE23 6EF
END:VEVENT
BEGIN:VEVENT
DTSTART;TZID=UTC:20240215T100000
DTEND;TZID=UTC:20240215T103000
DTSTAMP:20260425T133941
CREATED:20240113T105408Z
LAST-MODIFIED:20240113T105425Z
UID:6144-1707991200-1707993000@stpauls-rc.co.uk
SUMMARY:Mass Intention
DESCRIPTION:Mass today will be celebrated for the repose of the soul of Ellen Killen.
URL:https://stpauls-rc.co.uk/event/mass-intentio/
LOCATION:St. Paul’s RC Church\, Cramlington\, Dewley\, Cramlington\, NE23 6EF\, United Kingdom
END:VEVENT
BEGIN:VEVENT
DTSTART;TZID=UTC:20240214T093000
DTEND;TZID=UTC:20240214T100000
DTSTAMP:20260425T133941
CREATED:20240206T131615Z
LAST-MODIFIED:20240206T132052Z
UID:6218-1707903000-1707904800@stpauls-rc.co.uk
SUMMARY:Praying the Rosary
DESCRIPTION:Praying the Rosary is one of the best ways to meditate upon the life of Jesus. We are planning to begin praying the Rosary every Wednesday at 9.30 am\, prior to the Mass. This started on the 7th of February 2024. If you are free\, kindly join for the Rosary.
URL:https://stpauls-rc.co.uk/event/praying-the-rosary-2/
LOCATION:St. Paul’s RC Church Winter Chapel\, Cramlington\, NE23 6EF
END:VEVENT
BEGIN:VEVENT
DTSTART;TZID=UTC:20240210T180000
DTEND;TZID=UTC:20240210T190000
DTSTAMP:20260425T133941
CREATED:20240206T120446Z
LAST-MODIFIED:20240206T120446Z
UID:6205-1707588000-1707591600@stpauls-rc.co.uk
SUMMARY:Mass Intention
DESCRIPTION:Mass today will be celebrated in thanksgiving for Bob & Pauline Siddle’s 55th Wedding Anniversary.
URL:https://stpauls-rc.co.uk/event/mass-intention-72/
LOCATION:St. Paul’s RC Church\, Cramlington\, Dewley\, Cramlington\, NE23 6EF\, United Kingdom
END:VEVENT
BEGIN:VEVENT
DTSTART;VALUE=DATE:20240210
DTEND;VALUE=DATE:20240211
DTSTAMP:20260425T133941
CREATED:20240206T131048Z
LAST-MODIFIED:20240206T131048Z
UID:6214-1707523200-1707609599@stpauls-rc.co.uk
SUMMARY:National Day of Prayer and Fasting for Life
DESCRIPTION:On Saturday 10th February you are asked to please pray the Rosary and fast from food\, apart from bread and water for the day\, for the end of Abortion and Euthanasia.
URL:https://stpauls-rc.co.uk/event/national-day-of-prayer-and-fasting-for-life/
END:VEVENT
BEGIN:VEVENT
DTSTART;TZID=UTC:20240208T100000
DTEND;TZID=UTC:20240208T103000
DTSTAMP:20260425T133941
CREATED:20240206T120310Z
LAST-MODIFIED:20240206T120310Z
UID:6203-1707386400-1707388200@stpauls-rc.co.uk
SUMMARY:Mass Intention
DESCRIPTION:Today’s Mass will be celebrated for the repose of the soul of Margaret Williams.
URL:https://stpauls-rc.co.uk/event/mass-intention-71/
LOCATION:St. Paul’s RC Church\, Cramlington\, Dewley\, Cramlington\, NE23 6EF\, United Kingdom
END:VEVENT
BEGIN:VEVENT
DTSTART;TZID=UTC:20240207T093000
DTEND;TZID=UTC:20240207T100000
DTSTAMP:20260425T133941
CREATED:20240206T131416Z
LAST-MODIFIED:20240206T132156Z
UID:6216-1707298200-1707300000@stpauls-rc.co.uk
SUMMARY:Praying the Rosary
DESCRIPTION:Praying the Rosary is one of the best ways to meditate upon the life of Jesus. We are planning to begin praying the Rosary every Wednesday at 9.30 am\, prior to the Mass. This will start on the 7th of February 2024. If you are free\, kindly join for the Rosary.
URL:https://stpauls-rc.co.uk/event/praying-the-rosary/
LOCATION:St. Paul’s RC Church Winter Chapel\, Cramlington\, NE23 6EF
END:VEVENT
BEGIN:VEVENT
DTSTART;TZID=UTC:20240203T180000
DTEND;TZID=UTC:20240203T190000
DTSTAMP:20260425T133941
CREATED:20240206T120151Z
LAST-MODIFIED:20240206T120151Z
UID:6201-1706983200-1706986800@stpauls-rc.co.uk
SUMMARY:Mass Intention
DESCRIPTION:Today’s Mass will be celebrated for the repose of the soul of Margaret Forster.
URL:https://stpauls-rc.co.uk/event/mass-intention-70/
LOCATION:St. Paul’s RC Church\, Cramlington\, Dewley\, Cramlington\, NE23 6EF\, United Kingdom
END:VEVENT
BEGIN:VEVENT
DTSTART;TZID=UTC:20240126T110000
DTEND;TZID=UTC:20240126T113000
DTSTAMP:20260425T133941
CREATED:20240120T114416Z
LAST-MODIFIED:20240120T114425Z
UID:6174-1706266800-1706268600@stpauls-rc.co.uk
SUMMARY:Mass Intention
DESCRIPTION:Mass today will be celebrated for the repose of the soul of Deidre Bland.
URL:https://stpauls-rc.co.uk/event/mass-intention-69/
LOCATION:St. Paul’s RC Church\, Cramlington\, Dewley\, Cramlington\, NE23 6EF\, United Kingdom
END:VEVENT
BEGIN:VEVENT
DTSTART;TZID=UTC:20240125T183000
DTEND;TZID=UTC:20240125T200000
DTSTAMP:20260425T133941
CREATED:20240106T085257Z
LAST-MODIFIED:20240106T085257Z
UID:5698-1706207400-1706212800@stpauls-rc.co.uk
SUMMARY:Pastoral Visit by Bishop Stephen
DESCRIPTION:Bishop Stephen will be making a Pastoral Visit to both St. Paul’s and St. John’s today. He will celebrate Mass in St. John’s\, Annitsford at 6:30pm with refreshments being served in the Church Hall afterwards giving everyone the chance to meet the Bishop.
URL:https://stpauls-rc.co.uk/event/pastoral-visit-by-bishop-stephen/
LOCATION:St. John the Baptist RC Church\, Annitsford\, United Kingdom
END:VEVENT
BEGIN:VEVENT
DTSTART;TZID=UTC:20240124T100000
DTEND;TZID=UTC:20240124T103000
DTSTAMP:20260425T133941
CREATED:20240120T114015Z
LAST-MODIFIED:20240120T114015Z
UID:6170-1706090400-1706092200@stpauls-rc.co.uk
SUMMARY:Mass Intention
DESCRIPTION:Mass today will be celebrated for the repose of the soul of John Reid.
URL:https://stpauls-rc.co.uk/event/mass-intention-67/
LOCATION:St. Paul’s RC Church\, Cramlington\, Dewley\, Cramlington\, NE23 6EF\, United Kingdom
END:VEVENT
BEGIN:VEVENT
DTSTART;TZID=UTC:20240121T103000
DTEND;TZID=UTC:20240121T120000
DTSTAMP:20260425T133941
CREATED:20240120T114152Z
LAST-MODIFIED:20240120T114214Z
UID:6172-1705833000-1705838400@stpauls-rc.co.uk
SUMMARY:Mass Intention
DESCRIPTION:Mass today will be celebrated for the repose of the soul of Kevin Robson.
URL:https://stpauls-rc.co.uk/event/mass-intention-68/
LOCATION:St. Paul’s RC Church\, Cramlington\, Dewley\, Cramlington\, NE23 6EF\, United Kingdom
END:VEVENT
BEGIN:VEVENT
DTSTART;TZID=UTC:20240120T180000
DTEND;TZID=UTC:20240120T190000
DTSTAMP:20260425T133941
CREATED:20240120T113903Z
LAST-MODIFIED:20240120T113903Z
UID:6168-1705773600-1705777200@stpauls-rc.co.uk
SUMMARY:Mass Intention
DESCRIPTION:Mass today will be celebrated for the repose of the soul of John Reid.
URL:https://stpauls-rc.co.uk/event/mass-intention-66/
LOCATION:St. Paul’s RC Church\, Cramlington\, Dewley\, Cramlington\, NE23 6EF\, United Kingdom
END:VEVENT
BEGIN:VEVENT
DTSTART;TZID=UTC:20240117T100000
DTEND;TZID=UTC:20240117T103000
DTSTAMP:20260425T133941
CREATED:20240113T104919Z
LAST-MODIFIED:20240113T105146Z
UID:6142-1705485600-1705487400@stpauls-rc.co.uk
SUMMARY:Mass Intention
DESCRIPTION:Mass will be celebrated today for the repose of the souls of  Nancy\, John and Keith McCarthy.
URL:https://stpauls-rc.co.uk/event/mass-intention-65/
LOCATION:St. Paul’s RC Church\, Cramlington\, Dewley\, Cramlington\, NE23 6EF\, United Kingdom
END:VEVENT
BEGIN:VEVENT
DTSTART;TZID=UTC:20240113T180000
DTEND;TZID=UTC:20240113T190000
DTSTAMP:20260425T133941
CREATED:20240113T104648Z
LAST-MODIFIED:20240113T104648Z
UID:6140-1705168800-1705172400@stpauls-rc.co.uk
SUMMARY:Mass Intention
DESCRIPTION:Mass will be celebrated today for the repose of the soul of Cicely Pulman.
URL:https://stpauls-rc.co.uk/event/mass-intention-64/
LOCATION:St. Paul’s RC Church\, Cramlington\, Dewley\, Cramlington\, NE23 6EF\, United Kingdom
END:VEVENT
BEGIN:VEVENT
DTSTART;TZID=UTC:20240111T103000
DTEND;TZID=UTC:20240111T113000
DTSTAMP:20260425T133941
CREATED:20240101T204139Z
LAST-MODIFIED:20240101T204139Z
UID:5508-1704969000-1704972600@stpauls-rc.co.uk
SUMMARY:Requiem Mass
DESCRIPTION:Repose of the soul of John Reid
URL:https://stpauls-rc.co.uk/event/requiem-mass-6/
LOCATION:St. Paul’s RC Church\, Cramlington\, Dewley\, Cramlington\, NE23 6EF\, United Kingdom
END:VEVENT
BEGIN:VEVENT
DTSTART;TZID=UTC:20240107T103000
DTEND;TZID=UTC:20240107T120000
DTSTAMP:20260425T133941
CREATED:20240106T084306Z
LAST-MODIFIED:20240106T084425Z
UID:5696-1704623400-1704628800@stpauls-rc.co.uk
SUMMARY:Mass Intention
DESCRIPTION:Celebrated for the repose of the soul of Paddy Killen\, R.I.P.
URL:https://stpauls-rc.co.uk/event/mass-intention-63/
LOCATION:St. Paul’s RC Church\, Cramlington\, Dewley\, Cramlington\, NE23 6EF\, United Kingdom
END:VEVENT
BEGIN:VEVENT
DTSTART;TZID=UTC:20240106T080000
DTEND;TZID=UTC:20240106T170000
DTSTAMP:20260425T133941
CREATED:20240106T085931Z
LAST-MODIFIED:20240106T085931Z
UID:5700-1704528000-1704560400@stpauls-rc.co.uk
SUMMARY:Partnership Mass
DESCRIPTION:To mark the Feast of St. Benet Biscop\, our Partnership Patron\, Mass will be celebrated at St. Bede’s\, Bedlington at 7pm.
URL:https://stpauls-rc.co.uk/event/partnership-mass-2/
END:VEVENT
BEGIN:VEVENT
DTSTART;TZID=UTC:20240104T100000
DTEND;TZID=UTC:20240104T103000
DTSTAMP:20260425T133941
CREATED:20240101T204000Z
LAST-MODIFIED:20240101T204000Z
UID:5506-1704362400-1704364200@stpauls-rc.co.uk
SUMMARY:Mass Intention
DESCRIPTION:Repose of the soul of James Siddle
URL:https://stpauls-rc.co.uk/event/mass-intention-62/
LOCATION:St. Paul’s RC Church\, Cramlington\, Dewley\, Cramlington\, NE23 6EF\, United Kingdom
END:VEVENT
BEGIN:VEVENT
DTSTART;TZID=UTC:20240103T100000
DTEND;TZID=UTC:20240103T103000
DTSTAMP:20260425T133941
CREATED:20240101T203745Z
LAST-MODIFIED:20240101T203745Z
UID:5504-1704276000-1704277800@stpauls-rc.co.uk
SUMMARY:Mass Intention
DESCRIPTION:Repose of the soul of John Reid
URL:https://stpauls-rc.co.uk/event/mass-intention-61/
LOCATION:St. Paul’s RC Church\, Cramlington\, Dewley\, Cramlington\, NE23 6EF\, United Kingdom
END:VEVENT
BEGIN:VEVENT
DTSTART;TZID=UTC:20231228T100000
DTEND;TZID=UTC:20231228T103000
DTSTAMP:20260425T133941
CREATED:20240101T203509Z
LAST-MODIFIED:20240101T203509Z
UID:5502-1703757600-1703759400@stpauls-rc.co.uk
SUMMARY:Mass Intention
DESCRIPTION:Repose of the soul of Paul Dinning
URL:https://stpauls-rc.co.uk/event/mass-intention-60/
LOCATION:St. Paul’s RC Church\, Cramlington\, Dewley\, Cramlington\, NE23 6EF\, United Kingdom
END:VEVENT
BEGIN:VEVENT
DTSTART;TZID=UTC:20231227T100000
DTEND;TZID=UTC:20231227T103000
DTSTAMP:20260425T133941
CREATED:20240101T203215Z
LAST-MODIFIED:20240101T203215Z
UID:5500-1703671200-1703673000@stpauls-rc.co.uk
SUMMARY:Mass Intention
DESCRIPTION:Repose of the soul of Winnie Hindmarsh
URL:https://stpauls-rc.co.uk/event/mass-intention-59/
LOCATION:St. Paul’s RC Church\, Cramlington\, Dewley\, Cramlington\, NE23 6EF\, United Kingdom
END:VEVENT
BEGIN:VEVENT
DTSTART;TZID=UTC:20231224T103000
DTEND;TZID=UTC:20231224T120000
DTSTAMP:20260425T133941
CREATED:20240101T202956Z
LAST-MODIFIED:20240101T202956Z
UID:5498-1703413800-1703419200@stpauls-rc.co.uk
SUMMARY:Mass Intention
DESCRIPTION:Repose of the souls of John & Veronica Heslop
URL:https://stpauls-rc.co.uk/event/mass-intention-58/
LOCATION:St. Paul’s RC Church\, Cramlington\, Dewley\, Cramlington\, NE23 6EF\, United Kingdom
END:VEVENT
BEGIN:VEVENT
DTSTART;TZID=UTC:20231223T180000
DTEND;TZID=UTC:20231223T190000
DTSTAMP:20260425T133941
CREATED:20240101T202736Z
LAST-MODIFIED:20240101T202736Z
UID:5496-1703354400-1703358000@stpauls-rc.co.uk
SUMMARY:Mass Intention
DESCRIPTION:Repose of the soul of James Siddle.
URL:https://stpauls-rc.co.uk/event/mass-intention-57/
LOCATION:St. Paul’s RC Church\, Cramlington\, Dewley\, Cramlington\, NE23 6EF\, United Kingdom
END:VEVENT
BEGIN:VEVENT
DTSTART;TZID=UTC:20231216T180000
DTEND;TZID=UTC:20231216T190000
DTSTAMP:20260425T133941
CREATED:20240101T202523Z
LAST-MODIFIED:20240101T202523Z
UID:5494-1702749600-1702753200@stpauls-rc.co.uk
SUMMARY:Mass Intention
DESCRIPTION:Repose of the soul of Paul Battersby.
URL:https://stpauls-rc.co.uk/event/mass-intention-56/
LOCATION:St. Paul’s RC Church\, Cramlington\, Dewley\, Cramlington\, NE23 6EF\, United Kingdom
END:VEVENT
BEGIN:VEVENT
DTSTART;TZID=UTC:20231216T180000
DTEND;TZID=UTC:20231216T190000
DTSTAMP:20260425T133941
CREATED:20231209T093410Z
LAST-MODIFIED:20231209T093410Z
UID:5361-1702749600-1702753200@stpauls-rc.co.uk
SUMMARY:Mass Intention
DESCRIPTION:Today’s Mass will be celebrated for the repose of the soul of Paul Battersby
URL:https://stpauls-rc.co.uk/event/mass-intention-54/
LOCATION:St. Paul’s RC Church\, Cramlington\, Dewley\, Cramlington\, NE23 6EF\, United Kingdom
END:VEVENT
BEGIN:VEVENT
DTSTART;TZID=UTC:20231215T190000
DTEND;TZID=UTC:20231215T233000
DTSTAMP:20260425T133941
CREATED:20231013T154233Z
LAST-MODIFIED:20231013T154233Z
UID:5262-1702666800-1702683000@stpauls-rc.co.uk
SUMMARY:Adult Christmas Party 
DESCRIPTION:Friday 15th December\, Arcot Hall Golf Club. The price is £30 which includes a 3-course meal and a disco.  Could all those interested add their name to the list in the porch on the right as you leave church. The venue only holds 60 people so to secure your place the £30 is to be paid a.s.a.p.
URL:https://stpauls-rc.co.uk/event/adult-christmas-party/
END:VEVENT
END:VCALENDAR