BEGIN:VCALENDAR
VERSION:2.0
PRODID:-//St. Paul&#039;s Cramlington - ECPv6.15.11//NONSGML v1.0//EN
CALSCALE:GREGORIAN
METHOD:PUBLISH
X-WR-CALNAME:St. Paul&#039;s Cramlington
X-ORIGINAL-URL:https://stpauls-rc.co.uk
X-WR-CALDESC:Events for St. Paul&#039;s Cramlington
REFRESH-INTERVAL;VALUE=DURATION:PT1H
X-Robots-Tag:noindex
X-PUBLISHED-TTL:PT1H
BEGIN:VTIMEZONE
TZID:UTC
BEGIN:STANDARD
TZOFFSETFROM:+0000
TZOFFSETTO:+0000
TZNAME:UTC
DTSTART:20250101T000000
END:STANDARD
END:VTIMEZONE
BEGIN:VEVENT
DTSTART;TZID=UTC:20260131T180000
DTEND;TZID=UTC:20260131T190000
DTSTAMP:20260423T221058
CREATED:20260130T231115Z
LAST-MODIFIED:20260130T231115Z
UID:9000-1769882400-1769886000@stpauls-rc.co.uk
SUMMARY:Mass Intention
DESCRIPTION:Mass today will be celebrated in thanksgiving for T R
URL:https://stpauls-rc.co.uk/event/mass-intention-196/
LOCATION:St. Paul’s RC Church\, Cramlington\, Dewley\, Cramlington\, NE23 6EF\, United Kingdom
END:VEVENT
BEGIN:VEVENT
DTSTART;TZID=UTC:20260204T100000
DTEND;TZID=UTC:20260204T103000
DTSTAMP:20260423T221058
CREATED:20260130T230813Z
LAST-MODIFIED:20260130T230813Z
UID:8998-1770199200-1770201000@stpauls-rc.co.uk
SUMMARY:Mass Intention
DESCRIPTION:Mass today will be celebrated for the good health of Jessica
URL:https://stpauls-rc.co.uk/event/mass-intention-195/
LOCATION:St. Paul’s RC Church\, Cramlington\, Dewley\, Cramlington\, NE23 6EF\, United Kingdom
END:VEVENT
BEGIN:VEVENT
DTSTART;TZID=UTC:20260207T180000
DTEND;TZID=UTC:20260207T190000
DTSTAMP:20260423T221058
CREATED:20260130T230605Z
LAST-MODIFIED:20260130T230605Z
UID:8996-1770487200-1770490800@stpauls-rc.co.uk
SUMMARY:Mass Intention
DESCRIPTION:Mass today will be celebrated for the repose of the soul of Bob Watson
URL:https://stpauls-rc.co.uk/event/mass-intention-194/
LOCATION:St. Paul’s RC Church\, Cramlington\, Dewley\, Cramlington\, NE23 6EF\, United Kingdom
END:VEVENT
BEGIN:VEVENT
DTSTART;TZID=UTC:20260212T100000
DTEND;TZID=UTC:20260212T103000
DTSTAMP:20260423T221058
CREATED:20260209T125021Z
LAST-MODIFIED:20260209T125021Z
UID:9031-1770890400-1770892200@stpauls-rc.co.uk
SUMMARY:School Mass
DESCRIPTION:Years 1 and 2 from Ss Peter & Paul’s School will be attending the 10am Mass today
URL:https://stpauls-rc.co.uk/event/school-mass-3/
LOCATION:St. Paul’s RC Church\, Cramlington\, Dewley\, Cramlington\, NE23 6EF\, United Kingdom
END:VEVENT
BEGIN:VEVENT
DTSTART;TZID=UTC:20260213T113000
DTEND;TZID=UTC:20260213T123000
DTSTAMP:20260423T221058
CREATED:20260209T123913Z
LAST-MODIFIED:20260209T123913Z
UID:9027-1770982200-1770985800@stpauls-rc.co.uk
SUMMARY:Funeral Service
DESCRIPTION:The Funeral Service for Veronica James will be held today in S. Paul’s at 11:45am followed by her committal at Cowpen Crematorium
URL:https://stpauls-rc.co.uk/event/funeral-service-2/
LOCATION:St. Paul’s RC Church\, Cramlington\, Dewley\, Cramlington\, NE23 6EF\, United Kingdom
END:VEVENT
BEGIN:VEVENT
DTSTART;TZID=UTC:20260214T180000
DTEND;TZID=UTC:20260214T190000
DTSTAMP:20260423T221058
CREATED:20260209T124320Z
LAST-MODIFIED:20260209T124320Z
UID:9029-1771092000-1771095600@stpauls-rc.co.uk
SUMMARY:Mass Intention
DESCRIPTION:Today’s Mass will be celebrated for a Private Intention.
URL:https://stpauls-rc.co.uk/event/mass-intention-197/
LOCATION:St. Paul’s RC Church\, Cramlington\, Dewley\, Cramlington\, NE23 6EF\, United Kingdom
END:VEVENT
BEGIN:VEVENT
DTSTART;TZID=UTC:20260220T120000
DTEND;TZID=UTC:20260220T133000
DTSTAMP:20260423T221058
CREATED:20260111T220421Z
LAST-MODIFIED:20260111T220421Z
UID:8967-1771588800-1771594200@stpauls-rc.co.uk
SUMMARY:Blessing and Dedication of the Chapel of Our Lady of Fatima and the Enshrinement of the relics of Saints Francisco and Jacinto Marto Mass
DESCRIPTION:The Side Chapel at St. Paul’s will have been turned into a sacred space dedicated to Our Lady of Fatima and will stand as a place of prayer and reflection entrusted with the mission of proclaiming and preserving the timeless message of the Fatima apparitions
URL:https://stpauls-rc.co.uk/event/blessing-and-dedication-of-the-chapel-of-our-lady-of-fatima-and-the-enshrinement-of-the-relics-of-saints-francisco-and-jacinto-marto-mass/
LOCATION:St. Paul’s RC Church\, Cramlington\, Dewley\, Cramlington\, NE23 6EF\, United Kingdom
END:VEVENT
BEGIN:VEVENT
DTSTART;TZID=UTC:20260425T180000
DTEND;TZID=UTC:20260425T190000
DTSTAMP:20260423T221058
CREATED:20260418T131520Z
LAST-MODIFIED:20260418T131520Z
UID:9231-1777140000-1777143600@stpauls-rc.co.uk
SUMMARY:Mass Intention
DESCRIPTION:Tonight’s Mass will be celebrated for the repose of the souls of Nancy\, John and Keith McCarthy\, R.I.P.
URL:https://stpauls-rc.co.uk/event/mass-intention-198/
LOCATION:St. Paul’s RC Church\, Cramlington\, Dewley\, Cramlington\, NE23 6EF\, United Kingdom
END:VEVENT
BEGIN:VEVENT
DTSTART;TZID=UTC:20260607T100000
DTEND;TZID=UTC:20260607T110000
DTSTAMP:20260423T221058
CREATED:20260105T173910Z
LAST-MODIFIED:20260105T173926Z
UID:8942-1780826400-1780830000@stpauls-rc.co.uk
SUMMARY:First Holy Communion Mass
DESCRIPTION:Children from St. Paul’s will receive their First Holy Communion today during Mass.
URL:https://stpauls-rc.co.uk/event/first-holy-communion-mass-2/
LOCATION:St. Paul’s RC Church\, Cramlington\, Dewley\, Cramlington\, NE23 6EF\, United Kingdom
END:VEVENT
END:VCALENDAR