BEGIN:VCALENDAR
VERSION:2.0
PRODID:-//St. Paul&#039;s Cramlington - ECPv6.15.11//NONSGML v1.0//EN
CALSCALE:GREGORIAN
METHOD:PUBLISH
X-WR-CALNAME:St. Paul&#039;s Cramlington
X-ORIGINAL-URL:https://stpauls-rc.co.uk
X-WR-CALDESC:Events for St. Paul&#039;s Cramlington
REFRESH-INTERVAL;VALUE=DURATION:PT1H
X-Robots-Tag:noindex
X-PUBLISHED-TTL:PT1H
BEGIN:VTIMEZONE
TZID:UTC
BEGIN:STANDARD
TZOFFSETFROM:+0000
TZOFFSETTO:+0000
TZNAME:UTC
DTSTART:20230101T000000
END:STANDARD
END:VTIMEZONE
BEGIN:VEVENT
DTSTART;TZID=UTC:20240717T100000
DTEND;TZID=UTC:20240717T103000
DTSTAMP:20260425T151919
CREATED:20240712T144733Z
LAST-MODIFIED:20240712T144733Z
UID:6874-1721210400-1721212200@stpauls-rc.co.uk
SUMMARY:Mass Intention
DESCRIPTION:Mass will be celebrated for the repose of the Soul of Lisa Anne Forster.         
URL:https://stpauls-rc.co.uk/event/mass-intention-88/
LOCATION:St. Paul’s RC Church\, Cramlington\, Dewley\, Cramlington\, NE23 6EF\, United Kingdom
END:VEVENT
BEGIN:VEVENT
DTSTART;TZID=UTC:20240713T180000
DTEND;TZID=UTC:20240713T190000
DTSTAMP:20260425T151919
CREATED:20240712T144533Z
LAST-MODIFIED:20240712T144533Z
UID:6872-1720893600-1720897200@stpauls-rc.co.uk
SUMMARY:Mass Intention
DESCRIPTION:Mass will be celebrated for the repose of the Souls of Mary Hebden\, Josie McConnell and Bill Pickering.  \n\n\n\n 
URL:https://stpauls-rc.co.uk/event/mass-intention-87/
LOCATION:St. Paul’s RC Church\, Cramlington\, Dewley\, Cramlington\, NE23 6EF\, United Kingdom
CATEGORIES:Mass & Events
END:VEVENT
BEGIN:VEVENT
DTSTART;TZID=UTC:20240713T080000
DTEND;TZID=UTC:20240713T170000
DTSTAMP:20260425T151919
CREATED:20240427T184855Z
LAST-MODIFIED:20240427T184909Z
UID:6666-1720857600-1720890000@stpauls-rc.co.uk
SUMMARY:Parish Outing
DESCRIPTION:The Annual Parish Trip to the Holy Island of Lindisfarne will be today Saturday 13th July 2024. Please add you name to the list at the back of church so we can determine the size of bus required.
URL:https://stpauls-rc.co.uk/event/parish-outing/
END:VEVENT
BEGIN:VEVENT
DTSTART;TZID=UTC:20240710T100000
DTEND;TZID=UTC:20240710T103000
DTSTAMP:20260425T151919
CREATED:20240712T145704Z
LAST-MODIFIED:20240712T145810Z
UID:6882-1720605600-1720607400@stpauls-rc.co.uk
SUMMARY:Mass Intention
DESCRIPTION:Mass will be celebrated for the good health of Peter Young
URL:https://stpauls-rc.co.uk/event/mass-intention-92/
LOCATION:St. Paul’s RC Church\, Cramlington\, Dewley\, Cramlington\, NE23 6EF\, United Kingdom
END:VEVENT
BEGIN:VEVENT
DTSTART;TZID=UTC:20240706T180000
DTEND;TZID=UTC:20240706T190000
DTSTAMP:20260425T151919
CREATED:20240712T145516Z
LAST-MODIFIED:20240712T145516Z
UID:6880-1720288800-1720292400@stpauls-rc.co.uk
SUMMARY:Mass Intention
DESCRIPTION:Mass will be celebrated for the repose of the Soul of Paul Battersby
URL:https://stpauls-rc.co.uk/event/mass-intention-91/
LOCATION:St. Paul’s RC Church\, Cramlington\, Dewley\, Cramlington\, NE23 6EF\, United Kingdom
END:VEVENT
BEGIN:VEVENT
DTSTART;TZID=UTC:20240630T103000
DTEND;TZID=UTC:20240630T120000
DTSTAMP:20260425T151919
CREATED:20240712T145121Z
LAST-MODIFIED:20240712T145121Z
UID:6878-1719743400-1719748800@stpauls-rc.co.uk
SUMMARY:Mass Intention
DESCRIPTION:Mass will be celebrated for the repose of the Soul of Patrick Killen.
URL:https://stpauls-rc.co.uk/event/mass-intention-90/
LOCATION:St. Paul’s RC Church\, Cramlington\, Dewley\, Cramlington\, NE23 6EF\, United Kingdom
END:VEVENT
BEGIN:VEVENT
DTSTART;TZID=UTC:20240613T100000
DTEND;TZID=UTC:20240613T103000
DTSTAMP:20260425T151919
CREATED:20240608T094800Z
LAST-MODIFIED:20240608T094800Z
UID:6801-1718272800-1718274600@stpauls-rc.co.uk
SUMMARY:Mass Intention
DESCRIPTION:Celebrated for the Repose of the Soul of Maria Farrington\, RIP
URL:https://stpauls-rc.co.uk/event/mass-intention-86/
LOCATION:St. Paul’s RC Church\, Cramlington\, Dewley\, Cramlington\, NE23 6EF\, United Kingdom
END:VEVENT
BEGIN:VEVENT
DTSTART;TZID=UTC:20240608T180000
DTEND;TZID=UTC:20240608T190000
DTSTAMP:20260425T151919
CREATED:20240608T094600Z
LAST-MODIFIED:20240608T094624Z
UID:6798-1717869600-1717873200@stpauls-rc.co.uk
SUMMARY:Mass Intention
DESCRIPTION:Celebrated for the Repose of the Soul of Robert Turner\, RIP.
URL:https://stpauls-rc.co.uk/event/mass-intention-85/
LOCATION:St. Paul’s RC Church\, Cramlington\, Dewley\, Cramlington\, NE23 6EF\, United Kingdom
END:VEVENT
BEGIN:VEVENT
DTSTART;TZID=UTC:20240602T103000
DTEND;TZID=UTC:20240602T120000
DTSTAMP:20260425T151919
CREATED:20240504T203449Z
LAST-MODIFIED:20240601T104537Z
UID:6678-1717324200-1717329600@stpauls-rc.co.uk
SUMMARY:Mass Intention
DESCRIPTION:In Thanksgiving for 45 years of Marriage (PK) and for the repose of the souls of Maisie & Selwyn Cartwright.
URL:https://stpauls-rc.co.uk/event/mass-intention-83/
LOCATION:St. Paul’s RC Church\, Cramlington\, Dewley\, Cramlington\, NE23 6EF\, United Kingdom
END:VEVENT
BEGIN:VEVENT
DTSTART;TZID=UTC:20240529T190000
DTEND;TZID=UTC:20240529T200000
DTSTAMP:20260425T151919
CREATED:20240420T112635Z
LAST-MODIFIED:20240420T112740Z
UID:6616-1717009200-1717012800@stpauls-rc.co.uk
SUMMARY:Prayers for Peace
DESCRIPTION:St. Benet Biscop Partnership  invite you to a Service to pray for                peace through the intercession of our Blessed Virgin Mary at 7:00pm on Wednesday 29th May at St Robert of Newminster Church\, Oldgate\,             Morpeth. Let us come together to pray the Rosary and sing hymns to       Our Lady followed by light refreshments in the church hall. Everyone welcome.
URL:https://stpauls-rc.co.uk/event/prayers-for-peace/
END:VEVENT
BEGIN:VEVENT
DTSTART;TZID=UTC:20240525T120000
DTEND;TZID=UTC:20240525T133000
DTSTAMP:20260425T151919
CREATED:20240504T204404Z
LAST-MODIFIED:20240504T204404Z
UID:6682-1716638400-1716643800@stpauls-rc.co.uk
SUMMARY:Ordination to the Priesthood
DESCRIPTION:Fr. Peter will be celebrating the 60th Anniversary of his Ordination to the Priesthood with Mass here in St. Paul’s at 12 noon on Saturday 25th May 2024. His family invites our parishioners to join them in thanking the Lord for the gift of priesthood; Mass will be followed by light refreshment thereafter.
URL:https://stpauls-rc.co.uk/event/ordination-to-the-priesthood/
LOCATION:St. Paul’s RC Church\, Cramlington\, Dewley\, Cramlington\, NE23 6EF\, United Kingdom
END:VEVENT
BEGIN:VEVENT
DTSTART;TZID=UTC:20240522T190000
DTEND;TZID=UTC:20240522T210000
DTSTAMP:20260425T151919
CREATED:20240427T183918Z
LAST-MODIFIED:20240427T183918Z
UID:6660-1716404400-1716411600@stpauls-rc.co.uk
SUMMARY:Laudato Si
DESCRIPTION:During Laudato Si week\, in keeping with the reflection on the Papal document\, we are to screen the film “The Letter”\, lasting 80 minutes\, at St. John’s on Wednesday 22nd May at 7pm.  The screening will be followed by a 20 minute discussion to consider what action each parish could take to care for our common home. Please do come along to share your ideas and views.
URL:https://stpauls-rc.co.uk/event/laudato-si/
LOCATION:St. John the Baptist RC Church\, Annitsford\, United Kingdom
END:VEVENT
BEGIN:VEVENT
DTSTART;TZID=UTC:20240514T183000
DTEND;TZID=UTC:20240514T200000
DTSTAMP:20260425T151919
CREATED:20240514T132253Z
LAST-MODIFIED:20240514T132253Z
UID:6695-1715711400-1715716800@stpauls-rc.co.uk
SUMMARY:PPC Meeting
DESCRIPTION:Tuesday 14th May 2024 in the Back Room at church commencing 6:30pm
URL:https://stpauls-rc.co.uk/event/ppc-meeting/
LOCATION:St. Paul’s RC Church\, Cramlington\, Dewley\, Cramlington\, NE23 6EF\, United Kingdom
END:VEVENT
BEGIN:VEVENT
DTSTART;TZID=UTC:20240512T103000
DTEND;TZID=UTC:20240512T120000
DTSTAMP:20260425T151919
CREATED:20240514T132011Z
LAST-MODIFIED:20240514T132011Z
UID:6693-1715509800-1715515200@stpauls-rc.co.uk
SUMMARY:Mass Intention
DESCRIPTION:Mass will be celebrated today for the repose of the souls of John & Veronica Heslop; RIP
URL:https://stpauls-rc.co.uk/event/mass-intention-84/
LOCATION:St. Paul’s RC Church\, Cramlington\, Dewley\, Cramlington\, NE23 6EF\, United Kingdom
END:VEVENT
BEGIN:VEVENT
DTSTART;TZID=UTC:20240504T180000
DTEND;TZID=UTC:20240504T190000
DTSTAMP:20260425T151919
CREATED:20240504T203258Z
LAST-MODIFIED:20240504T203258Z
UID:6676-1714845600-1714849200@stpauls-rc.co.uk
SUMMARY:Mass Intention
DESCRIPTION:for the Siddle family.
URL:https://stpauls-rc.co.uk/event/mass-intention-79/
LOCATION:St. Paul’s RC Church\, Cramlington\, Dewley\, Cramlington\, NE23 6EF\, United Kingdom
END:VEVENT
BEGIN:VEVENT
DTSTART;TZID=UTC:20240428T103000
DTEND;TZID=UTC:20240428T120000
DTSTAMP:20260425T151919
CREATED:20240427T184305Z
LAST-MODIFIED:20240427T184321Z
UID:6664-1714300200-1714305600@stpauls-rc.co.uk
SUMMARY:Mass Intention
DESCRIPTION:Intention of Sue Williams
URL:https://stpauls-rc.co.uk/event/mass-intention-82/
LOCATION:St. Paul’s RC Church\, Cramlington\, Dewley\, Cramlington\, NE23 6EF\, United Kingdom
END:VEVENT
BEGIN:VEVENT
DTSTART;TZID=UTC:20240427T180000
DTEND;TZID=UTC:20240427T190000
DTSTAMP:20260425T151919
CREATED:20240427T184133Z
LAST-MODIFIED:20240427T184133Z
UID:6662-1714240800-1714244400@stpauls-rc.co.uk
SUMMARY:Mass Intention
DESCRIPTION:For the good health of John Cooper
URL:https://stpauls-rc.co.uk/event/mass-intention-81/
LOCATION:St. Paul’s RC Church\, Cramlington\, Dewley\, Cramlington\, NE23 6EF\, United Kingdom
END:VEVENT
BEGIN:VEVENT
DTSTART;TZID=UTC:20240425T110000
DTEND;TZID=UTC:20240425T123000
DTSTAMP:20260425T151919
CREATED:20240420T111351Z
LAST-MODIFIED:20240420T111351Z
UID:6608-1714042800-1714048200@stpauls-rc.co.uk
SUMMARY:Requiem Mass
DESCRIPTION:for Alina Pietrowiak in St. Paul’s celebrated in POLISH by a Polish Priest commencing at 11:15am
URL:https://stpauls-rc.co.uk/event/requiem-mass-7/
LOCATION:St. Paul’s RC Church\, Cramlington\, Dewley\, Cramlington\, NE23 6EF\, United Kingdom
END:VEVENT
BEGIN:VEVENT
DTSTART;TZID=UTC:20240425T100000
DTEND;TZID=UTC:20240425T103000
DTSTAMP:20260425T151919
CREATED:20240420T111741Z
LAST-MODIFIED:20240420T111741Z
UID:6612-1714039200-1714041000@stpauls-rc.co.uk
SUMMARY:Mass Intention
DESCRIPTION:for the repose of the soul of Sister Mary Paul
URL:https://stpauls-rc.co.uk/event/mass-intention-80/
LOCATION:St. Paul’s RC Church\, Cramlington\, Dewley\, Cramlington\, NE23 6EF\, United Kingdom
END:VEVENT
BEGIN:VEVENT
DTSTART;TZID=UTC:20240424T100000
DTEND;TZID=UTC:20240424T110000
DTSTAMP:20260425T151919
CREATED:20240420T111602Z
LAST-MODIFIED:20240420T111619Z
UID:6610-1713952800-1713956400@stpauls-rc.co.uk
SUMMARY:Mass
DESCRIPTION:Requiem Mass will be celebrated in St. John’s at 10:00am for Margaret Askew. NO MASS at St. Paul’s.
URL:https://stpauls-rc.co.uk/event/mass-6/
END:VEVENT
BEGIN:VEVENT
DTSTART;TZID=UTC:20240421T103000
DTEND;TZID=UTC:20240421T120000
DTSTAMP:20260425T151919
CREATED:20240420T112143Z
LAST-MODIFIED:20240420T112143Z
UID:6614-1713695400-1713700800@stpauls-rc.co.uk
SUMMARY:Mass Intention
DESCRIPTION:for the repose of the soul of Kevin Robson
URL:https://stpauls-rc.co.uk/event/mass-intention-77/
LOCATION:St. Paul’s RC Church\, Cramlington\, Dewley\, Cramlington\, NE23 6EF\, United Kingdom
END:VEVENT
BEGIN:VEVENT
DTSTART;TZID=UTC:20240420T180000
DTEND;TZID=UTC:20240420T190000
DTSTAMP:20260425T151919
CREATED:20240420T110915Z
LAST-MODIFIED:20240420T110915Z
UID:6604-1713636000-1713639600@stpauls-rc.co.uk
SUMMARY:Mass Intention
DESCRIPTION:For the good health of John Cooper
URL:https://stpauls-rc.co.uk/event/mass-intention-78/
LOCATION:St. Paul’s RC Church\, Cramlington\, Dewley\, Cramlington\, NE23 6EF\, United Kingdom
END:VEVENT
BEGIN:VEVENT
DTSTART;TZID=UTC:20240413T120000
DTEND;TZID=UTC:20240413T150000
DTSTAMP:20260425T151919
CREATED:20240403T113956Z
LAST-MODIFIED:20240403T114026Z
UID:6512-1713009600-1713020400@stpauls-rc.co.uk
SUMMARY:Fr. Manoj's Silver Jubilee
DESCRIPTION:Mass will be celebrated at St. John the Baptist Church\, Annitsford commencing at 12 noon as the culmination of the Year of Celebration for Fr. Manoj’s Silver Jubilee of his Ordination to the priesthood. This will be followed by a Buffet Lunch in the Church Hall.
URL:https://stpauls-rc.co.uk/event/fr-manojs-silver-jubilee/
LOCATION:St. John the Baptist RC Church\, Annitsford\, United Kingdom
CATEGORIES:Special Occations
END:VEVENT
BEGIN:VEVENT
DTSTART;TZID=UTC:20240405T180000
DTEND;TZID=UTC:20240405T193000
DTSTAMP:20260425T151919
CREATED:20240403T114546Z
LAST-MODIFIED:20240403T114546Z
UID:6516-1712340000-1712345400@stpauls-rc.co.uk
SUMMARY:No Services
DESCRIPTION:There will be no Exposition or Mass celebrated today at St. John the Baptist Church\, Annitsford.
URL:https://stpauls-rc.co.uk/event/no-services/
LOCATION:St. John the Baptist RC Church\, Annitsford\, United Kingdom
END:VEVENT
BEGIN:VEVENT
DTSTART;TZID=UTC:20240404T100000
DTEND;TZID=UTC:20240404T103000
DTSTAMP:20260425T151919
CREATED:20240403T114316Z
LAST-MODIFIED:20240403T114316Z
UID:6514-1712224800-1712226600@stpauls-rc.co.uk
SUMMARY:NO MASS
DESCRIPTION:There will be no 10:00am Mass today at St. Paul’s.
URL:https://stpauls-rc.co.uk/event/no-mass-24/
LOCATION:St. Paul’s RC Church\, Cramlington\, Dewley\, Cramlington\, NE23 6EF\, United Kingdom
END:VEVENT
BEGIN:VEVENT
DTSTART;TZID=UTC:20240331T103000
DTEND;TZID=UTC:20240331T120000
DTSTAMP:20260425T151919
CREATED:20240302T111624Z
LAST-MODIFIED:20240302T111630Z
UID:6344-1711881000-1711886400@stpauls-rc.co.uk
SUMMARY:Easter Sunday
DESCRIPTION:Mass at 10:45am
URL:https://stpauls-rc.co.uk/event/easter-sunday-2/
LOCATION:St. Paul’s RC Church\, Cramlington\, Dewley\, Cramlington\, NE23 6EF\, United Kingdom
END:VEVENT
BEGIN:VEVENT
DTSTART;TZID=UTC:20240330T180000
DTEND;TZID=UTC:20240330T193000
DTSTAMP:20260425T151919
CREATED:20240302T124530Z
LAST-MODIFIED:20240302T124619Z
UID:6350-1711821600-1711827000@stpauls-rc.co.uk
SUMMARY:Easter Sunday Vigil
DESCRIPTION:Mass at 6:00pm at St. Paul’s \nMass at St. John’s Annitsford at 8:30pm
URL:https://stpauls-rc.co.uk/event/easter-sunday-vigil/
LOCATION:St. Paul’s RC Church\, Cramlington\, Dewley\, Cramlington\, NE23 6EF\, United Kingdom
END:VEVENT
BEGIN:VEVENT
DTSTART;TZID=UTC:20240329T150000
DTEND;TZID=UTC:20240329T163000
DTSTAMP:20260425T151919
CREATED:20240302T112028Z
LAST-MODIFIED:20240302T112041Z
UID:6348-1711724400-1711729800@stpauls-rc.co.uk
SUMMARY:Good Friday
DESCRIPTION:Service at 3:00pm at St. Paul’s
URL:https://stpauls-rc.co.uk/event/good-friday-2/
LOCATION:St. Paul’s RC Church\, Cramlington\, Dewley\, Cramlington\, NE23 6EF\, United Kingdom
END:VEVENT
BEGIN:VEVENT
DTSTART;TZID=UTC:20240328T190000
DTEND;TZID=UTC:20240328T200000
DTSTAMP:20260425T151919
CREATED:20240302T111849Z
LAST-MODIFIED:20240302T111849Z
UID:6346-1711652400-1711656000@stpauls-rc.co.uk
SUMMARY:Maundy / Holy Thursday
DESCRIPTION:Mass at 7:00pm at St. John’s Annitsford
URL:https://stpauls-rc.co.uk/event/maundy-holy-thursday/
LOCATION:St. John the Baptist RC Church\, Annitsford\, United Kingdom
END:VEVENT
BEGIN:VEVENT
DTSTART;TZID=UTC:20240324T103000
DTEND;TZID=UTC:20240324T120000
DTSTAMP:20260425T151919
CREATED:20240302T111448Z
LAST-MODIFIED:20240302T111502Z
UID:6342-1711276200-1711281600@stpauls-rc.co.uk
SUMMARY:Palm Sunday
DESCRIPTION:Mass at 10:45am
URL:https://stpauls-rc.co.uk/event/palm-sunday-2/
LOCATION:St. Paul’s RC Church\, Cramlington\, Dewley\, Cramlington\, NE23 6EF\, United Kingdom
END:VEVENT
END:VCALENDAR