BEGIN:VCALENDAR
VERSION:2.0
PRODID:-//St. Paul&#039;s Cramlington - ECPv6.15.11//NONSGML v1.0//EN
CALSCALE:GREGORIAN
METHOD:PUBLISH
X-WR-CALNAME:St. Paul&#039;s Cramlington
X-ORIGINAL-URL:https://stpauls-rc.co.uk
X-WR-CALDESC:Events for St. Paul&#039;s Cramlington
REFRESH-INTERVAL;VALUE=DURATION:PT1H
X-Robots-Tag:noindex
X-PUBLISHED-TTL:PT1H
BEGIN:VTIMEZONE
TZID:UTC
BEGIN:STANDARD
TZOFFSETFROM:+0000
TZOFFSETTO:+0000
TZNAME:UTC
DTSTART:20230101T000000
END:STANDARD
END:VTIMEZONE
BEGIN:VEVENT
DTSTART;TZID=UTC:20241215T143000
DTEND;TZID=UTC:20241215T180000
DTSTAMP:20260425T163808
CREATED:20241214T122757Z
LAST-MODIFIED:20241214T122757Z
UID:7198-1734273000-1734285600@stpauls-rc.co.uk
SUMMARY:Carol Service
DESCRIPTION:Christmas Concerts by Cramlington Community Choir: Sunday 15th December\, one at 2:30pm and the second at 4:30pm. Tickets are FREE\, but a £5 donation is recommended. See Marylyn for your tickets.
URL:https://stpauls-rc.co.uk/event/carol-service/
LOCATION:St. Paul’s RC Church\, Cramlington\, Dewley\, Cramlington\, NE23 6EF\, United Kingdom
END:VEVENT
BEGIN:VEVENT
DTSTART;TZID=UTC:20241214T180000
DTEND;TZID=UTC:20241214T190000
DTSTAMP:20260425T163808
CREATED:20241214T121712Z
LAST-MODIFIED:20241214T121712Z
UID:7188-1734199200-1734202800@stpauls-rc.co.uk
SUMMARY:Mass Intention
DESCRIPTION:Mass tonight will be celebrated for the repose of the soul of Ned Ryan.
URL:https://stpauls-rc.co.uk/event/mass-intention-107/
LOCATION:St. Paul’s RC Church\, Cramlington\, Dewley\, Cramlington\, NE23 6EF\, United Kingdom
END:VEVENT
BEGIN:VEVENT
DTSTART;TZID=UTC:20241212T100000
DTEND;TZID=UTC:20241212T103000
DTSTAMP:20260425T163808
CREATED:20241214T124118Z
LAST-MODIFIED:20241214T124118Z
UID:7210-1733997600-1733999400@stpauls-rc.co.uk
SUMMARY:Mass Intention
DESCRIPTION:Mass today will be celebrated for the repose of the soul of Harold Turner
URL:https://stpauls-rc.co.uk/event/mass-intention-111/
LOCATION:St. Paul’s RC Church\, Cramlington\, Dewley\, Cramlington\, NE23 6EF\, United Kingdom
END:VEVENT
BEGIN:VEVENT
DTSTART;TZID=UTC:20241211T100000
DTEND;TZID=UTC:20241211T103000
DTSTAMP:20260425T163808
CREATED:20241214T123956Z
LAST-MODIFIED:20241214T123956Z
UID:7208-1733911200-1733913000@stpauls-rc.co.uk
SUMMARY:Mass Intention
DESCRIPTION:Mass today will be celebrated for the good health of Glynis Mayes
URL:https://stpauls-rc.co.uk/event/mass-intention-110/
LOCATION:St. Paul’s RC Church\, Cramlington\, Dewley\, Cramlington\, NE23 6EF\, United Kingdom
END:VEVENT
BEGIN:VEVENT
DTSTART;TZID=UTC:20241207T180000
DTEND;TZID=UTC:20241207T190000
DTSTAMP:20260425T163808
CREATED:20241130T003349Z
LAST-MODIFIED:20241130T003349Z
UID:7131-1733594400-1733598000@stpauls-rc.co.uk
SUMMARY:Mass Intention
DESCRIPTION:Mass today will be celebrated for the repose of the soul of Bob Rodgerson
URL:https://stpauls-rc.co.uk/event/mass-intention-105/
LOCATION:St. Paul’s RC Church\, Cramlington\, Dewley\, Cramlington\, NE23 6EF\, United Kingdom
END:VEVENT
BEGIN:VEVENT
DTSTART;TZID=UTC:20241205T100000
DTEND;TZID=UTC:20241205T103000
DTSTAMP:20260425T163808
CREATED:20241130T003225Z
LAST-MODIFIED:20241130T003225Z
UID:7129-1733392800-1733394600@stpauls-rc.co.uk
SUMMARY:Mass Intention
DESCRIPTION:Mass today will be celebrated for the repose of the soul of Pamela Siddle
URL:https://stpauls-rc.co.uk/event/mass-intention-104/
LOCATION:St. Paul’s RC Church\, Cramlington\, Dewley\, Cramlington\, NE23 6EF\, United Kingdom
END:VEVENT
BEGIN:VEVENT
DTSTART;TZID=UTC:20241204T100000
DTEND;TZID=UTC:20241204T103000
DTSTAMP:20260425T163808
CREATED:20241130T003111Z
LAST-MODIFIED:20241130T003111Z
UID:7127-1733306400-1733308200@stpauls-rc.co.uk
SUMMARY:Mass Intention
DESCRIPTION:Mass today will be celebrated for the repose of the soul of Pamela Siddle
URL:https://stpauls-rc.co.uk/event/mass-intention-103/
LOCATION:St. Paul’s RC Church\, Cramlington\, Dewley\, Cramlington\, NE23 6EF\, United Kingdom
END:VEVENT
BEGIN:VEVENT
DTSTART;TZID=UTC:20241130T180000
DTEND;TZID=UTC:20241130T190000
DTSTAMP:20260425T163808
CREATED:20241130T003601Z
LAST-MODIFIED:20241130T003601Z
UID:7133-1732989600-1732993200@stpauls-rc.co.uk
SUMMARY:Mass Intention
DESCRIPTION:Mass today will be celebrated for the repose of the soul of Vincent Slaven
URL:https://stpauls-rc.co.uk/event/mass-intention-106/
LOCATION:St. Paul’s RC Church\, Cramlington\, Dewley\, Cramlington\, NE23 6EF\, United Kingdom
END:VEVENT
BEGIN:VEVENT
DTSTART;TZID=UTC:20241118T113000
DTEND;TZID=UTC:20241118T123000
DTSTAMP:20260425T163808
CREATED:20241116T101028Z
LAST-MODIFIED:20241116T101028Z
UID:7111-1731929400-1731933000@stpauls-rc.co.uk
SUMMARY:Requiem Mass
DESCRIPTION:Mass today will be the Requiem Mass celebrated for the repose of the soul of Pam Siddle.
URL:https://stpauls-rc.co.uk/event/requiem-mass-8/
LOCATION:St. Paul’s RC Church\, Cramlington\, Dewley\, Cramlington\, NE23 6EF\, United Kingdom
END:VEVENT
BEGIN:VEVENT
DTSTART;TZID=UTC:20241109T180000
DTEND;TZID=UTC:20241109T190000
DTSTAMP:20260425T163808
CREATED:20241102T204051Z
LAST-MODIFIED:20241102T204333Z
UID:7094-1731175200-1731178800@stpauls-rc.co.uk
SUMMARY:Mass Intention
DESCRIPTION:Mass will be celebrated tonight for the repose of the souls of  Jimmy Shaw and the Deceased members of Killen & Stevenson families.   R.I.P.
URL:https://stpauls-rc.co.uk/event/mass-intention-100/
LOCATION:St. Paul’s RC Church\, Cramlington\, Dewley\, Cramlington\, NE23 6EF\, United Kingdom
END:VEVENT
BEGIN:VEVENT
DTSTART;TZID=UTC:20241102T180000
DTEND;TZID=UTC:20241102T190000
DTSTAMP:20260425T163808
CREATED:20241102T203808Z
LAST-MODIFIED:20241102T203808Z
UID:7092-1730570400-1730574000@stpauls-rc.co.uk
SUMMARY:Mass Intention
DESCRIPTION:Mass will be celebrated tonight for the repose of the soul of John Waterworth.
URL:https://stpauls-rc.co.uk/event/mass-intention-99/
LOCATION:St. Paul’s RC Church\, Cramlington\, Dewley\, Cramlington\, NE23 6EF\, United Kingdom
END:VEVENT
BEGIN:VEVENT
DTSTART;TZID=UTC:20241026T180000
DTEND;TZID=UTC:20241026T190000
DTSTAMP:20260425T163808
CREATED:20241102T204539Z
LAST-MODIFIED:20241102T204539Z
UID:7096-1729965600-1729969200@stpauls-rc.co.uk
SUMMARY:Mass Intention
DESCRIPTION:Mass tonight will be celebrated for the repose of the soul of Pam Siddle\, R.I.P.
URL:https://stpauls-rc.co.uk/event/mass-intention-101/
LOCATION:St. Paul’s RC Church\, Cramlington\, Dewley\, Cramlington\, NE23 6EF\, United Kingdom
END:VEVENT
BEGIN:VEVENT
DTSTART;TZID=UTC:20241012T180000
DTEND;TZID=UTC:20241012T190000
DTSTAMP:20260425T163808
CREATED:20241102T204809Z
LAST-MODIFIED:20241102T204912Z
UID:7098-1728756000-1728759600@stpauls-rc.co.uk
SUMMARY:Mass Intention
DESCRIPTION:Mass tonight will be celebrated  In Thanksgiving (T.C.)
URL:https://stpauls-rc.co.uk/event/mass-intention-102/
LOCATION:St. Paul’s RC Church\, Cramlington\, Dewley\, Cramlington\, NE23 6EF\, United Kingdom
END:VEVENT
BEGIN:VEVENT
DTSTART;TZID=UTC:20241011T190000
DTEND;TZID=UTC:20241011T200000
DTSTAMP:20260425T163808
CREATED:20240928T145420Z
LAST-MODIFIED:20240928T145559Z
UID:7031-1728673200-1728676800@stpauls-rc.co.uk
SUMMARY:Celebration Mass
DESCRIPTION:Caring for our Common Good \nA Partnership Celebration Mass will be held at 7:00pm at St. Wilfrid’s\, Blyth on Friday 11th October. This is an opportunity for parishes\, schools and individuals to make commitments / pledges to care for our common home.
URL:https://stpauls-rc.co.uk/event/celebration-mass/
LOCATION:St. Wilfrid’s RC Church\, Blyth
END:VEVENT
BEGIN:VEVENT
DTSTART;TZID=UTC:20241005T180000
DTEND;TZID=UTC:20241005T190000
DTSTAMP:20260425T163808
CREATED:20240928T144132Z
LAST-MODIFIED:20240928T144132Z
UID:7024-1728151200-1728154800@stpauls-rc.co.uk
SUMMARY:Mass Intention
DESCRIPTION:Mass tonight will be celebrated In Thanksgiving for T. C.
URL:https://stpauls-rc.co.uk/event/mass-intention-98/
LOCATION:St. Paul’s RC Church\, Cramlington\, Dewley\, Cramlington\, NE23 6EF\, United Kingdom
END:VEVENT
BEGIN:VEVENT
DTSTART;VALUE=DATE:20241004
DTEND;VALUE=DATE:20241005
DTSTAMP:20260425T163808
CREATED:20240928T145115Z
LAST-MODIFIED:20240928T145115Z
UID:7027-1728000000-1728086399@stpauls-rc.co.uk
SUMMARY:CAFOD Harvest Family Fast Day
DESCRIPTION: Catholic Fund for Overseas Development (CAFOD) Harvest Family Fast Day \nWill be held on Friday 4th October. Envelopes for your donations next weekend are attached to the  Bulletin. Please be as generous as you can to help CAFOD to aid those less fortunate than us; like Daniel\, a young man from the Democratic Republic of Congo\, who joined a local carpentry training course funded by CAFOD and now has his own workshop where he makes furniture ordered by customers. By giving you’ll fund training\, tools and safe spaces for others to learn new skills and continue to fulfil their God-given potential. As Jesus said “Truly I tell you\, whatever you do for the least of these brothers and sisters of mine\, no matter how small\, will never be lost.” And as Pope Francis said “In God\, no act of love\, no matter how small\, will ever be lost.”
URL:https://stpauls-rc.co.uk/event/cafod-harvest-family-fast-day/
END:VEVENT
BEGIN:VEVENT
DTSTART;TZID=UTC:20241003T190000
DTEND;TZID=UTC:20241003T210000
DTSTAMP:20260425T163808
CREATED:20240928T145314Z
LAST-MODIFIED:20240928T145314Z
UID:7029-1727982000-1727989200@stpauls-rc.co.uk
SUMMARY:Film Night
DESCRIPTION:The Spiritual and Adult Formation Group are having a film night in St. Paul’s Back Room on Thursday 3rd October at 7:00pm\, With this being the “Season of Creation” our film will be “The Letter”. Please do come along and join us – all are most welcome.
URL:https://stpauls-rc.co.uk/event/film-night/
LOCATION:St. Paul’s RC Church Winter Chapel\, Cramlington\, NE23 6EF
END:VEVENT
BEGIN:VEVENT
DTSTART;TZID=UTC:20241003T100000
DTEND;TZID=UTC:20241003T103000
DTSTAMP:20260425T163808
CREATED:20240928T143855Z
LAST-MODIFIED:20240928T143855Z
UID:7022-1727949600-1727951400@stpauls-rc.co.uk
SUMMARY:Mass Intention
DESCRIPTION:Mass tonight will be celebrated for the repose of the soul of Lillian Ebbs.
URL:https://stpauls-rc.co.uk/event/mass-intention-97/
LOCATION:St. Paul’s RC Church\, Cramlington\, Dewley\, Cramlington\, NE23 6EF\, United Kingdom
END:VEVENT
BEGIN:VEVENT
DTSTART;TZID=UTC:20241002T100000
DTEND;TZID=UTC:20241002T103000
DTSTAMP:20260425T163808
CREATED:20240928T143742Z
LAST-MODIFIED:20240928T143742Z
UID:7020-1727863200-1727865000@stpauls-rc.co.uk
SUMMARY:Mass Intention
DESCRIPTION:Mass tonight will be celebrated for the repose of the soul of Daphnie Turner.
URL:https://stpauls-rc.co.uk/event/mass-intention-96/
LOCATION:St. Paul’s RC Church\, Cramlington\, Dewley\, Cramlington\, NE23 6EF\, United Kingdom
END:VEVENT
BEGIN:VEVENT
DTSTART;TZID=UTC:20240928T180000
DTEND;TZID=UTC:20240928T190000
DTSTAMP:20260425T163808
CREATED:20240928T143548Z
LAST-MODIFIED:20240928T143548Z
UID:7018-1727546400-1727550000@stpauls-rc.co.uk
SUMMARY:Mass Intention
DESCRIPTION:Mass tonight will be celebrated for the repose of the soul of Lillian Ebbs and also for a Private Intention.
URL:https://stpauls-rc.co.uk/event/mass-intention-95/
LOCATION:St. Paul’s RC Church\, Cramlington\, Dewley\, Cramlington\, NE23 6EF\, United Kingdom
END:VEVENT
BEGIN:VEVENT
DTSTART;TZID=UTC:20240920T060000
DTEND;TZID=UTC:20240927T200000
DTSTAMP:20260425T163808
CREATED:20240206T133751Z
LAST-MODIFIED:20240206T133751Z
UID:6236-1726812000-1727467200@stpauls-rc.co.uk
SUMMARY:Fatima Pilgrimage 2024
DESCRIPTION:As you are aware there is a Fatima Pilgrimage being arranged between our parishes. We have received an overwhelming number of people who have opted to go on this pilgrimage from 20 – 27th September 2024. We have a few seats left due to the last moment cancellation because of certain unavoidable circumstances. If you fancy joining the Pilgrimage\, kindly contact Fr. Manoj without delay. He will furnish you with all the details.
URL:https://stpauls-rc.co.uk/event/fatima-pilgrimage-2024/
END:VEVENT
BEGIN:VEVENT
DTSTART;TZID=UTC:20240919T080000
DTEND;TZID=UTC:20240919T170000
DTSTAMP:20260425T163808
CREATED:20240919T100511Z
LAST-MODIFIED:20240919T100511Z
UID:7008-1726732800-1726765200@stpauls-rc.co.uk
SUMMARY:Mass Intention
DESCRIPTION:Mass today will be celebrated for the repose of the souls of  Bet and Rob Robson\, R.I.P.
URL:https://stpauls-rc.co.uk/event/mass-intention-94/
END:VEVENT
BEGIN:VEVENT
DTSTART;TZID=UTC:20240817T180000
DTEND;TZID=UTC:20240817T190000
DTSTAMP:20260425T163808
CREATED:20240809T181432Z
LAST-MODIFIED:20240809T181432Z
UID:6941-1723917600-1723921200@stpauls-rc.co.uk
SUMMARY:MassIntention
DESCRIPTION:Mass will be celebrated in Thanksgiving.
URL:https://stpauls-rc.co.uk/event/massintention/
LOCATION:St. Paul’s RC Church\, Cramlington\, Dewley\, Cramlington\, NE23 6EF\, United Kingdom
END:VEVENT
BEGIN:VEVENT
DTSTART;TZID=UTC:20240810T180000
DTEND;TZID=UTC:20240810T190000
DTSTAMP:20260425T163808
CREATED:20240809T181210Z
LAST-MODIFIED:20240809T181210Z
UID:6939-1723312800-1723316400@stpauls-rc.co.uk
SUMMARY:Mass Intention
DESCRIPTION:Mass will be celebrated today for the repose of the soul of Alina.
URL:https://stpauls-rc.co.uk/event/mass-intention-93/
LOCATION:St. Paul’s RC Church\, Cramlington\, Dewley\, Cramlington\, NE23 6EF\, United Kingdom
END:VEVENT
BEGIN:VEVENT
DTSTART;TZID=UTC:20240720T180000
DTEND;TZID=UTC:20240720T190000
DTSTAMP:20260425T163808
CREATED:20240712T144906Z
LAST-MODIFIED:20240712T144906Z
UID:6876-1721498400-1721502000@stpauls-rc.co.uk
SUMMARY:Mass Intention
DESCRIPTION:Mass will be celebrated for the repose of the Soul of Joan Mennell.
URL:https://stpauls-rc.co.uk/event/mass-intention-89/
LOCATION:St. Paul’s RC Church\, Cramlington\, Dewley\, Cramlington\, NE23 6EF\, United Kingdom
END:VEVENT
BEGIN:VEVENT
DTSTART;TZID=UTC:20240717T100000
DTEND;TZID=UTC:20240717T103000
DTSTAMP:20260425T163808
CREATED:20240712T144733Z
LAST-MODIFIED:20240712T144733Z
UID:6874-1721210400-1721212200@stpauls-rc.co.uk
SUMMARY:Mass Intention
DESCRIPTION:Mass will be celebrated for the repose of the Soul of Lisa Anne Forster.         
URL:https://stpauls-rc.co.uk/event/mass-intention-88/
LOCATION:St. Paul’s RC Church\, Cramlington\, Dewley\, Cramlington\, NE23 6EF\, United Kingdom
END:VEVENT
BEGIN:VEVENT
DTSTART;TZID=UTC:20240713T180000
DTEND;TZID=UTC:20240713T190000
DTSTAMP:20260425T163808
CREATED:20240712T144533Z
LAST-MODIFIED:20240712T144533Z
UID:6872-1720893600-1720897200@stpauls-rc.co.uk
SUMMARY:Mass Intention
DESCRIPTION:Mass will be celebrated for the repose of the Souls of Mary Hebden\, Josie McConnell and Bill Pickering.  \n\n\n\n 
URL:https://stpauls-rc.co.uk/event/mass-intention-87/
LOCATION:St. Paul’s RC Church\, Cramlington\, Dewley\, Cramlington\, NE23 6EF\, United Kingdom
CATEGORIES:Mass & Events
END:VEVENT
BEGIN:VEVENT
DTSTART;TZID=UTC:20240713T080000
DTEND;TZID=UTC:20240713T170000
DTSTAMP:20260425T163808
CREATED:20240427T184855Z
LAST-MODIFIED:20240427T184909Z
UID:6666-1720857600-1720890000@stpauls-rc.co.uk
SUMMARY:Parish Outing
DESCRIPTION:The Annual Parish Trip to the Holy Island of Lindisfarne will be today Saturday 13th July 2024. Please add you name to the list at the back of church so we can determine the size of bus required.
URL:https://stpauls-rc.co.uk/event/parish-outing/
END:VEVENT
BEGIN:VEVENT
DTSTART;TZID=UTC:20240710T100000
DTEND;TZID=UTC:20240710T103000
DTSTAMP:20260425T163808
CREATED:20240712T145704Z
LAST-MODIFIED:20240712T145810Z
UID:6882-1720605600-1720607400@stpauls-rc.co.uk
SUMMARY:Mass Intention
DESCRIPTION:Mass will be celebrated for the good health of Peter Young
URL:https://stpauls-rc.co.uk/event/mass-intention-92/
LOCATION:St. Paul’s RC Church\, Cramlington\, Dewley\, Cramlington\, NE23 6EF\, United Kingdom
END:VEVENT
BEGIN:VEVENT
DTSTART;TZID=UTC:20240706T180000
DTEND;TZID=UTC:20240706T190000
DTSTAMP:20260425T163808
CREATED:20240712T145516Z
LAST-MODIFIED:20240712T145516Z
UID:6880-1720288800-1720292400@stpauls-rc.co.uk
SUMMARY:Mass Intention
DESCRIPTION:Mass will be celebrated for the repose of the Soul of Paul Battersby
URL:https://stpauls-rc.co.uk/event/mass-intention-91/
LOCATION:St. Paul’s RC Church\, Cramlington\, Dewley\, Cramlington\, NE23 6EF\, United Kingdom
END:VEVENT
END:VCALENDAR