BEGIN:VCALENDAR
VERSION:2.0
PRODID:-//St. Paul&#039;s Cramlington - ECPv6.15.11//NONSGML v1.0//EN
CALSCALE:GREGORIAN
METHOD:PUBLISH
X-WR-CALNAME:St. Paul&#039;s Cramlington
X-ORIGINAL-URL:https://stpauls-rc.co.uk
X-WR-CALDESC:Events for St. Paul&#039;s Cramlington
REFRESH-INTERVAL;VALUE=DURATION:PT1H
X-Robots-Tag:noindex
X-PUBLISHED-TTL:PT1H
BEGIN:VTIMEZONE
TZID:UTC
BEGIN:STANDARD
TZOFFSETFROM:+0000
TZOFFSETTO:+0000
TZNAME:UTC
DTSTART:20250101T000000
END:STANDARD
END:VTIMEZONE
BEGIN:VEVENT
DTSTART;TZID=UTC:20260425T180000
DTEND;TZID=UTC:20260425T190000
DTSTAMP:20260425T163609
CREATED:20260425T135641Z
LAST-MODIFIED:20260425T135641Z
UID:9251-1777140000-1777143600@stpauls-rc.co.uk
SUMMARY:Mass Intention
DESCRIPTION:Today’s Mass will be celebrated for Nancy\, John & Keith McCarthy R.I.P.
URL:https://stpauls-rc.co.uk/event/mass-intention-199/
LOCATION:St. Paul’s RC Church\, Cramlington\, Dewley\, Cramlington\, NE23 6EF\, United Kingdom
END:VEVENT
BEGIN:VEVENT
DTSTART;TZID=UTC:20260429T100000
DTEND;TZID=UTC:20260429T103000
DTSTAMP:20260425T163609
CREATED:20260425T135900Z
LAST-MODIFIED:20260425T135900Z
UID:9253-1777456800-1777458600@stpauls-rc.co.uk
SUMMARY:Mass Intention
DESCRIPTION:Today’s Mass will be celebrated for a Special Intention of SW
URL:https://stpauls-rc.co.uk/event/mass-intention-200/
LOCATION:St. Paul’s RC Church\, Cramlington\, Dewley\, Cramlington\, NE23 6EF\, United Kingdom
END:VEVENT
BEGIN:VEVENT
DTSTART;TZID=UTC:20260430T100000
DTEND;TZID=UTC:20260430T103000
DTSTAMP:20260425T163609
CREATED:20260425T140029Z
LAST-MODIFIED:20260425T140029Z
UID:9255-1777543200-1777545000@stpauls-rc.co.uk
SUMMARY:Mass Intention
DESCRIPTION:Today’s Mass will be celebrated for the Holy Souls.
URL:https://stpauls-rc.co.uk/event/mass-intention-201/
LOCATION:St. Paul’s RC Church\, Cramlington\, Dewley\, Cramlington\, NE23 6EF\, United Kingdom
END:VEVENT
BEGIN:VEVENT
DTSTART;TZID=UTC:20260502T180000
DTEND;TZID=UTC:20260502T190000
DTSTAMP:20260425T163609
CREATED:20260425T140155Z
LAST-MODIFIED:20260425T140155Z
UID:9257-1777744800-1777748400@stpauls-rc.co.uk
SUMMARY:Mass Intention
DESCRIPTION:Today’s Mass will be celebrated for the repose of the soul of Peter Holland R.I.P.  (TC)
URL:https://stpauls-rc.co.uk/event/mass-intention-202/
LOCATION:St. Paul’s RC Church\, Cramlington\, Dewley\, Cramlington\, NE23 6EF\, United Kingdom
END:VEVENT
BEGIN:VEVENT
DTSTART;TZID=UTC:20260607T100000
DTEND;TZID=UTC:20260607T110000
DTSTAMP:20260425T163609
CREATED:20260105T173910Z
LAST-MODIFIED:20260105T173926Z
UID:8942-1780826400-1780830000@stpauls-rc.co.uk
SUMMARY:First Holy Communion Mass
DESCRIPTION:Children from St. Paul’s will receive their First Holy Communion today during Mass.
URL:https://stpauls-rc.co.uk/event/first-holy-communion-mass-2/
LOCATION:St. Paul’s RC Church\, Cramlington\, Dewley\, Cramlington\, NE23 6EF\, United Kingdom
END:VEVENT
END:VCALENDAR