BEGIN:VCALENDAR
VERSION:2.0
PRODID:-//St. Paul&#039;s Cramlington - ECPv6.15.11//NONSGML v1.0//EN
CALSCALE:GREGORIAN
METHOD:PUBLISH
X-ORIGINAL-URL:https://stpauls-rc.co.uk
X-WR-CALDESC:Events for St. Paul&#039;s Cramlington
REFRESH-INTERVAL;VALUE=DURATION:PT1H
X-Robots-Tag:noindex
X-PUBLISHED-TTL:PT1H
BEGIN:VTIMEZONE
TZID:UTC
BEGIN:STANDARD
TZOFFSETFROM:+0000
TZOFFSETTO:+0000
TZNAME:UTC
DTSTART:20210101T000000
END:STANDARD
END:VTIMEZONE
BEGIN:VEVENT
DTSTART;TZID=UTC:20220701T100000
DTEND;TZID=UTC:20220701T103000
DTSTAMP:20260426T035239
CREATED:20220618T063004Z
LAST-MODIFIED:20220618T063004Z
UID:2732-1656669600-1656671400@stpauls-rc.co.uk
SUMMARY:School Children's Mass
DESCRIPTION:St. Peter & St. Paul’s School Year 3 pupils
URL:https://stpauls-rc.co.uk/event/school-childrens-mass-2/
LOCATION:St. Paul’s RC Church\, Cramlington\, Dewley\, Cramlington\, NE23 6EF\, United Kingdom
END:VEVENT
BEGIN:VEVENT
DTSTART;TZID=UTC:20220701T100000
DTEND;TZID=UTC:20220701T103000
DTSTAMP:20260426T035239
CREATED:20220701T144141Z
LAST-MODIFIED:20220701T144141Z
UID:2944-1656669600-1656671400@stpauls-rc.co.uk
SUMMARY:Mass Intention
DESCRIPTION:Thomas Francis
URL:https://stpauls-rc.co.uk/event/mass-intention-9/
LOCATION:St. Paul’s RC Church\, Cramlington\, Dewley\, Cramlington\, NE23 6EF\, United Kingdom
END:VEVENT
BEGIN:VEVENT
DTSTART;TZID=UTC:20220702T180000
DTEND;TZID=UTC:20220702T190000
DTSTAMP:20260426T035239
CREATED:20220701T143814Z
LAST-MODIFIED:20220701T143845Z
UID:2938-1656784800-1656788400@stpauls-rc.co.uk
SUMMARY:Mass Intention
DESCRIPTION:In thanksgiving (PK)
URL:https://stpauls-rc.co.uk/event/mass-intention-7/
LOCATION:St. Paul’s RC Church\, Cramlington\, Dewley\, Cramlington\, NE23 6EF\, United Kingdom
END:VEVENT
BEGIN:VEVENT
DTSTART;TZID=UTC:20220703T100000
DTEND;TZID=UTC:20220703T110000
DTSTAMP:20260426T035239
CREATED:20220701T144006Z
LAST-MODIFIED:20220701T144006Z
UID:2942-1656842400-1656846000@stpauls-rc.co.uk
SUMMARY:Mass Intention
DESCRIPTION:Josie McConnell and Bill Pickering
URL:https://stpauls-rc.co.uk/event/mass-intention-8/
LOCATION:St. Paul’s RC Church\, Cramlington\, Dewley\, Cramlington\, NE23 6EF\, United Kingdom
END:VEVENT
BEGIN:VEVENT
DTSTART;TZID=UTC:20220707T190000
DTEND;TZID=UTC:20220707T200000
DTSTAMP:20260426T035239
CREATED:20220629T080400Z
LAST-MODIFIED:20220629T091348Z
UID:2865-1657220400-1657224000@stpauls-rc.co.uk
SUMMARY:Partnership Development Group (PDG)
DESCRIPTION:The Group will meet on Thursday 7th July. If you have any issues to raise please contact either Fr. Manoj or Paula B.
URL:https://stpauls-rc.co.uk/event/partnership-development-group-pdg/
LOCATION:St. Bede’s RC Church\, Bedlington\, NE22 5TZ
END:VEVENT
BEGIN:VEVENT
DTSTART;TZID=UTC:20220707T190000
DTEND;TZID=UTC:20220707T203000
DTSTAMP:20260426T035239
CREATED:20220629T074701Z
LAST-MODIFIED:20220629T092049Z
UID:2855-1657220400-1657225800@stpauls-rc.co.uk
SUMMARY:Adult Formation and Spiritual Nurturing Group
DESCRIPTION:The Group will meet on Thursday 30th June. Please come along between 7 – 8:15pm to nurture and share your faith values with your parish family. Feel free to drop in\, join in or just listen. Refreshments are provided.
URL:https://stpauls-rc.co.uk/event/adult-formation-and-spiritual-nurturing-group/
LOCATION:St. Paul’s RC Church\, Cramlington\, Dewley\, Cramlington\, NE23 6EF\, United Kingdom
END:VEVENT
BEGIN:VEVENT
DTSTART;TZID=UTC:20220708T100000
DTEND;TZID=UTC:20220708T103000
DTSTAMP:20260426T035239
CREATED:20220618T063248Z
LAST-MODIFIED:20220618T063248Z
UID:2734-1657274400-1657276200@stpauls-rc.co.uk
SUMMARY:School Children's Mass
DESCRIPTION:The Year 2 Class of St. Peter and St. Paul’s Primary School will attend the Friday 10:00am Mass in church and their \nparents are most welcome to attend.
URL:https://stpauls-rc.co.uk/event/school-childrens-mass-3/
END:VEVENT
BEGIN:VEVENT
DTSTART;TZID=UTC:20220710T100000
DTEND;TZID=UTC:20220710T110000
DTSTAMP:20260426T035239
CREATED:20220711T102232Z
LAST-MODIFIED:20220711T102811Z
UID:3063-1657447200-1657450800@stpauls-rc.co.uk
SUMMARY:Mass Intention
DESCRIPTION:Catherine and Lawrence Bradley RIP
URL:https://stpauls-rc.co.uk/event/mass-intention-11/
LOCATION:St. Paul’s RC Church\, Cramlington\, Dewley\, Cramlington\, NE23 6EF\, United Kingdom
END:VEVENT
BEGIN:VEVENT
DTSTART;VALUE=DATE:20220711
DTEND;VALUE=DATE:20220712
DTSTAMP:20260426T035239
CREATED:20220706T075016Z
LAST-MODIFIED:20220706T081806Z
UID:2972-1657497600-1657583999@stpauls-rc.co.uk
SUMMARY:St. Benedict\, Feast Day
DESCRIPTION:St Benedict\, Patron of Europe (Abbot) \nSaint Benedict of Nursia\, also spelled Norcia\, (born c. 480 CE\, Nursia [Italy]—died c. 547\, Monte Cassino;  founder of the Benedictine monastery at Monte Cassino and father of Western monasticism; the Rule that he established became the norm for monastic living throughout Europe. In 1964\, in view of the work of monks following the Benedictine Rule in the evangelisation and civilisation of so many European countries in the Middle Ages\, Pope Paul VI proclaimed him the Patron Saint of all Europe.
URL:https://stpauls-rc.co.uk/event/feast-day/
END:VEVENT
BEGIN:VEVENT
DTSTART;TZID=UTC:20220712T190000
DTEND;TZID=UTC:20220712T200000
DTSTAMP:20260426T035239
CREATED:20220629T075928Z
LAST-MODIFIED:20220701T122138Z
UID:2863-1657652400-1657656000@stpauls-rc.co.uk
SUMMARY:St. Paul's Parish Pastoral Council
DESCRIPTION:The next meeting of the PPC will be on Tuesday 12 July 2022. If you have any issues to raise please contact Fr. Manoj or any member of the group.
URL:https://stpauls-rc.co.uk/event/st-pauls-parish-parochial-council/
LOCATION:St. Paul’s RC Church\, Cramlington\, Dewley\, Cramlington\, NE23 6EF\, United Kingdom
END:VEVENT
BEGIN:VEVENT
DTSTART;TZID=UTC:20220714T190000
DTEND;TZID=UTC:20220714T200000
DTSTAMP:20260426T035239
CREATED:20220513T230941Z
LAST-MODIFIED:20220513T230941Z
UID:2537-1657825200-1657828800@stpauls-rc.co.uk
SUMMARY:Thanksgiving Mass for NHS Staff\, Hospital Chaplains and Care Workers
DESCRIPTION:Bishop Robert Byrne invites you to attend a Mass of Thanksgiving for NHS Staff\, Chaplains and Care Workers at 7.00pm on 14 July\, the Feast of St Camillus\, at St Mary’s Roman Catholic Cathedral\, Newcastle. This Mass will be the opportunity to express the gratitude of the Diocese to medical\, nursing and healthcare staff and chaplains as we continue to emerge from the COVID Pandemic. Please let Peter Killen or Paula Battersby  know if you work in the NHS or want to attend the Mass so we can pass the names on to the Diocese.
URL:https://stpauls-rc.co.uk/event/thanksgiving-mass-for-nhs-staff-hospital-chaplains-and-care-workers/
LOCATION:Cathedral of St. Mary\, Newcastle upon Tyne\, Clayton Street West\, Newcastle upon Tyne\, NE1 5HH\, United Kingdom
END:VEVENT
BEGIN:VEVENT
DTSTART;TZID=UTC:20220714T190000
DTEND;TZID=UTC:20220714T203000
DTSTAMP:20260426T035239
CREATED:20220629T075022Z
LAST-MODIFIED:20220629T091957Z
UID:2857-1657825200-1657830600@stpauls-rc.co.uk
SUMMARY:Adult Formation and Spiritual Nurturing Group
DESCRIPTION:The Group will meet on Thursday 14th July. Please come along between 7 – 8:15pm to nurture and share your faith values with your parish family. Feel free to drop in\, join in or just listen. Refreshments are provided.
URL:https://stpauls-rc.co.uk/event/adult-formation-and-spiritual-nurturing-group-2/
END:VEVENT
BEGIN:VEVENT
DTSTART;VALUE=DATE:20220715
DTEND;VALUE=DATE:20220716
DTSTAMP:20260426T035239
CREATED:20220706T075852Z
LAST-MODIFIED:20220707T112445Z
UID:2975-1657843200-1657929599@stpauls-rc.co.uk
SUMMARY:St. Bonaventure\, Memorial
DESCRIPTION:St. Bonaventure (1221 – 15 July 1274)\, born Giovanni di Fidanza\, was an Italian Catholic Franciscan\,  Bishop\, Cardinal\, Scholastic Theologian and Philosopher. \nThe seventh Minister General of the Order of Friars Minor\, he also served for a time as Bishop of Albano. He was canonised on 14 April 1482 by Pope Sixtus IV and declared a Doctor of the Church in 1588 by Pope Sixtus V. He is known as the “Seraphic Doctor”. Many writings believed in the Middle Ages to be his are now collected under the name Pseudo-Bonaventure.
URL:https://stpauls-rc.co.uk/event/st-bonaventure-memorial/
END:VEVENT
BEGIN:VEVENT
DTSTART;TZID=UTC:20220715T100000
DTEND;TZID=UTC:20220715T103000
DTSTAMP:20260426T035239
CREATED:20220618T063436Z
LAST-MODIFIED:20220618T063436Z
UID:2736-1657879200-1657881000@stpauls-rc.co.uk
SUMMARY:School Children's Mass
DESCRIPTION:The Year 1 Class of St. Peter and St. Paul’s Primary School will attend the Friday 10:00am Mass in church and their parents are most welcome to attend.
URL:https://stpauls-rc.co.uk/event/school-childrens-mass-4/
LOCATION:St. Paul’s RC Church\, Cramlington\, Dewley\, Cramlington\, NE23 6EF\, United Kingdom
END:VEVENT
BEGIN:VEVENT
DTSTART;TZID=UTC:20220716T100000
DTEND;TZID=UTC:20220716T110000
DTSTAMP:20260426T035239
CREATED:20220629T101254Z
LAST-MODIFIED:20220709T133900Z
UID:2877-1657965600-1657969200@stpauls-rc.co.uk
SUMMARY:First Holy Communion
DESCRIPTION:Consecration of bread and wine in the body and blood of Jesus – Sacred Host\nFirst Holy Communion Day: \nWe are very happy that 19 children from St. Paul’s and St. John’s  will receive Jesus for the first time in the Eucharist at St. Paul’s on Saturday 16th July at 10:00am and 1 child at St. John’s on Sunday 17th July at 9:00am. They are to be a day of celebration in both parishes and you are cordially invited. Please pray for them and their families. \nOur normal Vigil Mass will be celebrated at 6:00pm on that day.\nPlease try to attend to show your support for the children and their families
URL:https://stpauls-rc.co.uk/event/first-holy-communion/
LOCATION:St. Paul’s RC Church\, Cramlington\, Dewley\, Cramlington\, NE23 6EF\, United Kingdom
END:VEVENT
BEGIN:VEVENT
DTSTART;TZID=UTC:20220717T090000
DTEND;TZID=UTC:20220717T100000
DTSTAMP:20260426T035239
CREATED:20220629T101915Z
LAST-MODIFIED:20220709T134029Z
UID:2881-1658048400-1658052000@stpauls-rc.co.uk
SUMMARY:First Holy Communion
DESCRIPTION:Consecration of bread and wine in the body and blood of Jesus – Sacred Host\nFirst Holy Communion Day:\nWe are very happy that 19 children from St. Paul’s and St. John’s  will receive Jesus for the first time in the Eucharist at St. Paul’s on Saturday 16th July at 10:00am and 1 child at St. John’s on Sunday 17th July at 9:00am. They are to be a day of celebration in both parishes and you are cordially invited. Please pray for them and their families.
URL:https://stpauls-rc.co.uk/event/first-holy-communion-2/
LOCATION:St. John the Baptist RC Church\, Annitsford\, United Kingdom
END:VEVENT
BEGIN:VEVENT
DTSTART;TZID=UTC:20220720T100000
DTEND;TZID=UTC:20220720T110000
DTSTAMP:20260426T035239
CREATED:20220618T160121Z
LAST-MODIFIED:20220629T123150Z
UID:2759-1658311200-1658314800@stpauls-rc.co.uk
SUMMARY:Coffee Morning
DESCRIPTION:            .     \nOur Coffee Morning will be held in the Back Room on Wednesday 20th July from 10am. Why not come along to meet some fellow parishioners and join our small band for a chat\, tea / coffee and a biscuit. You will be made most welcome. Please ring Sheila H (07541 104055) who would love to see you there and will provide further information.
URL:https://stpauls-rc.co.uk/event/coffee-morning-3/
LOCATION:St. Paul’s RC Church\, Cramlington\, Dewley\, Cramlington\, NE23 6EF\, United Kingdom
END:VEVENT
BEGIN:VEVENT
DTSTART;VALUE=DATE:20220722
DTEND;VALUE=DATE:20220723
DTSTAMP:20260426T035239
CREATED:20220706T081059Z
LAST-MODIFIED:20220706T081059Z
UID:2978-1658448000-1658534399@stpauls-rc.co.uk
SUMMARY:St. Mary Magdalene\, Feast
DESCRIPTION:Mary Magdalene\, sometimes called Mary of Magdala\, was a woman who\, according to the four  Canonical Gospels traveled with Jesus as one of his followers and was a witness to His Crucifixion and Resurrection. She is mentioned by name twelve times in the Canonical Gospels\, more than most of the Apostles and more than any other woman in the Gospels\, other than Jesus’s family. Mary’s epithet Magdalene may mean that she came from the town of Magdala\, a fishing town on the western shore of the Sea of Galilee in Roman Judea. \nThe Gospel of Luke lists Mary Magdalene as one of the women who traveled with Jesus and helped support his ministry “out of their resources”\, indicating that she was probably wealthy. The same passage also states that seven demons had been driven out of her\, a statement which is repeated in Mark 16. In all the four Canonical Gospels\, Mary Magdalene was a witness to the crucifixion of Jesus and\, in the Synoptic Gospels\,  she was also present at his burial. All the four gospels identified her\, either alone or as a member of a larger group of women which includes Jesus’ mother\, as the first to witness the empty tomb and\, either alone or as a member of a group\, as the first to witness Jesus’s resurrection. \nFor these reasons\, Mary Magdalene is known in some Christian traditions as the “apostle to the apostles”.
URL:https://stpauls-rc.co.uk/event/st-mary-magdalene-feast/
END:VEVENT
BEGIN:VEVENT
DTSTART;VALUE=DATE:20220723
DTEND;VALUE=DATE:20220724
DTSTAMP:20260426T035239
CREATED:20220706T082019Z
LAST-MODIFIED:20220706T082019Z
UID:2986-1658534400-1658620799@stpauls-rc.co.uk
SUMMARY:St. Bridget of Sweden\, Feast
DESCRIPTION:Saint Bridget of Sweden\, Patron of Europe. \nSaint Birgitta was the daughter of Uppland’s Lagman\, Birger Petersson and his wife\, Ingeborg\, who was a member of the same clan as the reigning family. Birgitta’s family was pious; her father went to confession every Friday and made long and arduous pilgrimages as far away as the Holy Land. \nBirgitta’s mother died\, leaving Birgitta\, ten years old\, Katharine\, nine and a newborn baby boy\, Israel. The children were sent to their maternal aunt for further education and care. It seems that as a young child\, Birgitta had a dream-vision of The Man of Sorrows. This dream was very vivid. Birgitta asked Him who had done that to Him. His answer: ‘All those who despise my love.’ The memory of this dream never left Birgitta and may have even left an indelible mark on her sub-conscious. As was usual during the Middle Ages\, Birgitta was married when she was 13 years old to a young man\, Ulf Gudmarsson with whom she had eight children\, four daughters and four sons\, all of them survived infancy\, and that was very rare at that time. \nWhen the King of Sweden\, Magnus Eriksson married Blanche of Namur\, he asked his kinswoman\, Birgitta to come and be Lady-in Waiting and to teach the young queen the language and customs of her new country. After her years of service at Court\, Birgitta and Ulf made the long pilgrimage to Santiago di Compostela. On the return journey Ulf became dangerously ill in Arras. Birgitta feared for his death and sat all night by his bed praying\, and then a bishop appeared to her\, promised that Ulf would recover and ‘God had great things for her to do.’ He told her that he was Denis\, Patron of France. Ulf recovered and was able to continue his work as Lagman in the province of Närke until early in the year 1344\, when he was very ill so Birgitta took him to the monks at Alvastra where he died and was buried. Birgitta remained in a little house near the abbey and she spent along hours in prayer by Ulf’s grave. She said that she ‘loved him like my own body.’ She arranged her affairs among her children and various charities and prayed for guidance. She was 41 years old and in the abbey at Alvastra God called her ‘be My Bride and My canal’. He gave her the task of founding new religious order\, mainly for women. He said that the other orders had fallen into decay and this new order would be a vineyard whose wine would revivify the Church. He showed her how her abbey church was to be built\, gave directions concerning the clothing and prayers of the nuns\, 60 in all\, who needed priests as chaplains\, 13 priests\, 4 deacons and 8 lay brothers. These two communities were to be ruled by an abbess\, who was to represent the Blessed Virgin Mary together with the Apostles in the Upper Room in Jerusalem.
URL:https://stpauls-rc.co.uk/event/st-bridget-of-sweden-feast-2/
END:VEVENT
BEGIN:VEVENT
DTSTART;VALUE=DATE:20220724
DTEND;VALUE=DATE:20220725
DTSTAMP:20260426T035239
CREATED:20220706T110652Z
LAST-MODIFIED:20220708T171117Z
UID:2988-1658620800-1658707199@stpauls-rc.co.uk
SUMMARY:Second World Day for Grandparents and the Elderly
DESCRIPTION:Pope Francis’ call to make Sunday 24th July the Second World Day for Grandparents and the Elderly. To see his message please click on the link below. \nRead:  Pope Francis’ message
URL:https://stpauls-rc.co.uk/event/second-world-day-for-grandparents-and-the-elderly/
END:VEVENT
BEGIN:VEVENT
DTSTART;VALUE=DATE:20220725
DTEND;VALUE=DATE:20220726
DTSTAMP:20260426T035239
CREATED:20220707T105954Z
LAST-MODIFIED:20220722T121814Z
UID:3006-1658707200-1658793599@stpauls-rc.co.uk
SUMMARY:St. James the Apostle\, Feast Day
DESCRIPTION:There will be no celebration of MASS at St. Paul’s today. \nSt. James the Apostle \n25th July 2022 \n \nSaint James the Apostle
URL:https://stpauls-rc.co.uk/event/st-james-the-apostle-feast-day/
END:VEVENT
BEGIN:VEVENT
DTSTART;VALUE=DATE:20220726
DTEND;VALUE=DATE:20220727
DTSTAMP:20260426T035239
CREATED:20220707T110913Z
LAST-MODIFIED:20220722T122149Z
UID:3010-1658793600-1658879999@stpauls-rc.co.uk
SUMMARY:Ss Joachim and Anne\, Feast Day
DESCRIPTION:There will be no celebration of MASS at St. Paul’s today. \nSs. Joachim and Anne\, parents of the Blessed Virgin Mary \n25th July 2022 \n \nSaints Joachim and Anne
URL:https://stpauls-rc.co.uk/event/ss-joachim-and-anne-feast-day/
END:VEVENT
BEGIN:VEVENT
DTSTART;VALUE=DATE:20220729
DTEND;VALUE=DATE:20220730
DTSTAMP:20260426T035239
CREATED:20220707T112031Z
LAST-MODIFIED:20220707T112738Z
UID:3014-1659052800-1659139199@stpauls-rc.co.uk
SUMMARY:Saints Martha\, Mary and Lazarus\, Feast Day.
DESCRIPTION:Saints Martha\, Mary and Lazarus \n29th July 2022 \n \nSaints Martha\, Mary & Lazarus
URL:https://stpauls-rc.co.uk/event/saints-martha-mary-and-lazarus-feast-day/
END:VEVENT
END:VCALENDAR