BEGIN:VCALENDAR
VERSION:2.0
PRODID:-//St. Paul&#039;s Cramlington - ECPv6.15.11//NONSGML v1.0//EN
CALSCALE:GREGORIAN
METHOD:PUBLISH
X-ORIGINAL-URL:https://stpauls-rc.co.uk
X-WR-CALDESC:Events for St. Paul&#039;s Cramlington
REFRESH-INTERVAL;VALUE=DURATION:PT1H
X-Robots-Tag:noindex
X-PUBLISHED-TTL:PT1H
BEGIN:VTIMEZONE
TZID:UTC
BEGIN:STANDARD
TZOFFSETFROM:+0000
TZOFFSETTO:+0000
TZNAME:UTC
DTSTART:20210101T000000
END:STANDARD
END:VTIMEZONE
BEGIN:VEVENT
DTSTART;VALUE=DATE:20220804
DTEND;VALUE=DATE:20220805
DTSTAMP:20260426T021508
CREATED:20220730T170415Z
LAST-MODIFIED:20220730T170415Z
UID:3141-1659571200-1659657599@stpauls-rc.co.uk
SUMMARY:Feast of St. John Vianney
DESCRIPTION:READ: St. John Vianney – 4th August
URL:https://stpauls-rc.co.uk/event/feast-of-st-john-vianney/
END:VEVENT
BEGIN:VEVENT
DTSTART;VALUE=DATE:20220805
DTEND;VALUE=DATE:20220806
DTSTAMP:20260426T021508
CREATED:20220730T170702Z
LAST-MODIFIED:20220730T170734Z
UID:3143-1659657600-1659743999@stpauls-rc.co.uk
SUMMARY:Feast of St. Oswald
DESCRIPTION:Friday 5th August 2022 \n \nREAD:  St. Oswald
URL:https://stpauls-rc.co.uk/event/feast-of-st-oswald/
END:VEVENT
BEGIN:VEVENT
DTSTART;TZID=UTC:20220805T190000
DTEND;TZID=UTC:20220805T203000
DTSTAMP:20260426T021508
CREATED:20220730T164708Z
LAST-MODIFIED:20220730T164907Z
UID:3129-1659726000-1659731400@stpauls-rc.co.uk
SUMMARY:Induction of Fr.Manoj as Parish Priest of St. John the Baptist RC Church\, Annitsford.
DESCRIPTION:Induction of Fr. Manoj Joseph as the Parish Priest of St. John the Baptist RC Church\, Annitsford \nThe Parish community of St. John the Baptist\, Annitsford\, cordially invite you to join them for the special Mass of Induction of Fr. Manoj Joseph as the Parish Priest of St. John the Baptist Church Annitsford on 5th August\, 2022 at 7.00 pm followed by refreshment thereafter. Rev. Fr. Peter Stott\, Dean of the St. Benet Biscop Partnership has been delegated by Rt. Rev. Robert Byrne the Bishop of the Diocese Hexham and Newcastle to grant the canonical possession of the parish to Fr. Manoj. Please do come and grace the occasion with your presence and prayer. Kindly add your name to the list at the back of church for the Mass arrangements.
URL:https://stpauls-rc.co.uk/event/induction-of-fr-manoj-as-parish-priest-of-st-john-the-baptist-annitsford/
LOCATION:St. John the Baptist RC Church\, Annitsford\, United Kingdom
END:VEVENT
BEGIN:VEVENT
DTSTART;VALUE=DATE:20220806
DTEND;VALUE=DATE:20220807
DTSTAMP:20260426T021508
CREATED:20220730T170927Z
LAST-MODIFIED:20220730T171023Z
UID:3145-1659744000-1659830399@stpauls-rc.co.uk
SUMMARY:Feast of Transfiguration of the Lord
DESCRIPTION:READ:  Transfiguration of the Lord
URL:https://stpauls-rc.co.uk/event/feast-of-transfiguration-of-the-lord/
END:VEVENT
BEGIN:VEVENT
DTSTART;TZID=UTC:20220806T180000
DTEND;TZID=UTC:20220806T190000
DTSTAMP:20260426T021508
CREATED:20220806T101822Z
LAST-MODIFIED:20220806T101822Z
UID:3175-1659808800-1659812400@stpauls-rc.co.uk
SUMMARY:Mass Intention
DESCRIPTION:Tonight’s Mass will be celebrated for the Intention of Ian Coates.
URL:https://stpauls-rc.co.uk/event/mass-intention-12/
LOCATION:St. Paul’s RC Church\, Cramlington\, Dewley\, Cramlington\, NE23 6EF\, United Kingdom
END:VEVENT
BEGIN:VEVENT
DTSTART;VALUE=DATE:20220808
DTEND;VALUE=DATE:20220809
DTSTAMP:20260426T021508
CREATED:20220730T171156Z
LAST-MODIFIED:20220730T171840Z
UID:3147-1659916800-1660003199@stpauls-rc.co.uk
SUMMARY:Feast of St. Dominic
DESCRIPTION:READ: St. Dominic
URL:https://stpauls-rc.co.uk/event/feast-of-st-dominic/
END:VEVENT
BEGIN:VEVENT
DTSTART;VALUE=DATE:20220809
DTEND;VALUE=DATE:20220810
DTSTAMP:20260426T021508
CREATED:20220730T171322Z
LAST-MODIFIED:20220730T171701Z
UID:3149-1660003200-1660089599@stpauls-rc.co.uk
SUMMARY:Feast of St. Teresa of the Cross
DESCRIPTION:READ: St. Teresa of the Cross
URL:https://stpauls-rc.co.uk/event/feast-of-st-teresa-of-the-cross/
END:VEVENT
BEGIN:VEVENT
DTSTART;TZID=UTC:20220809T100000
DTEND;TZID=UTC:20220809T103000
DTSTAMP:20260426T021508
CREATED:20220807T104836Z
LAST-MODIFIED:20220807T104846Z
UID:3187-1660039200-1660041000@stpauls-rc.co.uk
SUMMARY:NO MASS
DESCRIPTION:There will be no Mass today\, Tuesday 9th August as Fr. Manoj is away.
URL:https://stpauls-rc.co.uk/event/no-mass-8/
LOCATION:St. Paul’s RC Church\, Cramlington\, Dewley\, Cramlington\, NE23 6EF\, United Kingdom
END:VEVENT
BEGIN:VEVENT
DTSTART;VALUE=DATE:20220810
DTEND;VALUE=DATE:20220811
DTSTAMP:20260426T021508
CREATED:20220730T171512Z
LAST-MODIFIED:20220730T171512Z
UID:3151-1660089600-1660175999@stpauls-rc.co.uk
SUMMARY:Feast of St Laurence
DESCRIPTION:READ: St. Laurence
URL:https://stpauls-rc.co.uk/event/feast-of-st-laurence/
END:VEVENT
BEGIN:VEVENT
DTSTART;TZID=UTC:20220813T180000
DTEND;TZID=UTC:20220813T190000
DTSTAMP:20260426T021508
CREATED:20220818T221807Z
LAST-MODIFIED:20220818T221844Z
UID:3226-1660413600-1660417200@stpauls-rc.co.uk
SUMMARY:Mass Intention
DESCRIPTION:Mass will be celebrated for the repose of Michael Welsh\, 1st Anniversary
URL:https://stpauls-rc.co.uk/event/mass-intention-14/
LOCATION:St. Paul’s RC Church\, Cramlington\, Dewley\, Cramlington\, NE23 6EF\, United Kingdom
END:VEVENT
BEGIN:VEVENT
DTSTART;TZID=UTC:20220820T103000
DTEND;TZID=UTC:20220820T200000
DTSTAMP:20260426T021508
CREATED:20220818T215016Z
LAST-MODIFIED:20220818T215037Z
UID:3212-1660991400-1661025600@stpauls-rc.co.uk
SUMMARY:Holy Island of Lindisfarne Trip
DESCRIPTION:Please meet in St. Paul’s Car Park at 10:30am to finalise arrangements. Bus will leave at 10:45am. We will have a Shared Table\, time and location to be decided. Mass will be celebrated at 3:00pm. Departure back to Cramlington from the Island will be at 6:00pm.
URL:https://stpauls-rc.co.uk/event/holy-island-of-lindisfarne-trip/
END:VEVENT
BEGIN:VEVENT
DTSTART;TZID=UTC:20220821T100000
DTEND;TZID=UTC:20220821T110000
DTSTAMP:20260426T021508
CREATED:20220818T220417Z
LAST-MODIFIED:20220818T220423Z
UID:3221-1661076000-1661079600@stpauls-rc.co.uk
SUMMARY:Mass Intention
DESCRIPTION:Mass will be celebrated for the Repose of the Soul of Stan Welford
URL:https://stpauls-rc.co.uk/event/mass-intention-13/
LOCATION:St. Paul’s RC Church\, Cramlington\, Dewley\, Cramlington\, NE23 6EF\, United Kingdom
END:VEVENT
BEGIN:VEVENT
DTSTART;TZID=UTC:20220824T190000
DTEND;TZID=UTC:20220824T193000
DTSTAMP:20260426T021508
CREATED:20220818T215245Z
LAST-MODIFIED:20220818T215253Z
UID:3215-1661367600-1661369400@stpauls-rc.co.uk
SUMMARY:NO MASS
DESCRIPTION:There will be no Mass celebrated on Wednesday 24th August as Fr. Manoj is away.
URL:https://stpauls-rc.co.uk/event/no-mass-9/
LOCATION:St. Paul’s RC Church\, Cramlington\, Dewley\, Cramlington\, NE23 6EF\, United Kingdom
END:VEVENT
BEGIN:VEVENT
DTSTART;TZID=UTC:20220830T100000
DTEND;TZID=UTC:20220830T110000
DTSTAMP:20260426T021508
CREATED:20220818T220208Z
LAST-MODIFIED:20220818T220214Z
UID:3219-1661853600-1661857200@stpauls-rc.co.uk
SUMMARY:Funeral Arrangements for Hilda Elves
DESCRIPTION:Hilda’s Requiem Mass will be celebrated at 10:00am on Tuesday 30th August 2022 in St. John the Baptist Church\, Annitsford followed by her burial in St. John the Baptist graveyard.
URL:https://stpauls-rc.co.uk/event/funeral-arrangements-for-hilda-elves/
LOCATION:St. John the Baptist RC Church\, Annitsford\, United Kingdom
END:VEVENT
BEGIN:VEVENT
DTSTART;TZID=UTC:20220830T100000
DTEND;TZID=UTC:20220830T110000
DTSTAMP:20260426T021508
CREATED:20220825T212408Z
LAST-MODIFIED:20220825T212408Z
UID:3277-1661853600-1661857200@stpauls-rc.co.uk
SUMMARY:NO MASS
DESCRIPTION:The Requiem Mass for Hilda Elves at St. John’s\, Annitsford will replace the scheduled Tuesday 10:00am Mass at St. Paul’s on Tuesday 30th August 2022..
URL:https://stpauls-rc.co.uk/event/no-mass-10/
LOCATION:St. Paul’s RC Church\, Cramlington\, Dewley\, Cramlington\, NE23 6EF\, United Kingdom
END:VEVENT
BEGIN:VEVENT
DTSTART;TZID=UTC:20220831T190000
DTEND;TZID=UTC:20220831T193000
DTSTAMP:20260426T021508
CREATED:20220825T212136Z
LAST-MODIFIED:20220825T212136Z
UID:3275-1661972400-1661974200@stpauls-rc.co.uk
SUMMARY:Mass Intention
DESCRIPTION:Prayer for the good health for Brenda Whiteside (PS)   
URL:https://stpauls-rc.co.uk/event/mass-intention-15/
LOCATION:St. Paul’s RC Church\, Cramlington\, Dewley\, Cramlington\, NE23 6EF\, United Kingdom
END:VEVENT
END:VCALENDAR