BEGIN:VCALENDAR
VERSION:2.0
PRODID:-//St. Paul&#039;s Cramlington - ECPv6.15.11//NONSGML v1.0//EN
CALSCALE:GREGORIAN
METHOD:PUBLISH
X-WR-CALNAME:St. Paul&#039;s Cramlington
X-ORIGINAL-URL:https://stpauls-rc.co.uk
X-WR-CALDESC:Events for St. Paul&#039;s Cramlington
REFRESH-INTERVAL;VALUE=DURATION:PT1H
X-Robots-Tag:noindex
X-PUBLISHED-TTL:PT1H
BEGIN:VTIMEZONE
TZID:UTC
BEGIN:STANDARD
TZOFFSETFROM:+0000
TZOFFSETTO:+0000
TZNAME:UTC
DTSTART:20220101T000000
END:STANDARD
END:VTIMEZONE
BEGIN:VEVENT
DTSTART;TZID=UTC:20230503T180000
DTEND;TZID=UTC:20230503T193000
DTSTAMP:20260425T113828
CREATED:20230415T104829Z
LAST-MODIFIED:20230415T104829Z
UID:4491-1683136800-1683142200@stpauls-rc.co.uk
SUMMARY:Reconciliation Service
DESCRIPTION:will take place in St. Paul’s Church at 6pm followed by Mass for children\, parents and parishioners of both parishes at 7pm. This is a changed date from Wed. 26 April 2023.
URL:https://stpauls-rc.co.uk/event/reconciliation-service/
LOCATION:St. Paul’s RC Church\, Cramlington\, Dewley\, Cramlington\, NE23 6EF\, United Kingdom
END:VEVENT
BEGIN:VEVENT
DTSTART;TZID=UTC:20230506T133000
DTEND;TZID=UTC:20230506T193000
DTSTAMP:20260425T113828
CREATED:20230415T103711Z
LAST-MODIFIED:20230513T094753Z
UID:4478-1683379800-1683401400@stpauls-rc.co.uk
SUMMARY:Five Saturdays Devotion
DESCRIPTION:The first of five Saturdays Devotion: Starting at 1:30pm with Rosary from 3:45  – 4:25\, Meditation for 15 minutes\, 4:25 – 4:40\, then Adoration / Confession from 4:40 – 5:40 and end with the usual 6:00pm Mass.
URL:https://stpauls-rc.co.uk/event/five-saturdays-devotion/
LOCATION:St. Paul’s RC Church\, Cramlington\, Dewley\, Cramlington\, NE23 6EF\, United Kingdom
END:VEVENT
BEGIN:VEVENT
DTSTART;TZID=UTC:20230513T133000
DTEND;TZID=UTC:20230513T193000
DTSTAMP:20260425T113828
CREATED:20230415T104524Z
LAST-MODIFIED:20230415T104524Z
UID:4489-1683984600-1684006200@stpauls-rc.co.uk
SUMMARY:Day of Prayer
DESCRIPTION:A day of prayer with the following schedule: \n13:30 Welcome  – 13:40. Rosary for World Peace – 14:25 Fatima Film and Talk – 15:30 Break for Tea / Coffee – 16:45  Holy Hour and Reconciliation – 17:40 Short Welcome – 17:45 Procession with Fatima Statue – 18:00 Vigil Mass – 18:45 Tea / Coffee & Close
URL:https://stpauls-rc.co.uk/event/day-of-prayer/
LOCATION:St. Paul’s RC Church\, Cramlington\, Dewley\, Cramlington\, NE23 6EF\, United Kingdom
END:VEVENT
BEGIN:VEVENT
DTSTART;TZID=UTC:20230517T100000
DTEND;TZID=UTC:20230517T223000
DTSTAMP:20260425T113828
CREATED:20230513T094938Z
LAST-MODIFIED:20230513T094938Z
UID:4545-1684317600-1684362600@stpauls-rc.co.uk
SUMMARY:Mass Intention
DESCRIPTION:Mass will be celebrated for the repose of the soul of Sr. Mary Paul
URL:https://stpauls-rc.co.uk/event/mass-intention-38/
LOCATION:St. Paul’s RC Church\, Cramlington\, Dewley\, Cramlington\, NE23 6EF\, United Kingdom
END:VEVENT
BEGIN:VEVENT
DTSTART;TZID=UTC:20230525T190000
DTEND;TZID=UTC:20230525T203000
DTSTAMP:20260425T113828
CREATED:20230524T062808Z
LAST-MODIFIED:20230524T062808Z
UID:4574-1685041200-1685046600@stpauls-rc.co.uk
SUMMARY:St. Benet Bishop Partnership Spirituality Group
DESCRIPTION:You are warmly invited to a service of preparation for Pentecost at Our Lady & St Joseph’s New Hartley on Thursday 25th May 7pm. Followed by light refreshments.
URL:https://stpauls-rc.co.uk/event/st-benet-bishop-partnership-spirituality-group/
END:VEVENT
END:VCALENDAR