BEGIN:VCALENDAR
VERSION:2.0
PRODID:-//St. Paul&#039;s Cramlington - ECPv6.15.11//NONSGML v1.0//EN
CALSCALE:GREGORIAN
METHOD:PUBLISH
X-WR-CALNAME:St. Paul&#039;s Cramlington
X-ORIGINAL-URL:https://stpauls-rc.co.uk
X-WR-CALDESC:Events for St. Paul&#039;s Cramlington
REFRESH-INTERVAL;VALUE=DURATION:PT1H
X-Robots-Tag:noindex
X-PUBLISHED-TTL:PT1H
BEGIN:VTIMEZONE
TZID:UTC
BEGIN:STANDARD
TZOFFSETFROM:+0000
TZOFFSETTO:+0000
TZNAME:UTC
DTSTART:20240101T000000
END:STANDARD
END:VTIMEZONE
BEGIN:VEVENT
DTSTART;TZID=UTC:20250604T100000
DTEND;TZID=UTC:20250604T103000
DTSTAMP:20260424T024444
CREATED:20250629T135121Z
LAST-MODIFIED:20250629T135121Z
UID:7871-1749031200-1749033000@stpauls-rc.co.uk
SUMMARY:Mass Intention
DESCRIPTION:Binita R.I.P.
URL:https://stpauls-rc.co.uk/event/mass-intention-151/
LOCATION:St. Paul’s RC Church\, Cramlington\, Dewley\, Cramlington\, NE23 6EF\, United Kingdom
END:VEVENT
BEGIN:VEVENT
DTSTART;TZID=UTC:20250605T100000
DTEND;TZID=UTC:20250605T103000
DTSTAMP:20260424T024444
CREATED:20250629T135218Z
LAST-MODIFIED:20250629T135218Z
UID:7873-1749117600-1749119400@stpauls-rc.co.uk
SUMMARY:Mass Intention
DESCRIPTION:inita R.I.P.
URL:https://stpauls-rc.co.uk/event/mass-intention-152/
LOCATION:St. Paul’s RC Church\, Cramlington\, Dewley\, Cramlington\, NE23 6EF\, United Kingdom
END:VEVENT
BEGIN:VEVENT
DTSTART;TZID=UTC:20250607T180000
DTEND;TZID=UTC:20250607T190000
DTSTAMP:20260424T024444
CREATED:20250629T135332Z
LAST-MODIFIED:20250629T135332Z
UID:7875-1749319200-1749322800@stpauls-rc.co.uk
SUMMARY:Mass Intention
DESCRIPTION:Pamela & James Siddle R.I.P.
URL:https://stpauls-rc.co.uk/event/mass-intention-153/
LOCATION:St. Paul’s RC Church\, Cramlington\, Dewley\, Cramlington\, NE23 6EF\, United Kingdom
END:VEVENT
BEGIN:VEVENT
DTSTART;TZID=UTC:20250614T180000
DTEND;TZID=UTC:20250614T190000
DTSTAMP:20260424T024444
CREATED:20250629T135444Z
LAST-MODIFIED:20250629T135552Z
UID:7877-1749924000-1749927600@stpauls-rc.co.uk
SUMMARY:Mass Intention
DESCRIPTION:Laurie McPhersons R.I.P.
URL:https://stpauls-rc.co.uk/event/mass-intention-154/
LOCATION:St. Paul’s RC Church\, Cramlington\, Dewley\, Cramlington\, NE23 6EF\, United Kingdom
END:VEVENT
BEGIN:VEVENT
DTSTART;TZID=UTC:20250620T190000
DTEND;TZID=UTC:20250620T203000
DTSTAMP:20260424T024444
CREATED:20250201T084758Z
LAST-MODIFIED:20250201T084758Z
UID:7497-1750446000-1750451400@stpauls-rc.co.uk
SUMMARY:Partnership Confirmation 2025
DESCRIPTION:This year our Partnership is planning the celebration of the Sacrament of Confirmation for all eligible candidates from all our Parishes on 20th June at 7.00pm at St. Bede’s Church Bedlington. Fr. Manoj would request you give him / Deacon Tony a completed Application Form available from them for each candidate who wishes to make their confirmation as early as possible. Alternatively\, please scan the QR Code shown on the HOME PAGE to complete an On-Line Application. The preparation of the candidates will be done jointly at Bedlington for all the parishes with Session One commencing on Friday 2nd May at 6pm followed by further Sessions on 9th\, 16th\, 23rd\, 30th May\, 6th and 13th June from 5pm – 7pm. The Mass of Confirmation celebrated by Bishop Stephen will take place on Friday 20th June at 7pm. Please see the leaflet on the Notice Board for further details of the programme.
URL:https://stpauls-rc.co.uk/event/partnership-confirmation-2025/
LOCATION:St. Bede’s RC Church\, Bedlington\, NE22 5TZ
END:VEVENT
BEGIN:VEVENT
DTSTART;TZID=UTC:20250621T180000
DTEND;TZID=UTC:20250621T190000
DTSTAMP:20260424T024444
CREATED:20250628T074254Z
LAST-MODIFIED:20250628T074254Z
UID:7851-1750528800-1750532400@stpauls-rc.co.uk
SUMMARY:Mass Intention
DESCRIPTION:Mass tonight will be celebrated In Thanksgiving for 40 years of Marriage of Paul & Teresa Kelly
URL:https://stpauls-rc.co.uk/event/mass-intention-143/
LOCATION:St. Paul’s RC Church\, Cramlington\, Dewley\, Cramlington\, NE23 6EF\, United Kingdom
END:VEVENT
BEGIN:VEVENT
DTSTART;TZID=UTC:20250626T080000
DTEND;TZID=UTC:20250626T170000
DTSTAMP:20260424T024444
CREATED:20250628T074409Z
LAST-MODIFIED:20250628T074409Z
UID:7853-1750924800-1750957200@stpauls-rc.co.uk
SUMMARY:Mass Intention
DESCRIPTION:Mass today will be celebrated for the repose of the soul of Binita
URL:https://stpauls-rc.co.uk/event/mass-intention-144/
LOCATION:St. Paul’s RC Church\, Cramlington\, Dewley\, Cramlington\, NE23 6EF\, United Kingdom
END:VEVENT
BEGIN:VEVENT
DTSTART;TZID=UTC:20250628T100000
DTEND;TZID=UTC:20250628T123000
DTSTAMP:20260424T024444
CREATED:20250623T224328Z
LAST-MODIFIED:20250623T224328Z
UID:7828-1751104800-1751113800@stpauls-rc.co.uk
SUMMARY:Partnership Reflection & Prayer Meeting
DESCRIPTION:St Benet Biscop Partnership Jubilee\n\n\nSaturday June 28th June 10am-12.30pm St Bede Church Bedlington\n\n\nA morning of reflections and prayers on the six Jubilee\n\n\nthemes will be held at St Bede Church\, Bedlington\n\n\nSaturday June 28th 10am-12.30pm\n\n\n•\n\n\nCaring for Creation\n\n\n•\n\n\nFood poverty\n\n\n•\n\n\nModern Slavery\n\n\n•\n\n\nDebt Relief\n\n\n•\n\n\nForgiveness\n\n\n•\n\n\nRest and Worship\n\n\nLight refreshments included\n\n\nEveryone is welcome – please join us\n\n\nOrganised by the Partnership Council
URL:https://stpauls-rc.co.uk/event/partnership-reflection-prayer-meeting/
LOCATION:St. Bede’s RC Church\, Bedlington\, NE22 5TZ
END:VEVENT
BEGIN:VEVENT
DTSTART;TZID=UTC:20250628T180000
DTEND;TZID=UTC:20250628T190000
DTSTAMP:20260424T024444
CREATED:20250628T073538Z
LAST-MODIFIED:20250628T073727Z
UID:7844-1751133600-1751137200@stpauls-rc.co.uk
SUMMARY:Mass Intention
DESCRIPTION:Mass tonight will be celebrated In Thanksgiving
URL:https://stpauls-rc.co.uk/event/mass-intention-142/
LOCATION:St. Paul’s RC Church\, Cramlington\, Dewley\, Cramlington\, NE23 6EF\, United Kingdom
CATEGORIES:Calendar
END:VEVENT
END:VCALENDAR