BEGIN:VCALENDAR
VERSION:2.0
PRODID:-//St. Paul&#039;s Cramlington - ECPv6.15.11//NONSGML v1.0//EN
CALSCALE:GREGORIAN
METHOD:PUBLISH
X-WR-CALNAME:St. Paul&#039;s Cramlington
X-ORIGINAL-URL:https://stpauls-rc.co.uk
X-WR-CALDESC:Events for St. Paul&#039;s Cramlington
REFRESH-INTERVAL;VALUE=DURATION:PT1H
X-Robots-Tag:noindex
X-PUBLISHED-TTL:PT1H
BEGIN:VTIMEZONE
TZID:UTC
BEGIN:STANDARD
TZOFFSETFROM:+0000
TZOFFSETTO:+0000
TZNAME:UTC
DTSTART:20240101T000000
END:STANDARD
END:VTIMEZONE
BEGIN:VEVENT
DTSTART;TZID=UTC:20250702T100000
DTEND;TZID=UTC:20250702T103000
DTSTAMP:20260424T013628
CREATED:20250628T073920Z
LAST-MODIFIED:20250628T074125Z
UID:7846-1751450400-1751452200@stpauls-rc.co.uk
SUMMARY:Mass Intention
DESCRIPTION:Mass today will be celebrated In Thanksgiving for 76 years of life (Peter) and the Marriage Anniversary of Paul & Paula Battersby
URL:https://stpauls-rc.co.uk/event/7846/
LOCATION:St. Paul’s RC Church\, Cramlington\, Dewley\, Cramlington\, NE23 6EF\, United Kingdom
END:VEVENT
BEGIN:VEVENT
DTSTART;TZID=UTC:20250703T190000
DTEND;TZID=UTC:20250703T203000
DTSTAMP:20260424T013628
CREATED:20250705T100657Z
LAST-MODIFIED:20250705T100657Z
UID:7905-1751569200-1751574600@stpauls-rc.co.uk
SUMMARY:Parish Community Invitation – Jubilee Year 2025 Reflection Series
DESCRIPTION:Dear Brothers and Sisters in Christ\, As we journey together towards the Jubilee Year 2025 we warmly invite all members of our parish community to join us for a series of reflection evenings focused on the Jubilee theme: “Pilgrims of Hope.” \nReflection Dates: Thursday\, 10th July ‘25– Thursday\, 17th July ‘25 – Thursday\,  24th July ’25 🕖 Time: 7:00 PM 📍 Venue: St. Paul’s Church – Back Chapel \nThe Jubilee Year is a sacred time in the life of the Church\, celebrated every 25 years\, rooted in the Biblical tradition of renewal\, reconciliation\, and restoration. It is a time of grace\, pilgrimage\, prayer\, and communion with one another and with God. In preparation for this special Holy Year\, our reflections will help us deepen our understanding of the Jubilee’s spiritual significance and how we can live it out in our daily lives—as individuals\, families\, and a parish. We encourage everyone to attend and make these moments of prayer and reflection\, a meaningful part of our journey together. Let us walk as Pilgrims of Hope—renewed in faith\, united in love.
URL:https://stpauls-rc.co.uk/event/parish-community-invitation-jubilee-year-2025-reflection-series-4/
LOCATION:St. Paul’s RC Church Winter Chapel\, Cramlington\, NE23 6EF
END:VEVENT
BEGIN:VEVENT
DTSTART;TZID=UTC:20250705T180000
DTEND;TZID=UTC:20250705T190000
DTSTAMP:20260424T013628
CREATED:20250705T094401Z
LAST-MODIFIED:20250705T094401Z
UID:7888-1751738400-1751742000@stpauls-rc.co.uk
SUMMARY:Mass Intention
DESCRIPTION:Mass tonight will be celebrated In remembrance of Josie\, Norma & Bill R.I.P.
URL:https://stpauls-rc.co.uk/event/mass-intention-155/
LOCATION:St. Paul’s RC Church\, Cramlington\, Dewley\, Cramlington\, NE23 6EF\, United Kingdom
END:VEVENT
BEGIN:VEVENT
DTSTART;TZID=UTC:20250709T100000
DTEND;TZID=UTC:20250709T103000
DTSTAMP:20260424T013628
CREATED:20250705T094601Z
LAST-MODIFIED:20250705T094601Z
UID:7890-1752055200-1752057000@stpauls-rc.co.uk
SUMMARY:Mass Intention
DESCRIPTION:Mass today will be celebrated for the repose of the soul of Bob Lawson R.I.P.
URL:https://stpauls-rc.co.uk/event/mass-intention-156/
LOCATION:St. Paul’s RC Church\, Cramlington\, Dewley\, Cramlington\, NE23 6EF\, United Kingdom
END:VEVENT
BEGIN:VEVENT
DTSTART;TZID=UTC:20250710T100000
DTEND;TZID=UTC:20250710T103000
DTSTAMP:20260424T013628
CREATED:20250705T094658Z
LAST-MODIFIED:20250705T094658Z
UID:7892-1752141600-1752143400@stpauls-rc.co.uk
SUMMARY:Mass Intention
DESCRIPTION:Mass today will be celebrated for the repose of the soul of Bob Lawson R.I.P.
URL:https://stpauls-rc.co.uk/event/mass-intention-157/
LOCATION:St. Paul’s RC Church\, Cramlington\, Dewley\, Cramlington\, NE23 6EF\, United Kingdom
END:VEVENT
BEGIN:VEVENT
DTSTART;TZID=UTC:20250710T190000
DTEND;TZID=UTC:20250710T203000
DTSTAMP:20260424T013628
CREATED:20250705T095850Z
LAST-MODIFIED:20250705T100321Z
UID:7899-1752174000-1752179400@stpauls-rc.co.uk
SUMMARY:Parish Community Invitation – Jubilee Year 2025 Reflection Series
DESCRIPTION:Dear Brothers and Sisters in Christ\, As we journey together towards the Jubilee Year 2025 we warmly invite all members of our parish community to join us for a series of reflection evenings focused on the Jubilee theme: “Pilgrims of Hope.” \nReflection Dates: Thursday\, 10th July ‘25– Thursday\, 17th July ‘25 – Thursday\,  24th July ’25 🕖 Time: 7:00 PM 📍 Venue: St. Paul’s Church – Back Chapel \nThe Jubilee Year is a sacred time in the life of the Church\, celebrated every 25 years\, rooted in the Biblical tradition of renewal\, reconciliation\, and restoration. It is a time of grace\, pilgrimage\, prayer\, and communion with one another and with God. In preparation for this special Holy Year\, our reflections will help us deepen our understanding of the Jubilee’s spiritual significance and how we can live it out in our daily lives—as individuals\, families\, and a parish. We encourage everyone to attend and make these moments of prayer and reflection\, a meaningful part of our journey together. Let us walk as Pilgrims of Hope—renewed in faith\, united in love.
URL:https://stpauls-rc.co.uk/event/parish-community-invitation-jubilee-year-2025-reflection-series/
LOCATION:St. Paul’s RC Church Winter Chapel\, Cramlington\, NE23 6EF
END:VEVENT
BEGIN:VEVENT
DTSTART;TZID=UTC:20250712T180000
DTEND;TZID=UTC:20250712T190000
DTSTAMP:20260424T013628
CREATED:20250705T094812Z
LAST-MODIFIED:20250705T094812Z
UID:7894-1752343200-1752346800@stpauls-rc.co.uk
SUMMARY:Mass Intention
DESCRIPTION:Mass tonight will be celebrated for the repose of the soul of Bob Lawson R.I.P.
URL:https://stpauls-rc.co.uk/event/mass-intention-158/
LOCATION:St. Paul’s RC Church\, Cramlington\, Dewley\, Cramlington\, NE23 6EF\, United Kingdom
END:VEVENT
BEGIN:VEVENT
DTSTART;TZID=UTC:20250717T190000
DTEND;TZID=UTC:20250717T203000
DTSTAMP:20260424T013628
CREATED:20250705T100028Z
LAST-MODIFIED:20250705T100028Z
UID:7901-1752778800-1752784200@stpauls-rc.co.uk
SUMMARY:Parish Community Invitation – Jubilee Year 2025 Reflection Series
DESCRIPTION:Dear Brothers and Sisters in Christ\, As we journey together towards the Jubilee Year 2025 we warmly invite all members of our parish community to join us for a series of reflection evenings focused on the Jubilee theme: “Pilgrims of Hope.” \nReflection Dates: Thursday\, 10th July ‘25– Thursday\, 17th July ‘25 – Thursday\,  24th July ’25 🕖 Time: 7:00 PM 📍 Venue: St. Paul’s Church – Back Chapel \nThe Jubilee Year is a sacred time in the life of the Church\, celebrated every 25 years\, rooted in the Biblical tradition of renewal\, reconciliation\, and restoration. It is a time of grace\, pilgrimage\, prayer\, and communion with one another and with God. In preparation for this special Holy Year\, our reflections will help us deepen our understanding of the Jubilee’s spiritual significance and how we can live it out in our daily lives—as individuals\, families\, and a parish. We encourage everyone to attend and make these moments of prayer and reflection\, a meaningful part of our journey together. Let us walk as Pilgrims of Hope—renewed in faith\, united in love.
URL:https://stpauls-rc.co.uk/event/parish-community-invitation-jubilee-year-2025-reflection-series-2/
LOCATION:St. Paul’s RC Church Winter Chapel\, Cramlington\, NE23 6EF
END:VEVENT
BEGIN:VEVENT
DTSTART;TZID=UTC:20250719T180000
DTEND;TZID=UTC:20250719T190000
DTSTAMP:20260424T013628
CREATED:20250719T093028Z
LAST-MODIFIED:20250719T093028Z
UID:7942-1752948000-1752951600@stpauls-rc.co.uk
SUMMARY:Mass Intention
DESCRIPTION:Mass today will be celebrated for the repose of the soul of Joan Mennell\, R.I.P.
URL:https://stpauls-rc.co.uk/event/mass-intention-159/
LOCATION:St. Paul’s RC Church\, Cramlington\, Dewley\, Cramlington\, NE23 6EF\, United Kingdom
END:VEVENT
BEGIN:VEVENT
DTSTART;TZID=UTC:20250724T103000
DTEND;TZID=UTC:20250724T113000
DTSTAMP:20260424T013628
CREATED:20250719T093447Z
LAST-MODIFIED:20250719T093447Z
UID:7946-1753353000-1753356600@stpauls-rc.co.uk
SUMMARY:Requiem Mass
DESCRIPTION:Mass today will be a Requiem Mass celebrated for the repose of the soul of Bob Lawson\, R.I.P.
URL:https://stpauls-rc.co.uk/event/requiem-mass-10/
LOCATION:St. Paul’s RC Church\, Cramlington\, Dewley\, Cramlington\, NE23 6EF\, United Kingdom
END:VEVENT
BEGIN:VEVENT
DTSTART;TZID=UTC:20250724T190000
DTEND;TZID=UTC:20250724T203000
DTSTAMP:20260424T013628
CREATED:20250705T100225Z
LAST-MODIFIED:20250705T100225Z
UID:7903-1753383600-1753389000@stpauls-rc.co.uk
SUMMARY:Parish Community Invitation – Jubilee Year 2025 Reflection Series
DESCRIPTION:Dear Brothers and Sisters in Christ\, As we journey together towards the Jubilee Year 2025 we warmly invite all members of our parish community to join us for a series of reflection evenings focused on the Jubilee theme: “Pilgrims of Hope.” \nReflection Dates: Thursday\, 10th July ‘25– Thursday\, 17th July ‘25 – Thursday\,  24th July ’25 🕖 Time: 7:00 PM 📍 Venue: St. Paul’s Church – Back Chapel \nThe Jubilee Year is a sacred time in the life of the Church\, celebrated every 25 years\, rooted in the Biblical tradition of renewal\, reconciliation\, and restoration. It is a time of grace\, pilgrimage\, prayer\, and communion with one another and with God. In preparation for this special Holy Year\, our reflections will help us deepen our understanding of the Jubilee’s spiritual significance and how we can live it out in our daily lives—as individuals\, families\, and a parish. We encourage everyone to attend and make these moments of prayer and reflection\, a meaningful part of our journey together. Let us walk as Pilgrims of Hope—renewed in faith\, united in love.
URL:https://stpauls-rc.co.uk/event/parish-community-invitation-jubilee-year-2025-reflection-series-3/
LOCATION:St. Paul’s RC Church Winter Chapel\, Cramlington\, NE23 6EF
END:VEVENT
BEGIN:VEVENT
DTSTART;TZID=UTC:20250726T180000
DTEND;TZID=UTC:20250726T190000
DTSTAMP:20260424T013628
CREATED:20250719T093210Z
LAST-MODIFIED:20250719T093210Z
UID:7944-1753552800-1753556400@stpauls-rc.co.uk
SUMMARY:Mass Intention
DESCRIPTION:Mass today will be celebrated for a special Intention\, “IN THANKSGIVING” (BB)
URL:https://stpauls-rc.co.uk/event/mass-intention-160/
LOCATION:St. Paul’s RC Church\, Cramlington\, Dewley\, Cramlington\, NE23 6EF\, United Kingdom
END:VEVENT
BEGIN:VEVENT
DTSTART;TZID=UTC:20250730T100000
DTEND;TZID=UTC:20250730T103000
DTSTAMP:20260424T013628
CREATED:20250726T131924Z
LAST-MODIFIED:20250726T132304Z
UID:7981-1753869600-1753871400@stpauls-rc.co.uk
SUMMARY:Mass Intention
DESCRIPTION:Mass today will be celebrated for the repose of the soul of Andrew John Convery R.I.P.
URL:https://stpauls-rc.co.uk/event/mass-intention-161/
LOCATION:St. Paul’s RC Church\, Cramlington\, Dewley\, Cramlington\, NE23 6EF\, United Kingdom
CATEGORIES:Mass & Events
END:VEVENT
END:VCALENDAR